BEGIN:VCALENDAR
VERSION:2.0
PRODID:https://www.kufer.de/kuferweb / DE
METHOD:PUBLISH
CALSCALE:GREGORIAN
X-WR-TIMEZONE:Europe/Berlin
BEGIN:VTIMEZONE
TZID:Europe/Berlin
X-LIC-LOCATION:Europe/Berlin
BEGIN:DAYLIGHT
TZOFFSETFROM:+0100
TZOFFSETTO:+0200
TZNAME:CEST
DTSTART:19700329T020000
RRULE:FREQ=YEARLY;INTERVAL=1;BYDAY=-1SU;BYMONTH=3
END:DAYLIGHT
BEGIN:STANDARD
TZOFFSETFROM:+0200
TZOFFSETTO:+0100
TZNAME:CET
DTSTART:19701025T030000
RRULE:FREQ=YEARLY;INTERVAL=1;BYDAY=-1SU;BYMONTH=10
END:STANDARD
END:VTIMEZONE
BEGIN:VEVENT
DTSTAMP:20260422T105839
DTSTART;TZID=Europe/Berlin:20260114T091500
DTEND;TZID=Europe/Berlin:20260114T101500
UID:261-10510-20260114T091500@VBWBIERSTADT E.V.
SUMMARY:Pilates intensiv (261-10510) 
LOCATION:Gemeinschaftshaus, Saal im Erdgeschoss, Biegerstraße 17, 65191 Wiesbaden
END:VEVENT
BEGIN:VEVENT
DTSTAMP:20260422T105839
DTSTART;TZID=Europe/Berlin:20260121T091500
DTEND;TZID=Europe/Berlin:20260121T101500
UID:261-10510-20260121T091500@VBWBIERSTADT E.V.
SUMMARY:Pilates intensiv (261-10510) 
LOCATION:Gemeinschaftshaus, Saal im Erdgeschoss, Biegerstraße 17, 65191 Wiesbaden
END:VEVENT
BEGIN:VEVENT
DTSTAMP:20260422T105839
DTSTART;TZID=Europe/Berlin:20260128T091500
DTEND;TZID=Europe/Berlin:20260128T101500
UID:261-10510-20260128T091500@VBWBIERSTADT E.V.
SUMMARY:Pilates intensiv (261-10510) 
LOCATION:Gemeinschaftshaus, Saal im Erdgeschoss, Biegerstraße 17, 65191 Wiesbaden
END:VEVENT
BEGIN:VEVENT
DTSTAMP:20260422T105839
DTSTART;TZID=Europe/Berlin:20260204T091500
DTEND;TZID=Europe/Berlin:20260204T101500
UID:261-10510-20260204T091500@VBWBIERSTADT E.V.
SUMMARY:Pilates intensiv (261-10510) 
LOCATION:Gemeinschaftshaus, Saal im Erdgeschoss, Biegerstraße 17, 65191 Wiesbaden
END:VEVENT
BEGIN:VEVENT
DTSTAMP:20260422T105839
DTSTART;TZID=Europe/Berlin:20260211T091500
DTEND;TZID=Europe/Berlin:20260211T101500
UID:261-10510-20260211T091500@VBWBIERSTADT E.V.
SUMMARY:Pilates intensiv (261-10510) 
LOCATION:Gemeinschaftshaus, Saal im Erdgeschoss, Biegerstraße 17, 65191 Wiesbaden
END:VEVENT
BEGIN:VEVENT
DTSTAMP:20260422T105839
DTSTART;TZID=Europe/Berlin:20260218T091500
DTEND;TZID=Europe/Berlin:20260218T101500
UID:261-10510-20260218T091500@VBWBIERSTADT E.V.
SUMMARY:Pilates intensiv (261-10510) 
LOCATION:Gemeinschaftshaus, Saal im Erdgeschoss, Biegerstraße 17, 65191 Wiesbaden
END:VEVENT
BEGIN:VEVENT
DTSTAMP:20260422T105839
DTSTART;TZID=Europe/Berlin:20260225T091500
DTEND;TZID=Europe/Berlin:20260225T101500
UID:261-10510-20260225T091500@VBWBIERSTADT E.V.
SUMMARY:Pilates intensiv (261-10510) 
LOCATION:Gemeinschaftshaus, Saal im Erdgeschoss, Biegerstraße 17, 65191 Wiesbaden
END:VEVENT
BEGIN:VEVENT
DTSTAMP:20260422T105839
DTSTART;TZID=Europe/Berlin:20260304T091500
DTEND;TZID=Europe/Berlin:20260304T101500
UID:261-10510-20260304T091500@VBWBIERSTADT E.V.
SUMMARY:Pilates intensiv (261-10510) 
LOCATION:Gemeinschaftshaus, Saal im Erdgeschoss, Biegerstraße 17, 65191 Wiesbaden
END:VEVENT
BEGIN:VEVENT
DTSTAMP:20260422T105839
DTSTART;TZID=Europe/Berlin:20260318T091500
DTEND;TZID=Europe/Berlin:20260318T101500
UID:261-10510-20260318T091500@VBWBIERSTADT E.V.
SUMMARY:Pilates intensiv (261-10510) 
LOCATION:Gemeinschaftshaus, Saal im Erdgeschoss, Biegerstraße 17, 65191 Wiesbaden
END:VEVENT
BEGIN:VEVENT
DTSTAMP:20260422T105839
DTSTART;TZID=Europe/Berlin:20260325T091500
DTEND;TZID=Europe/Berlin:20260325T101500
UID:261-10510-20260325T091500@VBWBIERSTADT E.V.
SUMMARY:Pilates intensiv (261-10510) 
LOCATION:Gemeinschaftshaus, Saal im Erdgeschoss, Biegerstraße 17, 65191 Wiesbaden
END:VEVENT
BEGIN:VEVENT
DTSTAMP:20260422T105839
DTSTART;TZID=Europe/Berlin:20260401T091500
DTEND;TZID=Europe/Berlin:20260401T101500
UID:261-10510-20260401T091500@VBWBIERSTADT E.V.
DESCRIPTION:Ersatz für Ausfall am 11.03.2026
SUMMARY:Pilates intensiv (261-10510) 
LOCATION:Gemeinschaftshaus, Saal im Erdgeschoss, Biegerstraße 17, 65191 Wiesbaden
END:VEVENT
BEGIN:VEVENT
DTSTAMP:20260422T105839
DTSTART;TZID=Europe/Berlin:20260422T091500
DTEND;TZID=Europe/Berlin:20260422T101500
UID:261-10510-20260422T091500@VBWBIERSTADT E.V.
SUMMARY:Pilates intensiv (261-10510) 
LOCATION:Gemeinschaftshaus, Saal im Erdgeschoss, Biegerstraße 17, 65191 Wiesbaden
END:VEVENT
BEGIN:VEVENT
DTSTAMP:20260422T105839
DTSTART;TZID=Europe/Berlin:20260429T091500
DTEND;TZID=Europe/Berlin:20260429T101500
UID:261-10510-20260429T091500@VBWBIERSTADT E.V.
SUMMARY:Pilates intensiv (261-10510) 
LOCATION:Gemeinschaftshaus, Saal im Erdgeschoss, Biegerstraße 17, 65191 Wiesbaden
END:VEVENT
BEGIN:VEVENT
DTSTAMP:20260422T105839
DTSTART;TZID=Europe/Berlin:20260506T091500
DTEND;TZID=Europe/Berlin:20260506T101500
UID:261-10510-20260506T091500@VBWBIERSTADT E.V.
SUMMARY:Pilates intensiv (261-10510) 
LOCATION:Gemeinschaftshaus, Saal im Erdgeschoss, Biegerstraße 17, 65191 Wiesbaden
END:VEVENT
BEGIN:VEVENT
DTSTAMP:20260422T105839
DTSTART;TZID=Europe/Berlin:20260513T091500
DTEND;TZID=Europe/Berlin:20260513T101500
UID:261-10510-20260513T091500@VBWBIERSTADT E.V.
SUMMARY:Pilates intensiv (261-10510) 
LOCATION:Gemeinschaftshaus, Saal im Erdgeschoss, Biegerstraße 17, 65191 Wiesbaden
END:VEVENT
BEGIN:VEVENT
DTSTAMP:20260422T105839
DTSTART;TZID=Europe/Berlin:20260520T091500
DTEND;TZID=Europe/Berlin:20260520T101500
UID:261-10510-20260520T091500@VBWBIERSTADT E.V.
SUMMARY:Pilates intensiv (261-10510) 
LOCATION:Gemeinschaftshaus, Saal im Erdgeschoss, Biegerstraße 17, 65191 Wiesbaden
END:VEVENT
BEGIN:VEVENT
DTSTAMP:20260422T105839
DTSTART;TZID=Europe/Berlin:20260527T091500
DTEND;TZID=Europe/Berlin:20260527T101500
UID:261-10510-20260527T091500@VBWBIERSTADT E.V.
SUMMARY:Pilates intensiv (261-10510) 
LOCATION:Gemeinschaftshaus, Saal im Erdgeschoss, Biegerstraße 17, 65191 Wiesbaden
END:VEVENT
BEGIN:VEVENT
DTSTAMP:20260422T105839
DTSTART;TZID=Europe/Berlin:20260603T091500
DTEND;TZID=Europe/Berlin:20260603T101500
UID:261-10510-20260603T091500@VBWBIERSTADT E.V.
SUMMARY:Pilates intensiv (261-10510) 
LOCATION:Gemeinschaftshaus, Saal im Erdgeschoss, Biegerstraße 17, 65191 Wiesbaden
END:VEVENT
BEGIN:VEVENT
DTSTAMP:20260422T105839
DTSTART;TZID=Europe/Berlin:20260624T091500
DTEND;TZID=Europe/Berlin:20260624T101500
UID:261-10510-20260624T091500@VBWBIERSTADT E.V.
SUMMARY:Pilates intensiv (261-10510) 
LOCATION:Gemeinschaftshaus, Saal im Erdgeschoss, Biegerstraße 17, 65191 Wiesbaden
END:VEVENT
END:VCALENDAR