BEGIN:VCALENDAR
VERSION:2.0
PRODID:https://www.kufer.de/kuferweb / DE
METHOD:PUBLISH
CALSCALE:GREGORIAN
X-WR-TIMEZONE:Europe/Berlin
BEGIN:VTIMEZONE
TZID:Europe/Berlin
X-LIC-LOCATION:Europe/Berlin
BEGIN:DAYLIGHT
TZOFFSETFROM:+0100
TZOFFSETTO:+0200
TZNAME:CEST
DTSTART:19700329T020000
RRULE:FREQ=YEARLY;INTERVAL=1;BYDAY=-1SU;BYMONTH=3
END:DAYLIGHT
BEGIN:STANDARD
TZOFFSETFROM:+0200
TZOFFSETTO:+0100
TZNAME:CET
DTSTART:19701025T030000
RRULE:FREQ=YEARLY;INTERVAL=1;BYDAY=-1SU;BYMONTH=10
END:STANDARD
END:VTIMEZONE
BEGIN:VEVENT
DTSTAMP:20260422T155957
DTSTART;TZID=Europe/Berlin:20260114T103000
DTEND;TZID=Europe/Berlin:20260114T113000
UID:261-10515-20260114T103000@VBWBIERSTADT E.V.
SUMMARY:Pilates sanft (261-10515) 
LOCATION:Gemeinschaftshaus, Saal im Erdgeschoss, Biegerstraße 17, 65191 Wiesbaden
END:VEVENT
BEGIN:VEVENT
DTSTAMP:20260422T155957
DTSTART;TZID=Europe/Berlin:20260121T103000
DTEND;TZID=Europe/Berlin:20260121T113000
UID:261-10515-20260121T103000@VBWBIERSTADT E.V.
SUMMARY:Pilates sanft (261-10515) 
LOCATION:Gemeinschaftshaus, Saal im Erdgeschoss, Biegerstraße 17, 65191 Wiesbaden
END:VEVENT
BEGIN:VEVENT
DTSTAMP:20260422T155957
DTSTART;TZID=Europe/Berlin:20260128T103000
DTEND;TZID=Europe/Berlin:20260128T113000
UID:261-10515-20260128T103000@VBWBIERSTADT E.V.
SUMMARY:Pilates sanft (261-10515) 
LOCATION:Gemeinschaftshaus, Saal im Erdgeschoss, Biegerstraße 17, 65191 Wiesbaden
END:VEVENT
BEGIN:VEVENT
DTSTAMP:20260422T155957
DTSTART;TZID=Europe/Berlin:20260204T103000
DTEND;TZID=Europe/Berlin:20260204T113000
UID:261-10515-20260204T103000@VBWBIERSTADT E.V.
SUMMARY:Pilates sanft (261-10515) 
LOCATION:Gemeinschaftshaus, Saal im Erdgeschoss, Biegerstraße 17, 65191 Wiesbaden
END:VEVENT
BEGIN:VEVENT
DTSTAMP:20260422T155957
DTSTART;TZID=Europe/Berlin:20260211T103000
DTEND;TZID=Europe/Berlin:20260211T113000
UID:261-10515-20260211T103000@VBWBIERSTADT E.V.
SUMMARY:Pilates sanft (261-10515) 
LOCATION:Gemeinschaftshaus, Saal im Erdgeschoss, Biegerstraße 17, 65191 Wiesbaden
END:VEVENT
BEGIN:VEVENT
DTSTAMP:20260422T155957
DTSTART;TZID=Europe/Berlin:20260218T103000
DTEND;TZID=Europe/Berlin:20260218T113000
UID:261-10515-20260218T103000@VBWBIERSTADT E.V.
SUMMARY:Pilates sanft (261-10515) 
LOCATION:Gemeinschaftshaus, Saal im Erdgeschoss, Biegerstraße 17, 65191 Wiesbaden
END:VEVENT
BEGIN:VEVENT
DTSTAMP:20260422T155957
DTSTART;TZID=Europe/Berlin:20260225T103000
DTEND;TZID=Europe/Berlin:20260225T113000
UID:261-10515-20260225T103000@VBWBIERSTADT E.V.
SUMMARY:Pilates sanft (261-10515) 
LOCATION:Gemeinschaftshaus, Saal im Erdgeschoss, Biegerstraße 17, 65191 Wiesbaden
END:VEVENT
BEGIN:VEVENT
DTSTAMP:20260422T155957
DTSTART;TZID=Europe/Berlin:20260304T103000
DTEND;TZID=Europe/Berlin:20260304T113000
UID:261-10515-20260304T103000@VBWBIERSTADT E.V.
SUMMARY:Pilates sanft (261-10515) 
LOCATION:Gemeinschaftshaus, Saal im Erdgeschoss, Biegerstraße 17, 65191 Wiesbaden
END:VEVENT
BEGIN:VEVENT
DTSTAMP:20260422T155957
DTSTART;TZID=Europe/Berlin:20260318T103000
DTEND;TZID=Europe/Berlin:20260318T113000
UID:261-10515-20260318T103000@VBWBIERSTADT E.V.
SUMMARY:Pilates sanft (261-10515) 
LOCATION:Gemeinschaftshaus, Saal im Erdgeschoss, Biegerstraße 17, 65191 Wiesbaden
END:VEVENT
BEGIN:VEVENT
DTSTAMP:20260422T155957
DTSTART;TZID=Europe/Berlin:20260325T103000
DTEND;TZID=Europe/Berlin:20260325T113000
UID:261-10515-20260325T103000@VBWBIERSTADT E.V.
SUMMARY:Pilates sanft (261-10515) 
LOCATION:Gemeinschaftshaus, Saal im Erdgeschoss, Biegerstraße 17, 65191 Wiesbaden
END:VEVENT
BEGIN:VEVENT
DTSTAMP:20260422T155957
DTSTART;TZID=Europe/Berlin:20260401T103000
DTEND;TZID=Europe/Berlin:20260401T113000
UID:261-10515-20260401T103000@VBWBIERSTADT E.V.
DESCRIPTION:Ersatz für Ausfall am 11.03.2026
SUMMARY:Pilates sanft (261-10515) 
LOCATION:Gemeinschaftshaus, Saal im Erdgeschoss, Biegerstraße 17, 65191 Wiesbaden
END:VEVENT
BEGIN:VEVENT
DTSTAMP:20260422T155957
DTSTART;TZID=Europe/Berlin:20260422T103000
DTEND;TZID=Europe/Berlin:20260422T113000
UID:261-10515-20260422T103000@VBWBIERSTADT E.V.
SUMMARY:Pilates sanft (261-10515) 
LOCATION:Gemeinschaftshaus, Saal im Erdgeschoss, Biegerstraße 17, 65191 Wiesbaden
END:VEVENT
BEGIN:VEVENT
DTSTAMP:20260422T155957
DTSTART;TZID=Europe/Berlin:20260429T103000
DTEND;TZID=Europe/Berlin:20260429T113000
UID:261-10515-20260429T103000@VBWBIERSTADT E.V.
SUMMARY:Pilates sanft (261-10515) 
LOCATION:Gemeinschaftshaus, Saal im Erdgeschoss, Biegerstraße 17, 65191 Wiesbaden
END:VEVENT
BEGIN:VEVENT
DTSTAMP:20260422T155957
DTSTART;TZID=Europe/Berlin:20260506T103000
DTEND;TZID=Europe/Berlin:20260506T113000
UID:261-10515-20260506T103000@VBWBIERSTADT E.V.
SUMMARY:Pilates sanft (261-10515) 
LOCATION:Gemeinschaftshaus, Saal im Erdgeschoss, Biegerstraße 17, 65191 Wiesbaden
END:VEVENT
BEGIN:VEVENT
DTSTAMP:20260422T155957
DTSTART;TZID=Europe/Berlin:20260513T103000
DTEND;TZID=Europe/Berlin:20260513T113000
UID:261-10515-20260513T103000@VBWBIERSTADT E.V.
SUMMARY:Pilates sanft (261-10515) 
LOCATION:Gemeinschaftshaus, Saal im Erdgeschoss, Biegerstraße 17, 65191 Wiesbaden
END:VEVENT
BEGIN:VEVENT
DTSTAMP:20260422T155957
DTSTART;TZID=Europe/Berlin:20260520T103000
DTEND;TZID=Europe/Berlin:20260520T113000
UID:261-10515-20260520T103000@VBWBIERSTADT E.V.
SUMMARY:Pilates sanft (261-10515) 
LOCATION:Gemeinschaftshaus, Saal im Erdgeschoss, Biegerstraße 17, 65191 Wiesbaden
END:VEVENT
BEGIN:VEVENT
DTSTAMP:20260422T155957
DTSTART;TZID=Europe/Berlin:20260527T103000
DTEND;TZID=Europe/Berlin:20260527T113000
UID:261-10515-20260527T103000@VBWBIERSTADT E.V.
SUMMARY:Pilates sanft (261-10515) 
LOCATION:Gemeinschaftshaus, Saal im Erdgeschoss, Biegerstraße 17, 65191 Wiesbaden
END:VEVENT
BEGIN:VEVENT
DTSTAMP:20260422T155957
DTSTART;TZID=Europe/Berlin:20260603T103000
DTEND;TZID=Europe/Berlin:20260603T113000
UID:261-10515-20260603T103000@VBWBIERSTADT E.V.
SUMMARY:Pilates sanft (261-10515) 
LOCATION:Gemeinschaftshaus, Saal im Erdgeschoss, Biegerstraße 17, 65191 Wiesbaden
END:VEVENT
BEGIN:VEVENT
DTSTAMP:20260422T155957
DTSTART;TZID=Europe/Berlin:20260624T103000
DTEND;TZID=Europe/Berlin:20260624T113000
UID:261-10515-20260624T103000@VBWBIERSTADT E.V.
SUMMARY:Pilates sanft (261-10515) 
LOCATION:Gemeinschaftshaus, Saal im Erdgeschoss, Biegerstraße 17, 65191 Wiesbaden
END:VEVENT
END:VCALENDAR