BEGIN:VCALENDAR
VERSION:2.0
PRODID:https://www.kufer.de/kuferweb / DE
METHOD:PUBLISH
CALSCALE:GREGORIAN
X-WR-TIMEZONE:Europe/Berlin
BEGIN:VTIMEZONE
TZID:Europe/Berlin
X-LIC-LOCATION:Europe/Berlin
BEGIN:DAYLIGHT
TZOFFSETFROM:+0100
TZOFFSETTO:+0200
TZNAME:CEST
DTSTART:19700329T020000
RRULE:FREQ=YEARLY;INTERVAL=1;BYDAY=-1SU;BYMONTH=3
END:DAYLIGHT
BEGIN:STANDARD
TZOFFSETFROM:+0200
TZOFFSETTO:+0100
TZNAME:CET
DTSTART:19701025T030000
RRULE:FREQ=YEARLY;INTERVAL=1;BYDAY=-1SU;BYMONTH=10
END:STANDARD
END:VTIMEZONE
BEGIN:VEVENT
DTSTAMP:20260422T155915
DTSTART;TZID=Europe/Berlin:20260217T170000
DTEND;TZID=Europe/Berlin:20260217T180000
UID:261-11010-20260217T170000@VBWBIERSTADT E.V.
SUMMARY:Full-Body-Workout - Bauch, Beine, Po, Rücken (261-11010) 
LOCATION:Gemeinschaftshaus, großer Saal
END:VEVENT
BEGIN:VEVENT
DTSTAMP:20260422T155915
DTSTART;TZID=Europe/Berlin:20260224T170000
DTEND;TZID=Europe/Berlin:20260224T180000
UID:261-11010-20260224T170000@VBWBIERSTADT E.V.
SUMMARY:Full-Body-Workout - Bauch, Beine, Po, Rücken (261-11010) 
LOCATION:Gemeinschaftshaus, großer Saal
END:VEVENT
BEGIN:VEVENT
DTSTAMP:20260422T155915
DTSTART;TZID=Europe/Berlin:20260303T170000
DTEND;TZID=Europe/Berlin:20260303T180000
UID:261-11010-20260303T170000@VBWBIERSTADT E.V.
SUMMARY:Full-Body-Workout - Bauch, Beine, Po, Rücken (261-11010) 
LOCATION:Gemeinschaftshaus, großer Saal
END:VEVENT
BEGIN:VEVENT
DTSTAMP:20260422T155915
DTSTART;TZID=Europe/Berlin:20260317T170000
DTEND;TZID=Europe/Berlin:20260317T180000
UID:261-11010-20260317T170000@VBWBIERSTADT E.V.
SUMMARY:Full-Body-Workout - Bauch, Beine, Po, Rücken (261-11010) 
LOCATION:Gemeinschaftshaus, großer Saal
END:VEVENT
BEGIN:VEVENT
DTSTAMP:20260422T155915
DTSTART;TZID=Europe/Berlin:20260324T170000
DTEND;TZID=Europe/Berlin:20260324T180000
UID:261-11010-20260324T170000@VBWBIERSTADT E.V.
SUMMARY:Full-Body-Workout - Bauch, Beine, Po, Rücken (261-11010) 
LOCATION:Gemeinschaftshaus, großer Saal
END:VEVENT
BEGIN:VEVENT
DTSTAMP:20260422T155915
DTSTART;TZID=Europe/Berlin:20260414T170000
DTEND;TZID=Europe/Berlin:20260414T180000
UID:261-11010-20260414T170000@VBWBIERSTADT E.V.
SUMMARY:Full-Body-Workout - Bauch, Beine, Po, Rücken (261-11010) 
LOCATION:Gemeinschaftshaus, großer Saal
END:VEVENT
BEGIN:VEVENT
DTSTAMP:20260422T155915
DTSTART;TZID=Europe/Berlin:20260421T170000
DTEND;TZID=Europe/Berlin:20260421T180000
UID:261-11010-20260421T170000@VBWBIERSTADT E.V.
SUMMARY:Full-Body-Workout - Bauch, Beine, Po, Rücken (261-11010) 
LOCATION:Gemeinschaftshaus, großer Saal
END:VEVENT
BEGIN:VEVENT
DTSTAMP:20260422T155915
DTSTART;TZID=Europe/Berlin:20260512T170000
DTEND;TZID=Europe/Berlin:20260512T180000
UID:261-11010-20260512T170000@VBWBIERSTADT E.V.
SUMMARY:Full-Body-Workout - Bauch, Beine, Po, Rücken (261-11010) 
LOCATION:Gemeinschaftshaus, großer Saal
END:VEVENT
BEGIN:VEVENT
DTSTAMP:20260422T155915
DTSTART;TZID=Europe/Berlin:20260519T170000
DTEND;TZID=Europe/Berlin:20260519T180000
UID:261-11010-20260519T170000@VBWBIERSTADT E.V.
SUMMARY:Full-Body-Workout - Bauch, Beine, Po, Rücken (261-11010) 
LOCATION:Gemeinschaftshaus, großer Saal
END:VEVENT
BEGIN:VEVENT
DTSTAMP:20260422T155915
DTSTART;TZID=Europe/Berlin:20260526T170000
DTEND;TZID=Europe/Berlin:20260526T180000
UID:261-11010-20260526T170000@VBWBIERSTADT E.V.
SUMMARY:Full-Body-Workout - Bauch, Beine, Po, Rücken (261-11010) 
LOCATION:Gemeinschaftshaus, großer Saal
END:VEVENT
BEGIN:VEVENT
DTSTAMP:20260422T155915
DTSTART;TZID=Europe/Berlin:20260602T170000
DTEND;TZID=Europe/Berlin:20260602T180000
UID:261-11010-20260602T170000@VBWBIERSTADT E.V.
SUMMARY:Full-Body-Workout - Bauch, Beine, Po, Rücken (261-11010) 
LOCATION:Gemeinschaftshaus, großer Saal
END:VEVENT
BEGIN:VEVENT
DTSTAMP:20260422T155915
DTSTART;TZID=Europe/Berlin:20260609T170000
DTEND;TZID=Europe/Berlin:20260609T180000
UID:261-11010-20260609T170000@VBWBIERSTADT E.V.
SUMMARY:Full-Body-Workout - Bauch, Beine, Po, Rücken (261-11010) 
LOCATION:Gemeinschaftshaus, großer Saal
END:VEVENT
BEGIN:VEVENT
DTSTAMP:20260422T155915
DTSTART;TZID=Europe/Berlin:20260616T170000
DTEND;TZID=Europe/Berlin:20260616T180000
UID:261-11010-20260616T170000@VBWBIERSTADT E.V.
SUMMARY:Full-Body-Workout - Bauch, Beine, Po, Rücken (261-11010) 
LOCATION:Gemeinschaftshaus, großer Saal
END:VEVENT
BEGIN:VEVENT
DTSTAMP:20260422T155915
DTSTART;TZID=Europe/Berlin:20260623T170000
DTEND;TZID=Europe/Berlin:20260623T180000
UID:261-11010-20260623T170000@VBWBIERSTADT E.V.
SUMMARY:Full-Body-Workout - Bauch, Beine, Po, Rücken (261-11010) 
LOCATION:Gemeinschaftshaus, großer Saal
END:VEVENT
BEGIN:VEVENT
DTSTAMP:20260422T155915
DTSTART;TZID=Europe/Berlin:20260811T170000
DTEND;TZID=Europe/Berlin:20260811T180000
UID:261-11010-20260811T170000@VBWBIERSTADT E.V.
DESCRIPTION:Ersatz für Ausfall am 10.03.2026
SUMMARY:Full-Body-Workout - Bauch, Beine, Po, Rücken (261-11010) 
LOCATION:Gemeinschaftshaus, großer Saal
END:VEVENT
BEGIN:VEVENT
DTSTAMP:20260422T155915
DTSTART;TZID=Europe/Berlin:20260818T170000
DTEND;TZID=Europe/Berlin:20260818T180000
UID:261-11010-20260818T170000@VBWBIERSTADT E.V.
DESCRIPTION:Ersatz für Ausfall am 28.04.2026
SUMMARY:Full-Body-Workout - Bauch, Beine, Po, Rücken (261-11010) 
LOCATION:Gemeinschaftshaus, großer Saal
END:VEVENT
END:VCALENDAR