BEGIN:VCALENDAR
VERSION:2.0
PRODID:https://www.kufer.de/kuferweb / DE
METHOD:PUBLISH
CALSCALE:GREGORIAN
X-WR-TIMEZONE:Europe/Berlin
BEGIN:VTIMEZONE
TZID:Europe/Berlin
X-LIC-LOCATION:Europe/Berlin
BEGIN:DAYLIGHT
TZOFFSETFROM:+0100
TZOFFSETTO:+0200
TZNAME:CEST
DTSTART:19700329T020000
RRULE:FREQ=YEARLY;INTERVAL=1;BYDAY=-1SU;BYMONTH=3
END:DAYLIGHT
BEGIN:STANDARD
TZOFFSETFROM:+0200
TZOFFSETTO:+0100
TZNAME:CET
DTSTART:19701025T030000
RRULE:FREQ=YEARLY;INTERVAL=1;BYDAY=-1SU;BYMONTH=10
END:STANDARD
END:VTIMEZONE
BEGIN:VEVENT
DTSTAMP:20260422T204746
DTSTART;TZID=Europe/Berlin:20260414T083000
DTEND;TZID=Europe/Berlin:20260414T091500
UID:261-11511-20260414T083000@VBWBIERSTADT E.V.
SUMMARY:Aqua-Fitness für Frühaufsteher (261-11511) 
LOCATION:Treffpunkt: Thermalbad Aukammtal Wiesbaden, Leibnizstraße 7, 65191 Wiesbaden
END:VEVENT
BEGIN:VEVENT
DTSTAMP:20260422T204746
DTSTART;TZID=Europe/Berlin:20260421T083000
DTEND;TZID=Europe/Berlin:20260421T091500
UID:261-11511-20260421T083000@VBWBIERSTADT E.V.
SUMMARY:Aqua-Fitness für Frühaufsteher (261-11511) 
LOCATION:Treffpunkt: Thermalbad Aukammtal Wiesbaden, Leibnizstraße 7, 65191 Wiesbaden
END:VEVENT
BEGIN:VEVENT
DTSTAMP:20260422T204746
DTSTART;TZID=Europe/Berlin:20260428T083000
DTEND;TZID=Europe/Berlin:20260428T091500
UID:261-11511-20260428T083000@VBWBIERSTADT E.V.
SUMMARY:Aqua-Fitness für Frühaufsteher (261-11511) 
LOCATION:Treffpunkt: Thermalbad Aukammtal Wiesbaden, Leibnizstraße 7, 65191 Wiesbaden
END:VEVENT
BEGIN:VEVENT
DTSTAMP:20260422T204746
DTSTART;TZID=Europe/Berlin:20260505T083000
DTEND;TZID=Europe/Berlin:20260505T091500
UID:261-11511-20260505T083000@VBWBIERSTADT E.V.
SUMMARY:Aqua-Fitness für Frühaufsteher (261-11511) 
LOCATION:Treffpunkt: Thermalbad Aukammtal Wiesbaden, Leibnizstraße 7, 65191 Wiesbaden
END:VEVENT
BEGIN:VEVENT
DTSTAMP:20260422T204746
DTSTART;TZID=Europe/Berlin:20260512T083000
DTEND;TZID=Europe/Berlin:20260512T091500
UID:261-11511-20260512T083000@VBWBIERSTADT E.V.
SUMMARY:Aqua-Fitness für Frühaufsteher (261-11511) 
LOCATION:Treffpunkt: Thermalbad Aukammtal Wiesbaden, Leibnizstraße 7, 65191 Wiesbaden
END:VEVENT
BEGIN:VEVENT
DTSTAMP:20260422T204746
DTSTART;TZID=Europe/Berlin:20260519T083000
DTEND;TZID=Europe/Berlin:20260519T091500
UID:261-11511-20260519T083000@VBWBIERSTADT E.V.
SUMMARY:Aqua-Fitness für Frühaufsteher (261-11511) 
LOCATION:Treffpunkt: Thermalbad Aukammtal Wiesbaden, Leibnizstraße 7, 65191 Wiesbaden
END:VEVENT
BEGIN:VEVENT
DTSTAMP:20260422T204746
DTSTART;TZID=Europe/Berlin:20260526T083000
DTEND;TZID=Europe/Berlin:20260526T091500
UID:261-11511-20260526T083000@VBWBIERSTADT E.V.
SUMMARY:Aqua-Fitness für Frühaufsteher (261-11511) 
LOCATION:Treffpunkt: Thermalbad Aukammtal Wiesbaden, Leibnizstraße 7, 65191 Wiesbaden
END:VEVENT
BEGIN:VEVENT
DTSTAMP:20260422T204746
DTSTART;TZID=Europe/Berlin:20260602T083000
DTEND;TZID=Europe/Berlin:20260602T091500
UID:261-11511-20260602T083000@VBWBIERSTADT E.V.
SUMMARY:Aqua-Fitness für Frühaufsteher (261-11511) 
LOCATION:Treffpunkt: Thermalbad Aukammtal Wiesbaden, Leibnizstraße 7, 65191 Wiesbaden
END:VEVENT
BEGIN:VEVENT
DTSTAMP:20260422T204746
DTSTART;TZID=Europe/Berlin:20260609T083000
DTEND;TZID=Europe/Berlin:20260609T091500
UID:261-11511-20260609T083000@VBWBIERSTADT E.V.
SUMMARY:Aqua-Fitness für Frühaufsteher (261-11511) 
LOCATION:Treffpunkt: Thermalbad Aukammtal Wiesbaden, Leibnizstraße 7, 65191 Wiesbaden
END:VEVENT
BEGIN:VEVENT
DTSTAMP:20260422T204746
DTSTART;TZID=Europe/Berlin:20260616T083000
DTEND;TZID=Europe/Berlin:20260616T091500
UID:261-11511-20260616T083000@VBWBIERSTADT E.V.
SUMMARY:Aqua-Fitness für Frühaufsteher (261-11511) 
LOCATION:Treffpunkt: Thermalbad Aukammtal Wiesbaden, Leibnizstraße 7, 65191 Wiesbaden
END:VEVENT
END:VCALENDAR