BEGIN:VCALENDAR
VERSION:2.0
PRODID:https://www.kufer.de/kuferweb / DE
METHOD:PUBLISH
CALSCALE:GREGORIAN
X-WR-TIMEZONE:Europe/Berlin
BEGIN:VTIMEZONE
TZID:Europe/Berlin
X-LIC-LOCATION:Europe/Berlin
BEGIN:DAYLIGHT
TZOFFSETFROM:+0100
TZOFFSETTO:+0200
TZNAME:CEST
DTSTART:19700329T020000
RRULE:FREQ=YEARLY;INTERVAL=1;BYDAY=-1SU;BYMONTH=3
END:DAYLIGHT
BEGIN:STANDARD
TZOFFSETFROM:+0200
TZOFFSETTO:+0100
TZNAME:CET
DTSTART:19701025T030000
RRULE:FREQ=YEARLY;INTERVAL=1;BYDAY=-1SU;BYMONTH=10
END:STANDARD
END:VTIMEZONE
BEGIN:VEVENT
DTSTAMP:20260422T205635
DTSTART;TZID=Europe/Berlin:20260413T181500
DTEND;TZID=Europe/Berlin:20260413T191500
UID:261-12006-20260413T181500@VBWBIERSTADT E.V.
SUMMARY:Wirbelsäulengymnastik am Abend (261-12006) 
LOCATION:ehem. Robert-Koch-Schule, Venatorstr. 10, EG rechts, Venatorstraße 10, 65191 Wiesbaden
END:VEVENT
BEGIN:VEVENT
DTSTAMP:20260422T205635
DTSTART;TZID=Europe/Berlin:20260420T181500
DTEND;TZID=Europe/Berlin:20260420T191500
UID:261-12006-20260420T181500@VBWBIERSTADT E.V.
SUMMARY:Wirbelsäulengymnastik am Abend (261-12006) 
LOCATION:ehem. Robert-Koch-Schule, Venatorstr. 10, EG rechts, Venatorstraße 10, 65191 Wiesbaden
END:VEVENT
BEGIN:VEVENT
DTSTAMP:20260422T205635
DTSTART;TZID=Europe/Berlin:20260511T181500
DTEND;TZID=Europe/Berlin:20260511T191500
UID:261-12006-20260511T181500@VBWBIERSTADT E.V.
SUMMARY:Wirbelsäulengymnastik am Abend (261-12006) 
LOCATION:ehem. Robert-Koch-Schule, Venatorstr. 10, EG rechts, Venatorstraße 10, 65191 Wiesbaden
END:VEVENT
BEGIN:VEVENT
DTSTAMP:20260422T205635
DTSTART;TZID=Europe/Berlin:20260518T181500
DTEND;TZID=Europe/Berlin:20260518T191500
UID:261-12006-20260518T181500@VBWBIERSTADT E.V.
SUMMARY:Wirbelsäulengymnastik am Abend (261-12006) 
LOCATION:ehem. Robert-Koch-Schule, Venatorstr. 10, EG rechts, Venatorstraße 10, 65191 Wiesbaden
END:VEVENT
BEGIN:VEVENT
DTSTAMP:20260422T205635
DTSTART;TZID=Europe/Berlin:20260601T181500
DTEND;TZID=Europe/Berlin:20260601T191500
UID:261-12006-20260601T181500@VBWBIERSTADT E.V.
SUMMARY:Wirbelsäulengymnastik am Abend (261-12006) 
LOCATION:ehem. Robert-Koch-Schule, Venatorstr. 10, EG rechts, Venatorstraße 10, 65191 Wiesbaden
END:VEVENT
BEGIN:VEVENT
DTSTAMP:20260422T205635
DTSTART;TZID=Europe/Berlin:20260608T181500
DTEND;TZID=Europe/Berlin:20260608T191500
UID:261-12006-20260608T181500@VBWBIERSTADT E.V.
SUMMARY:Wirbelsäulengymnastik am Abend (261-12006) 
LOCATION:ehem. Robert-Koch-Schule, Venatorstr. 10, EG rechts, Venatorstraße 10, 65191 Wiesbaden
END:VEVENT
BEGIN:VEVENT
DTSTAMP:20260422T205635
DTSTART;TZID=Europe/Berlin:20260615T181500
DTEND;TZID=Europe/Berlin:20260615T191500
UID:261-12006-20260615T181500@VBWBIERSTADT E.V.
SUMMARY:Wirbelsäulengymnastik am Abend (261-12006) 
LOCATION:ehem. Robert-Koch-Schule, Venatorstr. 10, EG rechts, Venatorstraße 10, 65191 Wiesbaden
END:VEVENT
BEGIN:VEVENT
DTSTAMP:20260422T205635
DTSTART;TZID=Europe/Berlin:20260622T181500
DTEND;TZID=Europe/Berlin:20260622T191500
UID:261-12006-20260622T181500@VBWBIERSTADT E.V.
SUMMARY:Wirbelsäulengymnastik am Abend (261-12006) 
LOCATION:ehem. Robert-Koch-Schule, Venatorstr. 10, EG rechts, Venatorstraße 10, 65191 Wiesbaden
END:VEVENT
END:VCALENDAR