BEGIN:VCALENDAR
VERSION:2.0
PRODID:https://www.kufer.de/kuferweb / DE
METHOD:PUBLISH
CALSCALE:GREGORIAN
X-WR-TIMEZONE:Europe/Berlin
BEGIN:VTIMEZONE
TZID:Europe/Berlin
X-LIC-LOCATION:Europe/Berlin
BEGIN:DAYLIGHT
TZOFFSETFROM:+0100
TZOFFSETTO:+0200
TZNAME:CEST
DTSTART:19700329T020000
RRULE:FREQ=YEARLY;INTERVAL=1;BYDAY=-1SU;BYMONTH=3
END:DAYLIGHT
BEGIN:STANDARD
TZOFFSETFROM:+0200
TZOFFSETTO:+0100
TZNAME:CET
DTSTART:19701025T030000
RRULE:FREQ=YEARLY;INTERVAL=1;BYDAY=-1SU;BYMONTH=10
END:STANDARD
END:VTIMEZONE
BEGIN:VEVENT
DTSTAMP:20260422T204815
DTSTART;TZID=Europe/Berlin:20260413T110000
DTEND;TZID=Europe/Berlin:20260413T120000
UID:261-12011-20260413T110000@VBWBIERSTADT E.V.
SUMMARY:Gleichgewichtstraining und Sturzprävention (261-12011) 
LOCATION:ehem. Robert-Koch-Schule, Venatorstr. 10, EG rechts, Venatorstraße 10, 65191 Wiesbaden
END:VEVENT
BEGIN:VEVENT
DTSTAMP:20260422T204815
DTSTART;TZID=Europe/Berlin:20260420T110000
DTEND;TZID=Europe/Berlin:20260420T120000
UID:261-12011-20260420T110000@VBWBIERSTADT E.V.
SUMMARY:Gleichgewichtstraining und Sturzprävention (261-12011) 
LOCATION:ehem. Robert-Koch-Schule, Venatorstr. 10, EG rechts, Venatorstraße 10, 65191 Wiesbaden
END:VEVENT
BEGIN:VEVENT
DTSTAMP:20260422T204815
DTSTART;TZID=Europe/Berlin:20260511T110000
DTEND;TZID=Europe/Berlin:20260511T120000
UID:261-12011-20260511T110000@VBWBIERSTADT E.V.
SUMMARY:Gleichgewichtstraining und Sturzprävention (261-12011) 
LOCATION:ehem. Robert-Koch-Schule, Venatorstr. 10, EG rechts, Venatorstraße 10, 65191 Wiesbaden
END:VEVENT
BEGIN:VEVENT
DTSTAMP:20260422T204815
DTSTART;TZID=Europe/Berlin:20260518T110000
DTEND;TZID=Europe/Berlin:20260518T120000
UID:261-12011-20260518T110000@VBWBIERSTADT E.V.
SUMMARY:Gleichgewichtstraining und Sturzprävention (261-12011) 
LOCATION:ehem. Robert-Koch-Schule, Venatorstr. 10, EG rechts, Venatorstraße 10, 65191 Wiesbaden
END:VEVENT
BEGIN:VEVENT
DTSTAMP:20260422T204815
DTSTART;TZID=Europe/Berlin:20260601T110000
DTEND;TZID=Europe/Berlin:20260601T120000
UID:261-12011-20260601T110000@VBWBIERSTADT E.V.
SUMMARY:Gleichgewichtstraining und Sturzprävention (261-12011) 
LOCATION:ehem. Robert-Koch-Schule, Venatorstr. 10, EG rechts, Venatorstraße 10, 65191 Wiesbaden
END:VEVENT
BEGIN:VEVENT
DTSTAMP:20260422T204815
DTSTART;TZID=Europe/Berlin:20260608T110000
DTEND;TZID=Europe/Berlin:20260608T120000
UID:261-12011-20260608T110000@VBWBIERSTADT E.V.
SUMMARY:Gleichgewichtstraining und Sturzprävention (261-12011) 
LOCATION:ehem. Robert-Koch-Schule, Venatorstr. 10, EG rechts, Venatorstraße 10, 65191 Wiesbaden
END:VEVENT
BEGIN:VEVENT
DTSTAMP:20260422T204815
DTSTART;TZID=Europe/Berlin:20260615T110000
DTEND;TZID=Europe/Berlin:20260615T120000
UID:261-12011-20260615T110000@VBWBIERSTADT E.V.
SUMMARY:Gleichgewichtstraining und Sturzprävention (261-12011) 
LOCATION:ehem. Robert-Koch-Schule, Venatorstr. 10, EG rechts, Venatorstraße 10, 65191 Wiesbaden
END:VEVENT
BEGIN:VEVENT
DTSTAMP:20260422T204815
DTSTART;TZID=Europe/Berlin:20260622T110000
DTEND;TZID=Europe/Berlin:20260622T120000
UID:261-12011-20260622T110000@VBWBIERSTADT E.V.
SUMMARY:Gleichgewichtstraining und Sturzprävention (261-12011) 
LOCATION:ehem. Robert-Koch-Schule, Venatorstr. 10, EG rechts, Venatorstraße 10, 65191 Wiesbaden
END:VEVENT
END:VCALENDAR