BEGIN:VCALENDAR
VERSION:2.0
PRODID:https://www.kufer.de/kuferweb / DE
METHOD:PUBLISH
CALSCALE:GREGORIAN
X-WR-TIMEZONE:Europe/Berlin
BEGIN:VTIMEZONE
TZID:Europe/Berlin
X-LIC-LOCATION:Europe/Berlin
BEGIN:DAYLIGHT
TZOFFSETFROM:+0100
TZOFFSETTO:+0200
TZNAME:CEST
DTSTART:19700329T020000
RRULE:FREQ=YEARLY;INTERVAL=1;BYDAY=-1SU;BYMONTH=3
END:DAYLIGHT
BEGIN:STANDARD
TZOFFSETFROM:+0200
TZOFFSETTO:+0100
TZNAME:CET
DTSTART:19701025T030000
RRULE:FREQ=YEARLY;INTERVAL=1;BYDAY=-1SU;BYMONTH=10
END:STANDARD
END:VTIMEZONE
BEGIN:VEVENT
DTSTAMP:20260422T105838
DTSTART;TZID=Europe/Berlin:20260116T190000
DTEND;TZID=Europe/Berlin:20260116T200000
UID:261-12520-20260116T190000@VBWBIERSTADT E.V.
SUMMARY:Line Dancing für Einsteiger mit tänzerischer Erfahrung (261-12520) 
LOCATION:Gemeinschaftshaus, Saal im Erdgeschoss, Biegerstraße 17, 65191 Wiesbaden
END:VEVENT
BEGIN:VEVENT
DTSTAMP:20260422T105838
DTSTART;TZID=Europe/Berlin:20260130T190000
DTEND;TZID=Europe/Berlin:20260130T200000
UID:261-12520-20260130T190000@VBWBIERSTADT E.V.
SUMMARY:Line Dancing für Einsteiger mit tänzerischer Erfahrung (261-12520) 
LOCATION:Gemeinschaftshaus, Saal im Erdgeschoss, Biegerstraße 17, 65191 Wiesbaden
END:VEVENT
BEGIN:VEVENT
DTSTAMP:20260422T105838
DTSTART;TZID=Europe/Berlin:20260220T190000
DTEND;TZID=Europe/Berlin:20260220T200000
UID:261-12520-20260220T190000@VBWBIERSTADT E.V.
SUMMARY:Line Dancing für Einsteiger mit tänzerischer Erfahrung (261-12520) 
LOCATION:Gemeinschaftshaus, Saal im Erdgeschoss, Biegerstraße 17, 65191 Wiesbaden
END:VEVENT
BEGIN:VEVENT
DTSTAMP:20260422T105838
DTSTART;TZID=Europe/Berlin:20260227T190000
DTEND;TZID=Europe/Berlin:20260227T200000
UID:261-12520-20260227T190000@VBWBIERSTADT E.V.
SUMMARY:Line Dancing für Einsteiger mit tänzerischer Erfahrung (261-12520) 
LOCATION:Gemeinschaftshaus, Saal im Erdgeschoss, Biegerstraße 17, 65191 Wiesbaden
END:VEVENT
BEGIN:VEVENT
DTSTAMP:20260422T105838
DTSTART;TZID=Europe/Berlin:20260306T190000
DTEND;TZID=Europe/Berlin:20260306T200000
UID:261-12520-20260306T190000@VBWBIERSTADT E.V.
SUMMARY:Line Dancing für Einsteiger mit tänzerischer Erfahrung (261-12520) 
LOCATION:Gemeinschaftshaus, Saal im Erdgeschoss, Biegerstraße 17, 65191 Wiesbaden
END:VEVENT
BEGIN:VEVENT
DTSTAMP:20260422T105838
DTSTART;TZID=Europe/Berlin:20260313T190000
DTEND;TZID=Europe/Berlin:20260313T200000
UID:261-12520-20260313T190000@VBWBIERSTADT E.V.
SUMMARY:Line Dancing für Einsteiger mit tänzerischer Erfahrung (261-12520) 
LOCATION:Gemeinschaftshaus, Saal im Erdgeschoss, Biegerstraße 17, 65191 Wiesbaden
END:VEVENT
BEGIN:VEVENT
DTSTAMP:20260422T105838
DTSTART;TZID=Europe/Berlin:20260320T190000
DTEND;TZID=Europe/Berlin:20260320T200000
UID:261-12520-20260320T190000@VBWBIERSTADT E.V.
SUMMARY:Line Dancing für Einsteiger mit tänzerischer Erfahrung (261-12520) 
LOCATION:Gemeinschaftshaus, Saal im Erdgeschoss, Biegerstraße 17, 65191 Wiesbaden
END:VEVENT
BEGIN:VEVENT
DTSTAMP:20260422T105838
DTSTART;TZID=Europe/Berlin:20260327T190000
DTEND;TZID=Europe/Berlin:20260327T200000
UID:261-12520-20260327T190000@VBWBIERSTADT E.V.
SUMMARY:Line Dancing für Einsteiger mit tänzerischer Erfahrung (261-12520) 
LOCATION:Gemeinschaftshaus, Saal im Erdgeschoss, Biegerstraße 17, 65191 Wiesbaden
END:VEVENT
BEGIN:VEVENT
DTSTAMP:20260422T105838
DTSTART;TZID=Europe/Berlin:20260410T190000
DTEND;TZID=Europe/Berlin:20260410T200000
UID:261-12520-20260410T190000@VBWBIERSTADT E.V.
SUMMARY:Line Dancing für Einsteiger mit tänzerischer Erfahrung (261-12520) 
LOCATION:Gemeinschaftshaus, Saal im Erdgeschoss, Biegerstraße 17, 65191 Wiesbaden
END:VEVENT
BEGIN:VEVENT
DTSTAMP:20260422T105838
DTSTART;TZID=Europe/Berlin:20260417T190000
DTEND;TZID=Europe/Berlin:20260417T200000
UID:261-12520-20260417T190000@VBWBIERSTADT E.V.
SUMMARY:Line Dancing für Einsteiger mit tänzerischer Erfahrung (261-12520) 
LOCATION:Gemeinschaftshaus, Saal im Erdgeschoss, Biegerstraße 17, 65191 Wiesbaden
END:VEVENT
BEGIN:VEVENT
DTSTAMP:20260422T105838
DTSTART;TZID=Europe/Berlin:20260424T190000
DTEND;TZID=Europe/Berlin:20260424T200000
UID:261-12520-20260424T190000@VBWBIERSTADT E.V.
SUMMARY:Line Dancing für Einsteiger mit tänzerischer Erfahrung (261-12520) 
LOCATION:Gemeinschaftshaus, Saal im Erdgeschoss, Biegerstraße 17, 65191 Wiesbaden
END:VEVENT
BEGIN:VEVENT
DTSTAMP:20260422T105838
DTSTART;TZID=Europe/Berlin:20260508T190000
DTEND;TZID=Europe/Berlin:20260508T200000
UID:261-12520-20260508T190000@VBWBIERSTADT E.V.
SUMMARY:Line Dancing für Einsteiger mit tänzerischer Erfahrung (261-12520) 
LOCATION:Gemeinschaftshaus, Saal im Erdgeschoss, Biegerstraße 17, 65191 Wiesbaden
END:VEVENT
BEGIN:VEVENT
DTSTAMP:20260422T105838
DTSTART;TZID=Europe/Berlin:20260515T190000
DTEND;TZID=Europe/Berlin:20260515T200000
UID:261-12520-20260515T190000@VBWBIERSTADT E.V.
SUMMARY:Line Dancing für Einsteiger mit tänzerischer Erfahrung (261-12520) 
LOCATION:Gemeinschaftshaus, Saal im Erdgeschoss, Biegerstraße 17, 65191 Wiesbaden
END:VEVENT
BEGIN:VEVENT
DTSTAMP:20260422T105838
DTSTART;TZID=Europe/Berlin:20260605T190000
DTEND;TZID=Europe/Berlin:20260605T200000
UID:261-12520-20260605T190000@VBWBIERSTADT E.V.
SUMMARY:Line Dancing für Einsteiger mit tänzerischer Erfahrung (261-12520) 
LOCATION:Gemeinschaftshaus, Saal im Erdgeschoss, Biegerstraße 17, 65191 Wiesbaden
END:VEVENT
BEGIN:VEVENT
DTSTAMP:20260422T105838
DTSTART;TZID=Europe/Berlin:20260612T190000
DTEND;TZID=Europe/Berlin:20260612T200000
UID:261-12520-20260612T190000@VBWBIERSTADT E.V.
SUMMARY:Line Dancing für Einsteiger mit tänzerischer Erfahrung (261-12520) 
LOCATION:Gemeinschaftshaus, Saal im Erdgeschoss, Biegerstraße 17, 65191 Wiesbaden
END:VEVENT
END:VCALENDAR