BEGIN:VCALENDAR
VERSION:2.0
PRODID:https://www.kufer.de/kuferweb / DE
METHOD:PUBLISH
CALSCALE:GREGORIAN
X-WR-TIMEZONE:Europe/Berlin
BEGIN:VTIMEZONE
TZID:Europe/Berlin
X-LIC-LOCATION:Europe/Berlin
BEGIN:DAYLIGHT
TZOFFSETFROM:+0100
TZOFFSETTO:+0200
TZNAME:CEST
DTSTART:19700329T020000
RRULE:FREQ=YEARLY;INTERVAL=1;BYDAY=-1SU;BYMONTH=3
END:DAYLIGHT
BEGIN:STANDARD
TZOFFSETFROM:+0200
TZOFFSETTO:+0100
TZNAME:CET
DTSTART:19701025T030000
RRULE:FREQ=YEARLY;INTERVAL=1;BYDAY=-1SU;BYMONTH=10
END:STANDARD
END:VTIMEZONE
BEGIN:VEVENT
DTSTAMP:20260424T163423
DTSTART;TZID=Europe/Berlin:20260129T191500
DTEND;TZID=Europe/Berlin:20260129T203000
UID:261-13030-20260129T191500@VBWBIERSTADT E.V.
SUMMARY:TaijiDao 13er-Form für Fortgeschrittene, von GM Shen Xijing (261-13030) 
LOCATION:ehem. Robert-Koch-Schule, Venatorstr. 10, EG rechts, Venatorstraße 10, 65191 Wiesbaden
END:VEVENT
BEGIN:VEVENT
DTSTAMP:20260424T163423
DTSTART;TZID=Europe/Berlin:20260205T191500
DTEND;TZID=Europe/Berlin:20260205T203000
UID:261-13030-20260205T191500@VBWBIERSTADT E.V.
SUMMARY:TaijiDao 13er-Form für Fortgeschrittene, von GM Shen Xijing (261-13030) 
LOCATION:ehem. Robert-Koch-Schule, Venatorstr. 10, EG rechts, Venatorstraße 10, 65191 Wiesbaden
END:VEVENT
BEGIN:VEVENT
DTSTAMP:20260424T163423
DTSTART;TZID=Europe/Berlin:20260219T191500
DTEND;TZID=Europe/Berlin:20260219T203000
UID:261-13030-20260219T191500@VBWBIERSTADT E.V.
SUMMARY:TaijiDao 13er-Form für Fortgeschrittene, von GM Shen Xijing (261-13030) 
LOCATION:ehem. Robert-Koch-Schule, Venatorstr. 10, EG rechts, Venatorstraße 10, 65191 Wiesbaden
END:VEVENT
BEGIN:VEVENT
DTSTAMP:20260424T163423
DTSTART;TZID=Europe/Berlin:20260226T191500
DTEND;TZID=Europe/Berlin:20260226T203000
UID:261-13030-20260226T191500@VBWBIERSTADT E.V.
SUMMARY:TaijiDao 13er-Form für Fortgeschrittene, von GM Shen Xijing (261-13030) 
LOCATION:ehem. Robert-Koch-Schule, Venatorstr. 10, EG rechts, Venatorstraße 10, 65191 Wiesbaden
END:VEVENT
BEGIN:VEVENT
DTSTAMP:20260424T163423
DTSTART;TZID=Europe/Berlin:20260305T191500
DTEND;TZID=Europe/Berlin:20260305T203000
UID:261-13030-20260305T191500@VBWBIERSTADT E.V.
SUMMARY:TaijiDao 13er-Form für Fortgeschrittene, von GM Shen Xijing (261-13030) 
LOCATION:ehem. Robert-Koch-Schule, Venatorstr. 10, EG rechts, Venatorstraße 10, 65191 Wiesbaden
END:VEVENT
BEGIN:VEVENT
DTSTAMP:20260424T163423
DTSTART;TZID=Europe/Berlin:20260312T191500
DTEND;TZID=Europe/Berlin:20260312T203000
UID:261-13030-20260312T191500@VBWBIERSTADT E.V.
SUMMARY:TaijiDao 13er-Form für Fortgeschrittene, von GM Shen Xijing (261-13030) 
LOCATION:ehem. Robert-Koch-Schule, Venatorstr. 10, EG rechts, Venatorstraße 10, 65191 Wiesbaden
END:VEVENT
BEGIN:VEVENT
DTSTAMP:20260424T163423
DTSTART;TZID=Europe/Berlin:20260319T191500
DTEND;TZID=Europe/Berlin:20260319T203000
UID:261-13030-20260319T191500@VBWBIERSTADT E.V.
SUMMARY:TaijiDao 13er-Form für Fortgeschrittene, von GM Shen Xijing (261-13030) 
LOCATION:ehem. Robert-Koch-Schule, Venatorstr. 10, EG rechts, Venatorstraße 10, 65191 Wiesbaden
END:VEVENT
BEGIN:VEVENT
DTSTAMP:20260424T163423
DTSTART;TZID=Europe/Berlin:20260326T191500
DTEND;TZID=Europe/Berlin:20260326T203000
UID:261-13030-20260326T191500@VBWBIERSTADT E.V.
SUMMARY:TaijiDao 13er-Form für Fortgeschrittene, von GM Shen Xijing (261-13030) 
LOCATION:ehem. Robert-Koch-Schule, Venatorstr. 10, EG rechts, Venatorstraße 10, 65191 Wiesbaden
END:VEVENT
BEGIN:VEVENT
DTSTAMP:20260424T163423
DTSTART;TZID=Europe/Berlin:20260416T191500
DTEND;TZID=Europe/Berlin:20260416T203000
UID:261-13030-20260416T191500@VBWBIERSTADT E.V.
SUMMARY:TaijiDao 13er-Form für Fortgeschrittene, von GM Shen Xijing (261-13030) 
LOCATION:ehem. Robert-Koch-Schule, Venatorstr. 10, EG rechts, Venatorstraße 10, 65191 Wiesbaden
END:VEVENT
BEGIN:VEVENT
DTSTAMP:20260424T163423
DTSTART;TZID=Europe/Berlin:20260423T191500
DTEND;TZID=Europe/Berlin:20260423T203000
UID:261-13030-20260423T191500@VBWBIERSTADT E.V.
SUMMARY:TaijiDao 13er-Form für Fortgeschrittene, von GM Shen Xijing (261-13030) 
LOCATION:ehem. Robert-Koch-Schule, Venatorstr. 10, EG rechts, Venatorstraße 10, 65191 Wiesbaden
END:VEVENT
BEGIN:VEVENT
DTSTAMP:20260424T163423
DTSTART;TZID=Europe/Berlin:20260430T191500
DTEND;TZID=Europe/Berlin:20260430T203000
UID:261-13030-20260430T191500@VBWBIERSTADT E.V.
SUMMARY:TaijiDao 13er-Form für Fortgeschrittene, von GM Shen Xijing (261-13030) 
LOCATION:ehem. Robert-Koch-Schule, Venatorstr. 10, EG rechts, Venatorstraße 10, 65191 Wiesbaden
END:VEVENT
BEGIN:VEVENT
DTSTAMP:20260424T163423
DTSTART;TZID=Europe/Berlin:20260507T191500
DTEND;TZID=Europe/Berlin:20260507T203000
UID:261-13030-20260507T191500@VBWBIERSTADT E.V.
SUMMARY:TaijiDao 13er-Form für Fortgeschrittene, von GM Shen Xijing (261-13030) 
LOCATION:ehem. Robert-Koch-Schule, Venatorstr. 10, EG rechts, Venatorstraße 10, 65191 Wiesbaden
END:VEVENT
END:VCALENDAR