BEGIN:VCALENDAR
VERSION:2.0
PRODID:https://www.kufer.de/kuferweb / DE
METHOD:PUBLISH
CALSCALE:GREGORIAN
X-WR-TIMEZONE:Europe/Berlin
BEGIN:VTIMEZONE
TZID:Europe/Berlin
X-LIC-LOCATION:Europe/Berlin
BEGIN:DAYLIGHT
TZOFFSETFROM:+0100
TZOFFSETTO:+0200
TZNAME:CEST
DTSTART:19700329T020000
RRULE:FREQ=YEARLY;INTERVAL=1;BYDAY=-1SU;BYMONTH=3
END:DAYLIGHT
BEGIN:STANDARD
TZOFFSETFROM:+0200
TZOFFSETTO:+0100
TZNAME:CET
DTSTART:19701025T030000
RRULE:FREQ=YEARLY;INTERVAL=1;BYDAY=-1SU;BYMONTH=10
END:STANDARD
END:VTIMEZONE
BEGIN:VEVENT
DTSTAMP:20260422T123511
DTSTART;TZID=Europe/Berlin:20260521T190000
DTEND;TZID=Europe/Berlin:20260521T203000
UID:261-15007-20260521T190000@VBWBIERSTADT E.V.
SUMMARY:Meditation und Qigong (261-15007) 
LOCATION:ehem. Robert-Koch-Schule, Venatorstr. 10, EG rechts, Venatorstraße 10, 65191 Wiesbaden
END:VEVENT
BEGIN:VEVENT
DTSTAMP:20260422T123511
DTSTART;TZID=Europe/Berlin:20260528T190000
DTEND;TZID=Europe/Berlin:20260528T203000
UID:261-15007-20260528T190000@VBWBIERSTADT E.V.
SUMMARY:Meditation und Qigong (261-15007) 
LOCATION:ehem. Robert-Koch-Schule, Venatorstr. 10, EG rechts, Venatorstraße 10, 65191 Wiesbaden
END:VEVENT
BEGIN:VEVENT
DTSTAMP:20260422T123511
DTSTART;TZID=Europe/Berlin:20260618T190000
DTEND;TZID=Europe/Berlin:20260618T203000
UID:261-15007-20260618T190000@VBWBIERSTADT E.V.
SUMMARY:Meditation und Qigong (261-15007) 
LOCATION:ehem. Robert-Koch-Schule, Venatorstr. 10, EG rechts, Venatorstraße 10, 65191 Wiesbaden
END:VEVENT
BEGIN:VEVENT
DTSTAMP:20260422T123511
DTSTART;TZID=Europe/Berlin:20260625T190000
DTEND;TZID=Europe/Berlin:20260625T203000
UID:261-15007-20260625T190000@VBWBIERSTADT E.V.
SUMMARY:Meditation und Qigong (261-15007) 
LOCATION:ehem. Robert-Koch-Schule, Venatorstr. 10, EG rechts, Venatorstraße 10, 65191 Wiesbaden
END:VEVENT
END:VCALENDAR