BEGIN:VCALENDAR
VERSION:2.0
PRODID:https://www.kufer.de/kuferweb / DE
METHOD:PUBLISH
CALSCALE:GREGORIAN
X-WR-TIMEZONE:Europe/Berlin
BEGIN:VTIMEZONE
TZID:Europe/Berlin
X-LIC-LOCATION:Europe/Berlin
BEGIN:DAYLIGHT
TZOFFSETFROM:+0100
TZOFFSETTO:+0200
TZNAME:CEST
DTSTART:19700329T020000
RRULE:FREQ=YEARLY;INTERVAL=1;BYDAY=-1SU;BYMONTH=3
END:DAYLIGHT
BEGIN:STANDARD
TZOFFSETFROM:+0200
TZOFFSETTO:+0100
TZNAME:CET
DTSTART:19701025T030000
RRULE:FREQ=YEARLY;INTERVAL=1;BYDAY=-1SU;BYMONTH=10
END:STANDARD
END:VTIMEZONE
BEGIN:VEVENT
DTSTAMP:20260422T202857
DTSTART;TZID=Europe/Berlin:20260122T090000
DTEND;TZID=Europe/Berlin:20260122T103000
UID:261-21103-20260122T090000@VBWBIERSTADT E.V.
SUMMARY:Englisch A1.3 Auffrischungskurs (261-21103) 
LOCATION:ehem. Robert-Koch-Schule, Hofstr. 2, EG rechts, Hofstraße 2, 65191 Wiesbaden
END:VEVENT
BEGIN:VEVENT
DTSTAMP:20260422T202857
DTSTART;TZID=Europe/Berlin:20260129T090000
DTEND;TZID=Europe/Berlin:20260129T103000
UID:261-21103-20260129T090000@VBWBIERSTADT E.V.
SUMMARY:Englisch A1.3 Auffrischungskurs (261-21103) 
LOCATION:ehem. Robert-Koch-Schule, Hofstr. 2, EG rechts, Hofstraße 2, 65191 Wiesbaden
END:VEVENT
BEGIN:VEVENT
DTSTAMP:20260422T202857
DTSTART;TZID=Europe/Berlin:20260205T090000
DTEND;TZID=Europe/Berlin:20260205T103000
UID:261-21103-20260205T090000@VBWBIERSTADT E.V.
SUMMARY:Englisch A1.3 Auffrischungskurs (261-21103) 
LOCATION:ehem. Robert-Koch-Schule, Hofstr. 2, EG rechts, Hofstraße 2, 65191 Wiesbaden
END:VEVENT
BEGIN:VEVENT
DTSTAMP:20260422T202857
DTSTART;TZID=Europe/Berlin:20260212T090000
DTEND;TZID=Europe/Berlin:20260212T103000
UID:261-21103-20260212T090000@VBWBIERSTADT E.V.
SUMMARY:Englisch A1.3 Auffrischungskurs (261-21103) 
LOCATION:ehem. Robert-Koch-Schule, Hofstr. 2, EG rechts, Hofstraße 2, 65191 Wiesbaden
END:VEVENT
BEGIN:VEVENT
DTSTAMP:20260422T202857
DTSTART;TZID=Europe/Berlin:20260219T090000
DTEND;TZID=Europe/Berlin:20260219T103000
UID:261-21103-20260219T090000@VBWBIERSTADT E.V.
SUMMARY:Englisch A1.3 Auffrischungskurs (261-21103) 
LOCATION:ehem. Robert-Koch-Schule, Hofstr. 2, EG rechts, Hofstraße 2, 65191 Wiesbaden
END:VEVENT
BEGIN:VEVENT
DTSTAMP:20260422T202857
DTSTART;TZID=Europe/Berlin:20260226T090000
DTEND;TZID=Europe/Berlin:20260226T103000
UID:261-21103-20260226T090000@VBWBIERSTADT E.V.
SUMMARY:Englisch A1.3 Auffrischungskurs (261-21103) 
LOCATION:ehem. Robert-Koch-Schule, Hofstr. 2, EG rechts, Hofstraße 2, 65191 Wiesbaden
END:VEVENT
BEGIN:VEVENT
DTSTAMP:20260422T202857
DTSTART;TZID=Europe/Berlin:20260305T090000
DTEND;TZID=Europe/Berlin:20260305T103000
UID:261-21103-20260305T090000@VBWBIERSTADT E.V.
SUMMARY:Englisch A1.3 Auffrischungskurs (261-21103) 
LOCATION:ehem. Robert-Koch-Schule, Hofstr. 2, EG rechts, Hofstraße 2, 65191 Wiesbaden
END:VEVENT
BEGIN:VEVENT
DTSTAMP:20260422T202857
DTSTART;TZID=Europe/Berlin:20260312T090000
DTEND;TZID=Europe/Berlin:20260312T103000
UID:261-21103-20260312T090000@VBWBIERSTADT E.V.
SUMMARY:Englisch A1.3 Auffrischungskurs (261-21103) 
LOCATION:ehem. Robert-Koch-Schule, Hofstr. 2, EG rechts, Hofstraße 2, 65191 Wiesbaden
END:VEVENT
BEGIN:VEVENT
DTSTAMP:20260422T202857
DTSTART;TZID=Europe/Berlin:20260319T090000
DTEND;TZID=Europe/Berlin:20260319T103000
UID:261-21103-20260319T090000@VBWBIERSTADT E.V.
SUMMARY:Englisch A1.3 Auffrischungskurs (261-21103) 
LOCATION:ehem. Robert-Koch-Schule, Hofstr. 2, EG rechts, Hofstraße 2, 65191 Wiesbaden
END:VEVENT
BEGIN:VEVENT
DTSTAMP:20260422T202857
DTSTART;TZID=Europe/Berlin:20260326T090000
DTEND;TZID=Europe/Berlin:20260326T103000
UID:261-21103-20260326T090000@VBWBIERSTADT E.V.
SUMMARY:Englisch A1.3 Auffrischungskurs (261-21103) 
LOCATION:ehem. Robert-Koch-Schule, Hofstr. 2, EG rechts, Hofstraße 2, 65191 Wiesbaden
END:VEVENT
BEGIN:VEVENT
DTSTAMP:20260422T202857
DTSTART;TZID=Europe/Berlin:20260409T090000
DTEND;TZID=Europe/Berlin:20260409T103000
UID:261-21103-20260409T090000@VBWBIERSTADT E.V.
DESCRIPTION:in den Ferien
SUMMARY:Englisch A1.3 Auffrischungskurs (261-21103) 
LOCATION:ehem. Robert-Koch-Schule, Hofstr. 2, EG rechts, Hofstraße 2, 65191 Wiesbaden
END:VEVENT
BEGIN:VEVENT
DTSTAMP:20260422T202857
DTSTART;TZID=Europe/Berlin:20260416T090000
DTEND;TZID=Europe/Berlin:20260416T103000
UID:261-21103-20260416T090000@VBWBIERSTADT E.V.
SUMMARY:Englisch A1.3 Auffrischungskurs (261-21103) 
LOCATION:ehem. Robert-Koch-Schule, Hofstr. 2, EG rechts, Hofstraße 2, 65191 Wiesbaden
END:VEVENT
BEGIN:VEVENT
DTSTAMP:20260422T202857
DTSTART;TZID=Europe/Berlin:20260423T090000
DTEND;TZID=Europe/Berlin:20260423T103000
UID:261-21103-20260423T090000@VBWBIERSTADT E.V.
SUMMARY:Englisch A1.3 Auffrischungskurs (261-21103) 
LOCATION:ehem. Robert-Koch-Schule, Hofstr. 2, EG rechts, Hofstraße 2, 65191 Wiesbaden
END:VEVENT
BEGIN:VEVENT
DTSTAMP:20260422T202857
DTSTART;TZID=Europe/Berlin:20260430T090000
DTEND;TZID=Europe/Berlin:20260430T103000
UID:261-21103-20260430T090000@VBWBIERSTADT E.V.
SUMMARY:Englisch A1.3 Auffrischungskurs (261-21103) 
LOCATION:ehem. Robert-Koch-Schule, Hofstr. 2, EG rechts, Hofstraße 2, 65191 Wiesbaden
END:VEVENT
BEGIN:VEVENT
DTSTAMP:20260422T202857
DTSTART;TZID=Europe/Berlin:20260521T090000
DTEND;TZID=Europe/Berlin:20260521T103000
UID:261-21103-20260521T090000@VBWBIERSTADT E.V.
DESCRIPTION:Ersatz für Ausfall am 07.05.2026 / Gruppe geht frühstücken
SUMMARY:Englisch A1.3 Auffrischungskurs (261-21103) 
LOCATION:ehem. Robert-Koch-Schule, Hofstr. 2, EG rechts, Hofstraße 2, 65191 Wiesbaden
END:VEVENT
END:VCALENDAR