BEGIN:VCALENDAR
VERSION:2.0
PRODID:https://www.kufer.de/kuferweb / DE
METHOD:PUBLISH
CALSCALE:GREGORIAN
X-WR-TIMEZONE:Europe/Berlin
BEGIN:VTIMEZONE
TZID:Europe/Berlin
X-LIC-LOCATION:Europe/Berlin
BEGIN:DAYLIGHT
TZOFFSETFROM:+0100
TZOFFSETTO:+0200
TZNAME:CEST
DTSTART:19700329T020000
RRULE:FREQ=YEARLY;INTERVAL=1;BYDAY=-1SU;BYMONTH=3
END:DAYLIGHT
BEGIN:STANDARD
TZOFFSETFROM:+0200
TZOFFSETTO:+0100
TZNAME:CET
DTSTART:19701025T030000
RRULE:FREQ=YEARLY;INTERVAL=1;BYDAY=-1SU;BYMONTH=10
END:STANDARD
END:VTIMEZONE
BEGIN:VEVENT
DTSTAMP:20260422T202801
DTSTART;TZID=Europe/Berlin:20260203T103000
DTEND;TZID=Europe/Berlin:20260203T120000
UID:261-21130-20260203T103000@VBWBIERSTADT E.V.
SUMMARY:Englisch A2.1 Fit für den Urlaub (261-21130) 
LOCATION:Gemeinschaftshaus, Sitzungszimmer im Obergeschoss, Biegerstraße 17, 65191 Wiesbaden
END:VEVENT
BEGIN:VEVENT
DTSTAMP:20260422T202801
DTSTART;TZID=Europe/Berlin:20260210T103000
DTEND;TZID=Europe/Berlin:20260210T120000
UID:261-21130-20260210T103000@VBWBIERSTADT E.V.
SUMMARY:Englisch A2.1 Fit für den Urlaub (261-21130) 
LOCATION:Gemeinschaftshaus, Sitzungszimmer im Obergeschoss, Biegerstraße 17, 65191 Wiesbaden
END:VEVENT
BEGIN:VEVENT
DTSTAMP:20260422T202801
DTSTART;TZID=Europe/Berlin:20260224T103000
DTEND;TZID=Europe/Berlin:20260224T120000
UID:261-21130-20260224T103000@VBWBIERSTADT E.V.
SUMMARY:Englisch A2.1 Fit für den Urlaub (261-21130) 
LOCATION:Gemeinschaftshaus, Sitzungszimmer im Obergeschoss, Biegerstraße 17, 65191 Wiesbaden
END:VEVENT
BEGIN:VEVENT
DTSTAMP:20260422T202801
DTSTART;TZID=Europe/Berlin:20260303T103000
DTEND;TZID=Europe/Berlin:20260303T120000
UID:261-21130-20260303T103000@VBWBIERSTADT E.V.
SUMMARY:Englisch A2.1 Fit für den Urlaub (261-21130) 
LOCATION:Gemeinschaftshaus, Sitzungszimmer im Obergeschoss, Biegerstraße 17, 65191 Wiesbaden
END:VEVENT
BEGIN:VEVENT
DTSTAMP:20260422T202801
DTSTART;TZID=Europe/Berlin:20260310T103000
DTEND;TZID=Europe/Berlin:20260310T120000
UID:261-21130-20260310T103000@VBWBIERSTADT E.V.
SUMMARY:Englisch A2.1 Fit für den Urlaub (261-21130) 
LOCATION:Gemeinschaftshaus, Sitzungszimmer im Obergeschoss, Biegerstraße 17, 65191 Wiesbaden
END:VEVENT
BEGIN:VEVENT
DTSTAMP:20260422T202801
DTSTART;TZID=Europe/Berlin:20260317T103000
DTEND;TZID=Europe/Berlin:20260317T120000
UID:261-21130-20260317T103000@VBWBIERSTADT E.V.
SUMMARY:Englisch A2.1 Fit für den Urlaub (261-21130) 
LOCATION:Gemeinschaftshaus, Sitzungszimmer im Obergeschoss, Biegerstraße 17, 65191 Wiesbaden
END:VEVENT
BEGIN:VEVENT
DTSTAMP:20260422T202801
DTSTART;TZID=Europe/Berlin:20260324T103000
DTEND;TZID=Europe/Berlin:20260324T120000
UID:261-21130-20260324T103000@VBWBIERSTADT E.V.
SUMMARY:Englisch A2.1 Fit für den Urlaub (261-21130) 
LOCATION:Gemeinschaftshaus, Sitzungszimmer im Obergeschoss, Biegerstraße 17, 65191 Wiesbaden
END:VEVENT
BEGIN:VEVENT
DTSTAMP:20260422T202801
DTSTART;TZID=Europe/Berlin:20260414T103000
DTEND;TZID=Europe/Berlin:20260414T120000
UID:261-21130-20260414T103000@VBWBIERSTADT E.V.
SUMMARY:Englisch A2.1 Fit für den Urlaub (261-21130) 
LOCATION:Gemeinschaftshaus, Sitzungszimmer im Obergeschoss, Biegerstraße 17, 65191 Wiesbaden
END:VEVENT
BEGIN:VEVENT
DTSTAMP:20260422T202801
DTSTART;TZID=Europe/Berlin:20260421T103000
DTEND;TZID=Europe/Berlin:20260421T120000
UID:261-21130-20260421T103000@VBWBIERSTADT E.V.
SUMMARY:Englisch A2.1 Fit für den Urlaub (261-21130) 
LOCATION:Gemeinschaftshaus, Sitzungszimmer im Obergeschoss, Biegerstraße 17, 65191 Wiesbaden
END:VEVENT
BEGIN:VEVENT
DTSTAMP:20260422T202801
DTSTART;TZID=Europe/Berlin:20260505T103000
DTEND;TZID=Europe/Berlin:20260505T120000
UID:261-21130-20260505T103000@VBWBIERSTADT E.V.
SUMMARY:Englisch A2.1 Fit für den Urlaub (261-21130) 
LOCATION:Gemeinschaftshaus, Sitzungszimmer im Obergeschoss, Biegerstraße 17, 65191 Wiesbaden
END:VEVENT
BEGIN:VEVENT
DTSTAMP:20260422T202801
DTSTART;TZID=Europe/Berlin:20260512T103000
DTEND;TZID=Europe/Berlin:20260512T120000
UID:261-21130-20260512T103000@VBWBIERSTADT E.V.
SUMMARY:Englisch A2.1 Fit für den Urlaub (261-21130) 
LOCATION:Gemeinschaftshaus, Sitzungszimmer im Obergeschoss, Biegerstraße 17, 65191 Wiesbaden
END:VEVENT
BEGIN:VEVENT
DTSTAMP:20260422T202801
DTSTART;TZID=Europe/Berlin:20260519T103000
DTEND;TZID=Europe/Berlin:20260519T120000
UID:261-21130-20260519T103000@VBWBIERSTADT E.V.
SUMMARY:Englisch A2.1 Fit für den Urlaub (261-21130) 
LOCATION:Gemeinschaftshaus, Sitzungszimmer im Obergeschoss, Biegerstraße 17, 65191 Wiesbaden
END:VEVENT
BEGIN:VEVENT
DTSTAMP:20260422T202801
DTSTART;TZID=Europe/Berlin:20260526T103000
DTEND;TZID=Europe/Berlin:20260526T120000
UID:261-21130-20260526T103000@VBWBIERSTADT E.V.
SUMMARY:Englisch A2.1 Fit für den Urlaub (261-21130) 
LOCATION:Gemeinschaftshaus, Sitzungszimmer im Obergeschoss, Biegerstraße 17, 65191 Wiesbaden
END:VEVENT
BEGIN:VEVENT
DTSTAMP:20260422T202801
DTSTART;TZID=Europe/Berlin:20260602T103000
DTEND;TZID=Europe/Berlin:20260602T120000
UID:261-21130-20260602T103000@VBWBIERSTADT E.V.
SUMMARY:Englisch A2.1 Fit für den Urlaub (261-21130) 
LOCATION:Gemeinschaftshaus, Sitzungszimmer im Obergeschoss, Biegerstraße 17, 65191 Wiesbaden
END:VEVENT
BEGIN:VEVENT
DTSTAMP:20260422T202801
DTSTART;TZID=Europe/Berlin:20260609T103000
DTEND;TZID=Europe/Berlin:20260609T120000
UID:261-21130-20260609T103000@VBWBIERSTADT E.V.
DESCRIPTION:Ersatz für den 28.04
SUMMARY:Englisch A2.1 Fit für den Urlaub (261-21130) 
LOCATION:Gemeinschaftshaus, Sitzungszimmer im Obergeschoss, Biegerstraße 17, 65191 Wiesbaden
END:VEVENT
END:VCALENDAR