BEGIN:VCALENDAR
VERSION:2.0
PRODID:https://www.kufer.de/kuferweb / DE
METHOD:PUBLISH
CALSCALE:GREGORIAN
X-WR-TIMEZONE:Europe/Berlin
BEGIN:VTIMEZONE
TZID:Europe/Berlin
X-LIC-LOCATION:Europe/Berlin
BEGIN:DAYLIGHT
TZOFFSETFROM:+0100
TZOFFSETTO:+0200
TZNAME:CEST
DTSTART:19700329T020000
RRULE:FREQ=YEARLY;INTERVAL=1;BYDAY=-1SU;BYMONTH=3
END:DAYLIGHT
BEGIN:STANDARD
TZOFFSETFROM:+0200
TZOFFSETTO:+0100
TZNAME:CET
DTSTART:19701025T030000
RRULE:FREQ=YEARLY;INTERVAL=1;BYDAY=-1SU;BYMONTH=10
END:STANDARD
END:VTIMEZONE
BEGIN:VEVENT
DTSTAMP:20260422T105839
DTSTART;TZID=Europe/Berlin:20260115T193000
DTEND;TZID=Europe/Berlin:20260115T210000
UID:261-21402-20260115T193000@VBWBIERSTADT E.V.
SUMMARY:Englisch B2 Konversationskurs (261-21402) 
LOCATION:Theodor-Fliedner-Schule, Gebäude B Raum 001, Biegerstraße 15, 65191 Wiesbaden
END:VEVENT
BEGIN:VEVENT
DTSTAMP:20260422T105839
DTSTART;TZID=Europe/Berlin:20260122T193000
DTEND;TZID=Europe/Berlin:20260122T210000
UID:261-21402-20260122T193000@VBWBIERSTADT E.V.
SUMMARY:Englisch B2 Konversationskurs (261-21402) 
LOCATION:Theodor-Fliedner-Schule, Gebäude B Raum 001, Biegerstraße 15, 65191 Wiesbaden
END:VEVENT
BEGIN:VEVENT
DTSTAMP:20260422T105839
DTSTART;TZID=Europe/Berlin:20260129T193000
DTEND;TZID=Europe/Berlin:20260129T210000
UID:261-21402-20260129T193000@VBWBIERSTADT E.V.
SUMMARY:Englisch B2 Konversationskurs (261-21402) 
LOCATION:Theodor-Fliedner-Schule, Gebäude B Raum 001, Biegerstraße 15, 65191 Wiesbaden
END:VEVENT
BEGIN:VEVENT
DTSTAMP:20260422T105839
DTSTART;TZID=Europe/Berlin:20260205T193000
DTEND;TZID=Europe/Berlin:20260205T210000
UID:261-21402-20260205T193000@VBWBIERSTADT E.V.
SUMMARY:Englisch B2 Konversationskurs (261-21402) 
LOCATION:Theodor-Fliedner-Schule, Gebäude B Raum 001, Biegerstraße 15, 65191 Wiesbaden
END:VEVENT
BEGIN:VEVENT
DTSTAMP:20260422T105839
DTSTART;TZID=Europe/Berlin:20260212T193000
DTEND;TZID=Europe/Berlin:20260212T210000
UID:261-21402-20260212T193000@VBWBIERSTADT E.V.
SUMMARY:Englisch B2 Konversationskurs (261-21402) 
LOCATION:Theodor-Fliedner-Schule, Gebäude B Raum 001, Biegerstraße 15, 65191 Wiesbaden
END:VEVENT
BEGIN:VEVENT
DTSTAMP:20260422T105839
DTSTART;TZID=Europe/Berlin:20260219T193000
DTEND;TZID=Europe/Berlin:20260219T210000
UID:261-21402-20260219T193000@VBWBIERSTADT E.V.
SUMMARY:Englisch B2 Konversationskurs (261-21402) 
LOCATION:Theodor-Fliedner-Schule, Gebäude B Raum 001, Biegerstraße 15, 65191 Wiesbaden
END:VEVENT
BEGIN:VEVENT
DTSTAMP:20260422T105839
DTSTART;TZID=Europe/Berlin:20260226T193000
DTEND;TZID=Europe/Berlin:20260226T210000
UID:261-21402-20260226T193000@VBWBIERSTADT E.V.
SUMMARY:Englisch B2 Konversationskurs (261-21402) 
LOCATION:Theodor-Fliedner-Schule, Gebäude B Raum 001, Biegerstraße 15, 65191 Wiesbaden
END:VEVENT
BEGIN:VEVENT
DTSTAMP:20260422T105839
DTSTART;TZID=Europe/Berlin:20260305T193000
DTEND;TZID=Europe/Berlin:20260305T210000
UID:261-21402-20260305T193000@VBWBIERSTADT E.V.
DESCRIPTION:Veranstaltung in der TFS, Kurs findet statt aber im 1. Stock
SUMMARY:Englisch B2 Konversationskurs (261-21402) 
LOCATION:Theodor-Fliedner-Schule, Gebäude B Raum 001, Biegerstraße 15, 65191 Wiesbaden
END:VEVENT
BEGIN:VEVENT
DTSTAMP:20260422T105839
DTSTART;TZID=Europe/Berlin:20260312T193000
DTEND;TZID=Europe/Berlin:20260312T210000
UID:261-21402-20260312T193000@VBWBIERSTADT E.V.
SUMMARY:Englisch B2 Konversationskurs (261-21402) 
LOCATION:Theodor-Fliedner-Schule, Gebäude B Raum 001, Biegerstraße 15, 65191 Wiesbaden
END:VEVENT
BEGIN:VEVENT
DTSTAMP:20260422T105839
DTSTART;TZID=Europe/Berlin:20260319T193000
DTEND;TZID=Europe/Berlin:20260319T210000
UID:261-21402-20260319T193000@VBWBIERSTADT E.V.
SUMMARY:Englisch B2 Konversationskurs (261-21402) 
LOCATION:Theodor-Fliedner-Schule, Gebäude B Raum 001, Biegerstraße 15, 65191 Wiesbaden
END:VEVENT
BEGIN:VEVENT
DTSTAMP:20260422T105839
DTSTART;TZID=Europe/Berlin:20260326T193000
DTEND;TZID=Europe/Berlin:20260326T210000
UID:261-21402-20260326T193000@VBWBIERSTADT E.V.
SUMMARY:Englisch B2 Konversationskurs (261-21402) 
LOCATION:Theodor-Fliedner-Schule, Gebäude B Raum 001, Biegerstraße 15, 65191 Wiesbaden
END:VEVENT
BEGIN:VEVENT
DTSTAMP:20260422T105839
DTSTART;TZID=Europe/Berlin:20260416T193000
DTEND;TZID=Europe/Berlin:20260416T210000
UID:261-21402-20260416T193000@VBWBIERSTADT E.V.
SUMMARY:Englisch B2 Konversationskurs (261-21402) 
LOCATION:Theodor-Fliedner-Schule, Gebäude B Raum 001, Biegerstraße 15, 65191 Wiesbaden
END:VEVENT
BEGIN:VEVENT
DTSTAMP:20260422T105839
DTSTART;TZID=Europe/Berlin:20260423T193000
DTEND;TZID=Europe/Berlin:20260423T210000
UID:261-21402-20260423T193000@VBWBIERSTADT E.V.
SUMMARY:Englisch B2 Konversationskurs (261-21402) 
LOCATION:Theodor-Fliedner-Schule, Gebäude B Raum 001, Biegerstraße 15, 65191 Wiesbaden
END:VEVENT
BEGIN:VEVENT
DTSTAMP:20260422T105839
DTSTART;TZID=Europe/Berlin:20260430T193000
DTEND;TZID=Europe/Berlin:20260430T210000
UID:261-21402-20260430T193000@VBWBIERSTADT E.V.
SUMMARY:Englisch B2 Konversationskurs (261-21402) 
LOCATION:Theodor-Fliedner-Schule, Gebäude B Raum 001, Biegerstraße 15, 65191 Wiesbaden
END:VEVENT
BEGIN:VEVENT
DTSTAMP:20260422T105839
DTSTART;TZID=Europe/Berlin:20260507T193000
DTEND;TZID=Europe/Berlin:20260507T210000
UID:261-21402-20260507T193000@VBWBIERSTADT E.V.
SUMMARY:Englisch B2 Konversationskurs (261-21402) 
LOCATION:Theodor-Fliedner-Schule, Gebäude B Raum 001, Biegerstraße 15, 65191 Wiesbaden
END:VEVENT
END:VCALENDAR