BEGIN:VCALENDAR
VERSION:2.0
PRODID:https://www.kufer.de/kuferweb / DE
METHOD:PUBLISH
CALSCALE:GREGORIAN
X-WR-TIMEZONE:Europe/Berlin
BEGIN:VTIMEZONE
TZID:Europe/Berlin
X-LIC-LOCATION:Europe/Berlin
BEGIN:DAYLIGHT
TZOFFSETFROM:+0100
TZOFFSETTO:+0200
TZNAME:CEST
DTSTART:19700329T020000
RRULE:FREQ=YEARLY;INTERVAL=1;BYDAY=-1SU;BYMONTH=3
END:DAYLIGHT
BEGIN:STANDARD
TZOFFSETFROM:+0200
TZOFFSETTO:+0100
TZNAME:CET
DTSTART:19701025T030000
RRULE:FREQ=YEARLY;INTERVAL=1;BYDAY=-1SU;BYMONTH=10
END:STANDARD
END:VTIMEZONE
BEGIN:VEVENT
DTSTAMP:20260422T142300
DTSTART;TZID=Europe/Berlin:20260204T174500
DTEND;TZID=Europe/Berlin:20260204T191500
UID:261-22216-20260204T174500@VBWBIERSTADT E.V.
SUMMARY:Französisch A2 (261-22216) 
LOCATION:Theodor-Fliedner-Schule, Gebäude B Raum 002, Biegerstraße 15, 65191 Wiesbaden
END:VEVENT
BEGIN:VEVENT
DTSTAMP:20260422T142300
DTSTART;TZID=Europe/Berlin:20260211T174500
DTEND;TZID=Europe/Berlin:20260211T191500
UID:261-22216-20260211T174500@VBWBIERSTADT E.V.
SUMMARY:Französisch A2 (261-22216) 
LOCATION:Theodor-Fliedner-Schule, Gebäude B Raum 002, Biegerstraße 15, 65191 Wiesbaden
END:VEVENT
BEGIN:VEVENT
DTSTAMP:20260422T142300
DTSTART;TZID=Europe/Berlin:20260218T174500
DTEND;TZID=Europe/Berlin:20260218T191500
UID:261-22216-20260218T174500@VBWBIERSTADT E.V.
SUMMARY:Französisch A2 (261-22216) 
LOCATION:Theodor-Fliedner-Schule, Gebäude B Raum 002, Biegerstraße 15, 65191 Wiesbaden
END:VEVENT
BEGIN:VEVENT
DTSTAMP:20260422T142300
DTSTART;TZID=Europe/Berlin:20260225T174500
DTEND;TZID=Europe/Berlin:20260225T191500
UID:261-22216-20260225T174500@VBWBIERSTADT E.V.
SUMMARY:Französisch A2 (261-22216) 
LOCATION:Theodor-Fliedner-Schule, Gebäude B Raum 002, Biegerstraße 15, 65191 Wiesbaden
END:VEVENT
BEGIN:VEVENT
DTSTAMP:20260422T142300
DTSTART;TZID=Europe/Berlin:20260304T174500
DTEND;TZID=Europe/Berlin:20260304T191500
UID:261-22216-20260304T174500@VBWBIERSTADT E.V.
SUMMARY:Französisch A2 (261-22216) 
LOCATION:Theodor-Fliedner-Schule, Gebäude B Raum 002, Biegerstraße 15, 65191 Wiesbaden
END:VEVENT
BEGIN:VEVENT
DTSTAMP:20260422T142300
DTSTART;TZID=Europe/Berlin:20260311T174500
DTEND;TZID=Europe/Berlin:20260311T191500
UID:261-22216-20260311T174500@VBWBIERSTADT E.V.
SUMMARY:Französisch A2 (261-22216) 
LOCATION:Theodor-Fliedner-Schule, Gebäude B Raum 002, Biegerstraße 15, 65191 Wiesbaden
END:VEVENT
BEGIN:VEVENT
DTSTAMP:20260422T142300
DTSTART;TZID=Europe/Berlin:20260325T174500
DTEND;TZID=Europe/Berlin:20260325T191500
UID:261-22216-20260325T174500@VBWBIERSTADT E.V.
SUMMARY:Französisch A2 (261-22216) 
LOCATION:Theodor-Fliedner-Schule, Gebäude B Raum 002, Biegerstraße 15, 65191 Wiesbaden
END:VEVENT
BEGIN:VEVENT
DTSTAMP:20260422T142300
DTSTART;TZID=Europe/Berlin:20260415T174500
DTEND;TZID=Europe/Berlin:20260415T191500
UID:261-22216-20260415T174500@VBWBIERSTADT E.V.
SUMMARY:Französisch A2 (261-22216) 
LOCATION:Theodor-Fliedner-Schule, Gebäude B Raum 002, Biegerstraße 15, 65191 Wiesbaden
END:VEVENT
BEGIN:VEVENT
DTSTAMP:20260422T142300
DTSTART;TZID=Europe/Berlin:20260422T174500
DTEND;TZID=Europe/Berlin:20260422T191500
UID:261-22216-20260422T174500@VBWBIERSTADT E.V.
SUMMARY:Französisch A2 (261-22216) 
LOCATION:Theodor-Fliedner-Schule, Gebäude B Raum 002, Biegerstraße 15, 65191 Wiesbaden
END:VEVENT
BEGIN:VEVENT
DTSTAMP:20260422T142300
DTSTART;TZID=Europe/Berlin:20260429T174500
DTEND;TZID=Europe/Berlin:20260429T191500
UID:261-22216-20260429T174500@VBWBIERSTADT E.V.
SUMMARY:Französisch A2 (261-22216) 
LOCATION:Theodor-Fliedner-Schule, Gebäude B Raum 002, Biegerstraße 15, 65191 Wiesbaden
END:VEVENT
BEGIN:VEVENT
DTSTAMP:20260422T142300
DTSTART;TZID=Europe/Berlin:20260506T174500
DTEND;TZID=Europe/Berlin:20260506T191500
UID:261-22216-20260506T174500@VBWBIERSTADT E.V.
SUMMARY:Französisch A2 (261-22216) 
LOCATION:Theodor-Fliedner-Schule, Gebäude B Raum 002, Biegerstraße 15, 65191 Wiesbaden
END:VEVENT
BEGIN:VEVENT
DTSTAMP:20260422T142300
DTSTART;TZID=Europe/Berlin:20260513T174500
DTEND;TZID=Europe/Berlin:20260513T191500
UID:261-22216-20260513T174500@VBWBIERSTADT E.V.
SUMMARY:Französisch A2 (261-22216) 
LOCATION:Theodor-Fliedner-Schule, Gebäude B Raum 002, Biegerstraße 15, 65191 Wiesbaden
END:VEVENT
BEGIN:VEVENT
DTSTAMP:20260422T142300
DTSTART;TZID=Europe/Berlin:20260520T174500
DTEND;TZID=Europe/Berlin:20260520T191500
UID:261-22216-20260520T174500@VBWBIERSTADT E.V.
SUMMARY:Französisch A2 (261-22216) 
LOCATION:Theodor-Fliedner-Schule, Gebäude B Raum 002, Biegerstraße 15, 65191 Wiesbaden
END:VEVENT
BEGIN:VEVENT
DTSTAMP:20260422T142300
DTSTART;TZID=Europe/Berlin:20260527T174500
DTEND;TZID=Europe/Berlin:20260527T191500
UID:261-22216-20260527T174500@VBWBIERSTADT E.V.
SUMMARY:Französisch A2 (261-22216) 
LOCATION:Theodor-Fliedner-Schule, Gebäude B Raum 002, Biegerstraße 15, 65191 Wiesbaden
END:VEVENT
BEGIN:VEVENT
DTSTAMP:20260422T142300
DTSTART;TZID=Europe/Berlin:20260603T174500
DTEND;TZID=Europe/Berlin:20260603T191500
UID:261-22216-20260603T174500@VBWBIERSTADT E.V.
DESCRIPTION:Ersatz für 18.03
SUMMARY:Französisch A2 (261-22216) 
LOCATION:Theodor-Fliedner-Schule, Gebäude B Raum 002, Biegerstraße 15, 65191 Wiesbaden
END:VEVENT
END:VCALENDAR