BEGIN:VCALENDAR
VERSION:2.0
PRODID:https://www.kufer.de/kuferweb / DE
METHOD:PUBLISH
CALSCALE:GREGORIAN
X-WR-TIMEZONE:Europe/Berlin
BEGIN:VTIMEZONE
TZID:Europe/Berlin
X-LIC-LOCATION:Europe/Berlin
BEGIN:DAYLIGHT
TZOFFSETFROM:+0100
TZOFFSETTO:+0200
TZNAME:CEST
DTSTART:19700329T020000
RRULE:FREQ=YEARLY;INTERVAL=1;BYDAY=-1SU;BYMONTH=3
END:DAYLIGHT
BEGIN:STANDARD
TZOFFSETFROM:+0200
TZOFFSETTO:+0100
TZNAME:CET
DTSTART:19701025T030000
RRULE:FREQ=YEARLY;INTERVAL=1;BYDAY=-1SU;BYMONTH=10
END:STANDARD
END:VTIMEZONE
BEGIN:VEVENT
DTSTAMP:20260422T155915
DTSTART;TZID=Europe/Berlin:20260205T174500
DTEND;TZID=Europe/Berlin:20260205T191500
UID:261-22221-20260205T174500@VBWBIERSTADT E.V.
SUMMARY:Französisch A2 (261-22221) 
LOCATION:Theodor-Fliedner-Schule, Gebäude B Raum 002, Biegerstraße 15, 65191 Wiesbaden
END:VEVENT
BEGIN:VEVENT
DTSTAMP:20260422T155915
DTSTART;TZID=Europe/Berlin:20260212T174500
DTEND;TZID=Europe/Berlin:20260212T191500
UID:261-22221-20260212T174500@VBWBIERSTADT E.V.
SUMMARY:Französisch A2 (261-22221) 
LOCATION:Theodor-Fliedner-Schule, Gebäude B Raum 002, Biegerstraße 15, 65191 Wiesbaden
END:VEVENT
BEGIN:VEVENT
DTSTAMP:20260422T155915
DTSTART;TZID=Europe/Berlin:20260226T174500
DTEND;TZID=Europe/Berlin:20260226T191500
UID:261-22221-20260226T174500@VBWBIERSTADT E.V.
SUMMARY:Französisch A2 (261-22221) 
LOCATION:Theodor-Fliedner-Schule, Gebäude B Raum 002, Biegerstraße 15, 65191 Wiesbaden
END:VEVENT
BEGIN:VEVENT
DTSTAMP:20260422T155915
DTSTART;TZID=Europe/Berlin:20260305T174500
DTEND;TZID=Europe/Berlin:20260305T191500
UID:261-22221-20260305T174500@VBWBIERSTADT E.V.
DESCRIPTION:Veranstaltung in der TFS, Kurs findet im 1.OG statt
SUMMARY:Französisch A2 (261-22221) 
LOCATION:Theodor-Fliedner-Schule, Gebäude B Raum 002, Biegerstraße 15, 65191 Wiesbaden
END:VEVENT
BEGIN:VEVENT
DTSTAMP:20260422T155915
DTSTART;TZID=Europe/Berlin:20260312T174500
DTEND;TZID=Europe/Berlin:20260312T191500
UID:261-22221-20260312T174500@VBWBIERSTADT E.V.
SUMMARY:Französisch A2 (261-22221) 
LOCATION:Theodor-Fliedner-Schule, Gebäude B Raum 002, Biegerstraße 15, 65191 Wiesbaden
END:VEVENT
BEGIN:VEVENT
DTSTAMP:20260422T155915
DTSTART;TZID=Europe/Berlin:20260319T174500
DTEND;TZID=Europe/Berlin:20260319T191500
UID:261-22221-20260319T174500@VBWBIERSTADT E.V.
SUMMARY:Französisch A2 (261-22221) 
LOCATION:Theodor-Fliedner-Schule, Gebäude B Raum 002, Biegerstraße 15, 65191 Wiesbaden
END:VEVENT
BEGIN:VEVENT
DTSTAMP:20260422T155915
DTSTART;TZID=Europe/Berlin:20260326T174500
DTEND;TZID=Europe/Berlin:20260326T191500
UID:261-22221-20260326T174500@VBWBIERSTADT E.V.
SUMMARY:Französisch A2 (261-22221) 
LOCATION:Theodor-Fliedner-Schule, Gebäude B Raum 002, Biegerstraße 15, 65191 Wiesbaden
END:VEVENT
BEGIN:VEVENT
DTSTAMP:20260422T155915
DTSTART;TZID=Europe/Berlin:20260416T174500
DTEND;TZID=Europe/Berlin:20260416T191500
UID:261-22221-20260416T174500@VBWBIERSTADT E.V.
SUMMARY:Französisch A2 (261-22221) 
LOCATION:Theodor-Fliedner-Schule, Gebäude B Raum 002, Biegerstraße 15, 65191 Wiesbaden
END:VEVENT
BEGIN:VEVENT
DTSTAMP:20260422T155915
DTSTART;TZID=Europe/Berlin:20260423T174500
DTEND;TZID=Europe/Berlin:20260423T191500
UID:261-22221-20260423T174500@VBWBIERSTADT E.V.
SUMMARY:Französisch A2 (261-22221) 
LOCATION:Theodor-Fliedner-Schule, Gebäude B Raum 002, Biegerstraße 15, 65191 Wiesbaden
END:VEVENT
BEGIN:VEVENT
DTSTAMP:20260422T155915
DTSTART;TZID=Europe/Berlin:20260430T174500
DTEND;TZID=Europe/Berlin:20260430T191500
UID:261-22221-20260430T174500@VBWBIERSTADT E.V.
SUMMARY:Französisch A2 (261-22221) 
LOCATION:Theodor-Fliedner-Schule, Gebäude B Raum 002, Biegerstraße 15, 65191 Wiesbaden
END:VEVENT
BEGIN:VEVENT
DTSTAMP:20260422T155915
DTSTART;TZID=Europe/Berlin:20260507T174500
DTEND;TZID=Europe/Berlin:20260507T191500
UID:261-22221-20260507T174500@VBWBIERSTADT E.V.
SUMMARY:Französisch A2 (261-22221) 
LOCATION:Theodor-Fliedner-Schule, Gebäude B Raum 002, Biegerstraße 15, 65191 Wiesbaden
END:VEVENT
BEGIN:VEVENT
DTSTAMP:20260422T155915
DTSTART;TZID=Europe/Berlin:20260521T174500
DTEND;TZID=Europe/Berlin:20260521T191500
UID:261-22221-20260521T174500@VBWBIERSTADT E.V.
SUMMARY:Französisch A2 (261-22221) 
LOCATION:Theodor-Fliedner-Schule, Gebäude B Raum 002, Biegerstraße 15, 65191 Wiesbaden
END:VEVENT
BEGIN:VEVENT
DTSTAMP:20260422T155915
DTSTART;TZID=Europe/Berlin:20260528T174500
DTEND;TZID=Europe/Berlin:20260528T191500
UID:261-22221-20260528T174500@VBWBIERSTADT E.V.
SUMMARY:Französisch A2 (261-22221) 
LOCATION:Theodor-Fliedner-Schule, Gebäude B Raum 002, Biegerstraße 15, 65191 Wiesbaden
END:VEVENT
BEGIN:VEVENT
DTSTAMP:20260422T155915
DTSTART;TZID=Europe/Berlin:20260611T174500
DTEND;TZID=Europe/Berlin:20260611T191500
UID:261-22221-20260611T174500@VBWBIERSTADT E.V.
SUMMARY:Französisch A2 (261-22221) 
LOCATION:Theodor-Fliedner-Schule, Gebäude B Raum 002, Biegerstraße 15, 65191 Wiesbaden
END:VEVENT
END:VCALENDAR