BEGIN:VCALENDAR
VERSION:2.0
PRODID:https://www.kufer.de/kuferweb / DE
METHOD:PUBLISH
CALSCALE:GREGORIAN
X-WR-TIMEZONE:Europe/Berlin
BEGIN:VTIMEZONE
TZID:Europe/Berlin
X-LIC-LOCATION:Europe/Berlin
BEGIN:DAYLIGHT
TZOFFSETFROM:+0100
TZOFFSETTO:+0200
TZNAME:CEST
DTSTART:19700329T020000
RRULE:FREQ=YEARLY;INTERVAL=1;BYDAY=-1SU;BYMONTH=3
END:DAYLIGHT
BEGIN:STANDARD
TZOFFSETFROM:+0200
TZOFFSETTO:+0100
TZNAME:CET
DTSTART:19701025T030000
RRULE:FREQ=YEARLY;INTERVAL=1;BYDAY=-1SU;BYMONTH=10
END:STANDARD
END:VTIMEZONE
BEGIN:VEVENT
DTSTAMP:20260422T180840
DTSTART;TZID=Europe/Berlin:20260213T091500
DTEND;TZID=Europe/Berlin:20260213T104500
UID:261-22404-20260213T091500@VBWBIERSTADT E.V.
SUMMARY:Französisch A1 Konversationskurs (261-22404) 
LOCATION:ehem. Robert-Koch-Schule, Hofstr. 2, EG rechts, Hofstraße 2, 65191 Wiesbaden
END:VEVENT
BEGIN:VEVENT
DTSTAMP:20260422T180840
DTSTART;TZID=Europe/Berlin:20260220T091500
DTEND;TZID=Europe/Berlin:20260220T104500
UID:261-22404-20260220T091500@VBWBIERSTADT E.V.
SUMMARY:Französisch A1 Konversationskurs (261-22404) 
LOCATION:ehem. Robert-Koch-Schule, Hofstr. 2, EG rechts, Hofstraße 2, 65191 Wiesbaden
END:VEVENT
BEGIN:VEVENT
DTSTAMP:20260422T180840
DTSTART;TZID=Europe/Berlin:20260227T091500
DTEND;TZID=Europe/Berlin:20260227T104500
UID:261-22404-20260227T091500@VBWBIERSTADT E.V.
SUMMARY:Französisch A1 Konversationskurs (261-22404) 
LOCATION:ehem. Robert-Koch-Schule, Hofstr. 2, EG rechts, Hofstraße 2, 65191 Wiesbaden
END:VEVENT
BEGIN:VEVENT
DTSTAMP:20260422T180840
DTSTART;TZID=Europe/Berlin:20260306T091500
DTEND;TZID=Europe/Berlin:20260306T104500
UID:261-22404-20260306T091500@VBWBIERSTADT E.V.
SUMMARY:Französisch A1 Konversationskurs (261-22404) 
LOCATION:ehem. Robert-Koch-Schule, Hofstr. 2, EG rechts, Hofstraße 2, 65191 Wiesbaden
END:VEVENT
BEGIN:VEVENT
DTSTAMP:20260422T180840
DTSTART;TZID=Europe/Berlin:20260313T091500
DTEND;TZID=Europe/Berlin:20260313T104500
UID:261-22404-20260313T091500@VBWBIERSTADT E.V.
SUMMARY:Französisch A1 Konversationskurs (261-22404) 
LOCATION:ehem. Robert-Koch-Schule, Hofstr. 2, EG rechts, Hofstraße 2, 65191 Wiesbaden
END:VEVENT
BEGIN:VEVENT
DTSTAMP:20260422T180840
DTSTART;TZID=Europe/Berlin:20260320T091500
DTEND;TZID=Europe/Berlin:20260320T104500
UID:261-22404-20260320T091500@VBWBIERSTADT E.V.
SUMMARY:Französisch A1 Konversationskurs (261-22404) 
LOCATION:ehem. Robert-Koch-Schule, Hofstr. 2, EG rechts, Hofstraße 2, 65191 Wiesbaden
END:VEVENT
BEGIN:VEVENT
DTSTAMP:20260422T180840
DTSTART;TZID=Europe/Berlin:20260327T091500
DTEND;TZID=Europe/Berlin:20260327T104500
UID:261-22404-20260327T091500@VBWBIERSTADT E.V.
SUMMARY:Französisch A1 Konversationskurs (261-22404) 
LOCATION:ehem. Robert-Koch-Schule, Hofstr. 2, EG rechts, Hofstraße 2, 65191 Wiesbaden
END:VEVENT
BEGIN:VEVENT
DTSTAMP:20260422T180840
DTSTART;TZID=Europe/Berlin:20260417T091500
DTEND;TZID=Europe/Berlin:20260417T104500
UID:261-22404-20260417T091500@VBWBIERSTADT E.V.
SUMMARY:Französisch A1 Konversationskurs (261-22404) 
LOCATION:ehem. Robert-Koch-Schule, Hofstr. 2, EG rechts, Hofstraße 2, 65191 Wiesbaden
END:VEVENT
BEGIN:VEVENT
DTSTAMP:20260422T180840
DTSTART;TZID=Europe/Berlin:20260424T091500
DTEND;TZID=Europe/Berlin:20260424T104500
UID:261-22404-20260424T091500@VBWBIERSTADT E.V.
SUMMARY:Französisch A1 Konversationskurs (261-22404) 
LOCATION:ehem. Robert-Koch-Schule, Hofstr. 2, EG rechts, Hofstraße 2, 65191 Wiesbaden
END:VEVENT
BEGIN:VEVENT
DTSTAMP:20260422T180840
DTSTART;TZID=Europe/Berlin:20260508T091500
DTEND;TZID=Europe/Berlin:20260508T104500
UID:261-22404-20260508T091500@VBWBIERSTADT E.V.
SUMMARY:Französisch A1 Konversationskurs (261-22404) 
LOCATION:ehem. Robert-Koch-Schule, Hofstr. 2, EG rechts, Hofstraße 2, 65191 Wiesbaden
END:VEVENT
BEGIN:VEVENT
DTSTAMP:20260422T180840
DTSTART;TZID=Europe/Berlin:20260515T091500
DTEND;TZID=Europe/Berlin:20260515T104500
UID:261-22404-20260515T091500@VBWBIERSTADT E.V.
SUMMARY:Französisch A1 Konversationskurs (261-22404) 
LOCATION:ehem. Robert-Koch-Schule, Hofstr. 2, EG rechts, Hofstraße 2, 65191 Wiesbaden
END:VEVENT
BEGIN:VEVENT
DTSTAMP:20260422T180840
DTSTART;TZID=Europe/Berlin:20260522T091500
DTEND;TZID=Europe/Berlin:20260522T104500
UID:261-22404-20260522T091500@VBWBIERSTADT E.V.
SUMMARY:Französisch A1 Konversationskurs (261-22404) 
LOCATION:ehem. Robert-Koch-Schule, Hofstr. 2, EG rechts, Hofstraße 2, 65191 Wiesbaden
END:VEVENT
BEGIN:VEVENT
DTSTAMP:20260422T180840
DTSTART;TZID=Europe/Berlin:20260529T091500
DTEND;TZID=Europe/Berlin:20260529T104500
UID:261-22404-20260529T091500@VBWBIERSTADT E.V.
SUMMARY:Französisch A1 Konversationskurs (261-22404) 
LOCATION:ehem. Robert-Koch-Schule, Hofstr. 2, EG rechts, Hofstraße 2, 65191 Wiesbaden
END:VEVENT
BEGIN:VEVENT
DTSTAMP:20260422T180840
DTSTART;TZID=Europe/Berlin:20260605T091500
DTEND;TZID=Europe/Berlin:20260605T104500
UID:261-22404-20260605T091500@VBWBIERSTADT E.V.
SUMMARY:Französisch A1 Konversationskurs (261-22404) 
LOCATION:ehem. Robert-Koch-Schule, Hofstr. 2, EG rechts, Hofstraße 2, 65191 Wiesbaden
END:VEVENT
BEGIN:VEVENT
DTSTAMP:20260422T180840
DTSTART;TZID=Europe/Berlin:20260612T091500
DTEND;TZID=Europe/Berlin:20260612T104500
UID:261-22404-20260612T091500@VBWBIERSTADT E.V.
DESCRIPTION:Nachholstunde vom 06.02.26
SUMMARY:Französisch A1 Konversationskurs (261-22404) 
LOCATION:ehem. Robert-Koch-Schule, Hofstr. 2, EG rechts, Hofstraße 2, 65191 Wiesbaden
END:VEVENT
END:VCALENDAR