BEGIN:VCALENDAR
VERSION:2.0
PRODID:https://www.kufer.de/kuferweb / DE
METHOD:PUBLISH
CALSCALE:GREGORIAN
X-WR-TIMEZONE:Europe/Berlin
BEGIN:VTIMEZONE
TZID:Europe/Berlin
X-LIC-LOCATION:Europe/Berlin
BEGIN:DAYLIGHT
TZOFFSETFROM:+0100
TZOFFSETTO:+0200
TZNAME:CEST
DTSTART:19700329T020000
RRULE:FREQ=YEARLY;INTERVAL=1;BYDAY=-1SU;BYMONTH=3
END:DAYLIGHT
BEGIN:STANDARD
TZOFFSETFROM:+0200
TZOFFSETTO:+0100
TZNAME:CET
DTSTART:19701025T030000
RRULE:FREQ=YEARLY;INTERVAL=1;BYDAY=-1SU;BYMONTH=10
END:STANDARD
END:VTIMEZONE
BEGIN:VEVENT
DTSTAMP:20260422T142309
DTSTART;TZID=Europe/Berlin:20260203T110000
DTEND;TZID=Europe/Berlin:20260203T123000
UID:261-22406-20260203T110000@VBWBIERSTADT E.V.
SUMMARY:Französisch B1/B2 Konversationskurs (261-22406) 
LOCATION:ehem. Robert-Koch-Schule, Hofstr. 2, EG rechts, Hofstraße 2, 65191 Wiesbaden
END:VEVENT
BEGIN:VEVENT
DTSTAMP:20260422T142309
DTSTART;TZID=Europe/Berlin:20260210T110000
DTEND;TZID=Europe/Berlin:20260210T123000
UID:261-22406-20260210T110000@VBWBIERSTADT E.V.
SUMMARY:Französisch B1/B2 Konversationskurs (261-22406) 
LOCATION:ehem. Robert-Koch-Schule, Hofstr. 2, EG rechts, Hofstraße 2, 65191 Wiesbaden
END:VEVENT
BEGIN:VEVENT
DTSTAMP:20260422T142309
DTSTART;TZID=Europe/Berlin:20260217T110000
DTEND;TZID=Europe/Berlin:20260217T123000
UID:261-22406-20260217T110000@VBWBIERSTADT E.V.
DESCRIPTION:Faschingsdienstag
SUMMARY:Französisch B1/B2 Konversationskurs (261-22406) 
LOCATION:ehem. Robert-Koch-Schule, Hofstr. 2, EG rechts, Hofstraße 2, 65191 Wiesbaden
END:VEVENT
BEGIN:VEVENT
DTSTAMP:20260422T142309
DTSTART;TZID=Europe/Berlin:20260224T110000
DTEND;TZID=Europe/Berlin:20260224T123000
UID:261-22406-20260224T110000@VBWBIERSTADT E.V.
SUMMARY:Französisch B1/B2 Konversationskurs (261-22406) 
LOCATION:ehem. Robert-Koch-Schule, Hofstr. 2, EG rechts, Hofstraße 2, 65191 Wiesbaden
END:VEVENT
BEGIN:VEVENT
DTSTAMP:20260422T142309
DTSTART;TZID=Europe/Berlin:20260303T110000
DTEND;TZID=Europe/Berlin:20260303T123000
UID:261-22406-20260303T110000@VBWBIERSTADT E.V.
SUMMARY:Französisch B1/B2 Konversationskurs (261-22406) 
LOCATION:ehem. Robert-Koch-Schule, Hofstr. 2, EG rechts, Hofstraße 2, 65191 Wiesbaden
END:VEVENT
BEGIN:VEVENT
DTSTAMP:20260422T142309
DTSTART;TZID=Europe/Berlin:20260310T110000
DTEND;TZID=Europe/Berlin:20260310T123000
UID:261-22406-20260310T110000@VBWBIERSTADT E.V.
SUMMARY:Französisch B1/B2 Konversationskurs (261-22406) 
LOCATION:ehem. Robert-Koch-Schule, Hofstr. 2, EG rechts, Hofstraße 2, 65191 Wiesbaden
END:VEVENT
BEGIN:VEVENT
DTSTAMP:20260422T142309
DTSTART;TZID=Europe/Berlin:20260317T110000
DTEND;TZID=Europe/Berlin:20260317T123000
UID:261-22406-20260317T110000@VBWBIERSTADT E.V.
SUMMARY:Französisch B1/B2 Konversationskurs (261-22406) 
LOCATION:ehem. Robert-Koch-Schule, Hofstr. 2, EG rechts, Hofstraße 2, 65191 Wiesbaden
END:VEVENT
BEGIN:VEVENT
DTSTAMP:20260422T142309
DTSTART;TZID=Europe/Berlin:20260324T110000
DTEND;TZID=Europe/Berlin:20260324T123000
UID:261-22406-20260324T110000@VBWBIERSTADT E.V.
SUMMARY:Französisch B1/B2 Konversationskurs (261-22406) 
LOCATION:ehem. Robert-Koch-Schule, Hofstr. 2, EG rechts, Hofstraße 2, 65191 Wiesbaden
END:VEVENT
BEGIN:VEVENT
DTSTAMP:20260422T142309
DTSTART;TZID=Europe/Berlin:20260414T110000
DTEND;TZID=Europe/Berlin:20260414T123000
UID:261-22406-20260414T110000@VBWBIERSTADT E.V.
SUMMARY:Französisch B1/B2 Konversationskurs (261-22406) 
LOCATION:ehem. Robert-Koch-Schule, Hofstr. 2, EG rechts, Hofstraße 2, 65191 Wiesbaden
END:VEVENT
BEGIN:VEVENT
DTSTAMP:20260422T142309
DTSTART;TZID=Europe/Berlin:20260421T110000
DTEND;TZID=Europe/Berlin:20260421T123000
UID:261-22406-20260421T110000@VBWBIERSTADT E.V.
SUMMARY:Französisch B1/B2 Konversationskurs (261-22406) 
LOCATION:ehem. Robert-Koch-Schule, Hofstr. 2, EG rechts, Hofstraße 2, 65191 Wiesbaden
END:VEVENT
BEGIN:VEVENT
DTSTAMP:20260422T142309
DTSTART;TZID=Europe/Berlin:20260428T110000
DTEND;TZID=Europe/Berlin:20260428T123000
UID:261-22406-20260428T110000@VBWBIERSTADT E.V.
SUMMARY:Französisch B1/B2 Konversationskurs (261-22406) 
LOCATION:ehem. Robert-Koch-Schule, Hofstr. 2, EG rechts, Hofstraße 2, 65191 Wiesbaden
END:VEVENT
BEGIN:VEVENT
DTSTAMP:20260422T142309
DTSTART;TZID=Europe/Berlin:20260505T110000
DTEND;TZID=Europe/Berlin:20260505T123000
UID:261-22406-20260505T110000@VBWBIERSTADT E.V.
SUMMARY:Französisch B1/B2 Konversationskurs (261-22406) 
LOCATION:ehem. Robert-Koch-Schule, Hofstr. 2, EG rechts, Hofstraße 2, 65191 Wiesbaden
END:VEVENT
BEGIN:VEVENT
DTSTAMP:20260422T142309
DTSTART;TZID=Europe/Berlin:20260512T110000
DTEND;TZID=Europe/Berlin:20260512T123000
UID:261-22406-20260512T110000@VBWBIERSTADT E.V.
SUMMARY:Französisch B1/B2 Konversationskurs (261-22406) 
LOCATION:ehem. Robert-Koch-Schule, Hofstr. 2, EG rechts, Hofstraße 2, 65191 Wiesbaden
END:VEVENT
BEGIN:VEVENT
DTSTAMP:20260422T142309
DTSTART;TZID=Europe/Berlin:20260519T110000
DTEND;TZID=Europe/Berlin:20260519T123000
UID:261-22406-20260519T110000@VBWBIERSTADT E.V.
SUMMARY:Französisch B1/B2 Konversationskurs (261-22406) 
LOCATION:ehem. Robert-Koch-Schule, Hofstr. 2, EG rechts, Hofstraße 2, 65191 Wiesbaden
END:VEVENT
BEGIN:VEVENT
DTSTAMP:20260422T142309
DTSTART;TZID=Europe/Berlin:20260526T110000
DTEND;TZID=Europe/Berlin:20260526T123000
UID:261-22406-20260526T110000@VBWBIERSTADT E.V.
SUMMARY:Französisch B1/B2 Konversationskurs (261-22406) 
LOCATION:ehem. Robert-Koch-Schule, Hofstr. 2, EG rechts, Hofstraße 2, 65191 Wiesbaden
END:VEVENT
END:VCALENDAR