BEGIN:VCALENDAR
VERSION:2.0
PRODID:https://www.kufer.de/kuferweb / DE
METHOD:PUBLISH
CALSCALE:GREGORIAN
X-WR-TIMEZONE:Europe/Berlin
BEGIN:VTIMEZONE
TZID:Europe/Berlin
X-LIC-LOCATION:Europe/Berlin
BEGIN:DAYLIGHT
TZOFFSETFROM:+0100
TZOFFSETTO:+0200
TZNAME:CEST
DTSTART:19700329T020000
RRULE:FREQ=YEARLY;INTERVAL=1;BYDAY=-1SU;BYMONTH=3
END:DAYLIGHT
BEGIN:STANDARD
TZOFFSETFROM:+0200
TZOFFSETTO:+0100
TZNAME:CET
DTSTART:19701025T030000
RRULE:FREQ=YEARLY;INTERVAL=1;BYDAY=-1SU;BYMONTH=10
END:STANDARD
END:VTIMEZONE
BEGIN:VEVENT
DTSTAMP:20260424T133236
DTSTART;TZID=Europe/Berlin:20260121T170000
DTEND;TZID=Europe/Berlin:20260121T183000
UID:261-23101-20260121T170000@VBWBIERSTADT E.V.
SUMMARY:Italienisch A1.2 (261-23101) 
LOCATION:Theodor-Fliedner-Schule, Gebäude B Raum 001, Biegerstraße 15, 65191 Wiesbaden
END:VEVENT
BEGIN:VEVENT
DTSTAMP:20260424T133236
DTSTART;TZID=Europe/Berlin:20260128T170000
DTEND;TZID=Europe/Berlin:20260128T183000
UID:261-23101-20260128T170000@VBWBIERSTADT E.V.
SUMMARY:Italienisch A1.2 (261-23101) 
LOCATION:Theodor-Fliedner-Schule, Gebäude B Raum 001, Biegerstraße 15, 65191 Wiesbaden
END:VEVENT
BEGIN:VEVENT
DTSTAMP:20260424T133236
DTSTART;TZID=Europe/Berlin:20260204T170000
DTEND;TZID=Europe/Berlin:20260204T183000
UID:261-23101-20260204T170000@VBWBIERSTADT E.V.
SUMMARY:Italienisch A1.2 (261-23101) 
LOCATION:Theodor-Fliedner-Schule, Gebäude B Raum 001, Biegerstraße 15, 65191 Wiesbaden
END:VEVENT
BEGIN:VEVENT
DTSTAMP:20260424T133236
DTSTART;TZID=Europe/Berlin:20260211T170000
DTEND;TZID=Europe/Berlin:20260211T183000
UID:261-23101-20260211T170000@VBWBIERSTADT E.V.
SUMMARY:Italienisch A1.2 (261-23101) 
LOCATION:Theodor-Fliedner-Schule, Gebäude B Raum 001, Biegerstraße 15, 65191 Wiesbaden
END:VEVENT
BEGIN:VEVENT
DTSTAMP:20260424T133236
DTSTART;TZID=Europe/Berlin:20260218T170000
DTEND;TZID=Europe/Berlin:20260218T183000
UID:261-23101-20260218T170000@VBWBIERSTADT E.V.
SUMMARY:Italienisch A1.2 (261-23101) 
LOCATION:Theodor-Fliedner-Schule, Gebäude B Raum 001, Biegerstraße 15, 65191 Wiesbaden
END:VEVENT
BEGIN:VEVENT
DTSTAMP:20260424T133236
DTSTART;TZID=Europe/Berlin:20260225T170000
DTEND;TZID=Europe/Berlin:20260225T183000
UID:261-23101-20260225T170000@VBWBIERSTADT E.V.
SUMMARY:Italienisch A1.2 (261-23101) 
LOCATION:Theodor-Fliedner-Schule, Gebäude B Raum 001, Biegerstraße 15, 65191 Wiesbaden
END:VEVENT
BEGIN:VEVENT
DTSTAMP:20260424T133236
DTSTART;TZID=Europe/Berlin:20260304T170000
DTEND;TZID=Europe/Berlin:20260304T183000
UID:261-23101-20260304T170000@VBWBIERSTADT E.V.
SUMMARY:Italienisch A1.2 (261-23101) 
LOCATION:Theodor-Fliedner-Schule, Gebäude B Raum 001, Biegerstraße 15, 65191 Wiesbaden
END:VEVENT
BEGIN:VEVENT
DTSTAMP:20260424T133236
DTSTART;TZID=Europe/Berlin:20260311T170000
DTEND;TZID=Europe/Berlin:20260311T183000
UID:261-23101-20260311T170000@VBWBIERSTADT E.V.
SUMMARY:Italienisch A1.2 (261-23101) 
LOCATION:Theodor-Fliedner-Schule, Gebäude B Raum 001, Biegerstraße 15, 65191 Wiesbaden
END:VEVENT
BEGIN:VEVENT
DTSTAMP:20260424T133236
DTSTART;TZID=Europe/Berlin:20260318T170000
DTEND;TZID=Europe/Berlin:20260318T183000
UID:261-23101-20260318T170000@VBWBIERSTADT E.V.
SUMMARY:Italienisch A1.2 (261-23101) 
LOCATION:Theodor-Fliedner-Schule, Gebäude B Raum 001, Biegerstraße 15, 65191 Wiesbaden
END:VEVENT
BEGIN:VEVENT
DTSTAMP:20260424T133236
DTSTART;TZID=Europe/Berlin:20260325T170000
DTEND;TZID=Europe/Berlin:20260325T183000
UID:261-23101-20260325T170000@VBWBIERSTADT E.V.
SUMMARY:Italienisch A1.2 (261-23101) 
LOCATION:Theodor-Fliedner-Schule, Gebäude B Raum 001, Biegerstraße 15, 65191 Wiesbaden
END:VEVENT
BEGIN:VEVENT
DTSTAMP:20260424T133236
DTSTART;TZID=Europe/Berlin:20260415T170000
DTEND;TZID=Europe/Berlin:20260415T183000
UID:261-23101-20260415T170000@VBWBIERSTADT E.V.
SUMMARY:Italienisch A1.2 (261-23101) 
LOCATION:Theodor-Fliedner-Schule, Gebäude B Raum 001, Biegerstraße 15, 65191 Wiesbaden
END:VEVENT
BEGIN:VEVENT
DTSTAMP:20260424T133236
DTSTART;TZID=Europe/Berlin:20260422T170000
DTEND;TZID=Europe/Berlin:20260422T183000
UID:261-23101-20260422T170000@VBWBIERSTADT E.V.
SUMMARY:Italienisch A1.2 (261-23101) 
LOCATION:Theodor-Fliedner-Schule, Gebäude B Raum 001, Biegerstraße 15, 65191 Wiesbaden
END:VEVENT
BEGIN:VEVENT
DTSTAMP:20260424T133236
DTSTART;TZID=Europe/Berlin:20260429T170000
DTEND;TZID=Europe/Berlin:20260429T183000
UID:261-23101-20260429T170000@VBWBIERSTADT E.V.
SUMMARY:Italienisch A1.2 (261-23101) 
LOCATION:Theodor-Fliedner-Schule, Gebäude B Raum 001, Biegerstraße 15, 65191 Wiesbaden
END:VEVENT
BEGIN:VEVENT
DTSTAMP:20260424T133236
DTSTART;TZID=Europe/Berlin:20260506T170000
DTEND;TZID=Europe/Berlin:20260506T183000
UID:261-23101-20260506T170000@VBWBIERSTADT E.V.
SUMMARY:Italienisch A1.2 (261-23101) 
LOCATION:Theodor-Fliedner-Schule, Gebäude B Raum 001, Biegerstraße 15, 65191 Wiesbaden
END:VEVENT
BEGIN:VEVENT
DTSTAMP:20260424T133236
DTSTART;TZID=Europe/Berlin:20260520T170000
DTEND;TZID=Europe/Berlin:20260520T183000
UID:261-23101-20260520T170000@VBWBIERSTADT E.V.
SUMMARY:Italienisch A1.2 (261-23101) 
LOCATION:Theodor-Fliedner-Schule, Gebäude B Raum 001, Biegerstraße 15, 65191 Wiesbaden
END:VEVENT
END:VCALENDAR