BEGIN:VCALENDAR
VERSION:2.0
PRODID:https://www.kufer.de/kuferweb / DE
METHOD:PUBLISH
CALSCALE:GREGORIAN
X-WR-TIMEZONE:Europe/Berlin
BEGIN:VTIMEZONE
TZID:Europe/Berlin
X-LIC-LOCATION:Europe/Berlin
BEGIN:DAYLIGHT
TZOFFSETFROM:+0100
TZOFFSETTO:+0200
TZNAME:CEST
DTSTART:19700329T020000
RRULE:FREQ=YEARLY;INTERVAL=1;BYDAY=-1SU;BYMONTH=3
END:DAYLIGHT
BEGIN:STANDARD
TZOFFSETFROM:+0200
TZOFFSETTO:+0100
TZNAME:CET
DTSTART:19701025T030000
RRULE:FREQ=YEARLY;INTERVAL=1;BYDAY=-1SU;BYMONTH=10
END:STANDARD
END:VTIMEZONE
BEGIN:VEVENT
DTSTAMP:20260424T162658
DTSTART;TZID=Europe/Berlin:20260122T153000
DTEND;TZID=Europe/Berlin:20260122T170000
UID:261-23102-20260122T153000@VBWBIERSTADT E.V.
SUMMARY:Italienisch A1.2 (261-23102) 
LOCATION:ehem. Robert-Koch-Schule, Hofstr. 2, EG rechts, Hofstraße 2, 65191 Wiesbaden
END:VEVENT
BEGIN:VEVENT
DTSTAMP:20260424T162658
DTSTART;TZID=Europe/Berlin:20260129T154500
DTEND;TZID=Europe/Berlin:20260129T171500
UID:261-23102-20260129T154500@VBWBIERSTADT E.V.
SUMMARY:Italienisch A1.2 (261-23102) 
LOCATION:ehem. Robert-Koch-Schule, Hofstr. 2, EG rechts, Hofstraße 2, 65191 Wiesbaden
END:VEVENT
BEGIN:VEVENT
DTSTAMP:20260424T162658
DTSTART;TZID=Europe/Berlin:20260205T154500
DTEND;TZID=Europe/Berlin:20260205T171500
UID:261-23102-20260205T154500@VBWBIERSTADT E.V.
SUMMARY:Italienisch A1.2 (261-23102) 
LOCATION:ehem. Robert-Koch-Schule, Hofstr. 2, EG rechts, Hofstraße 2, 65191 Wiesbaden
END:VEVENT
BEGIN:VEVENT
DTSTAMP:20260424T162658
DTSTART;TZID=Europe/Berlin:20260212T154500
DTEND;TZID=Europe/Berlin:20260212T171500
UID:261-23102-20260212T154500@VBWBIERSTADT E.V.
SUMMARY:Italienisch A1.2 (261-23102) 
LOCATION:ehem. Robert-Koch-Schule, Hofstr. 2, EG rechts, Hofstraße 2, 65191 Wiesbaden
END:VEVENT
BEGIN:VEVENT
DTSTAMP:20260424T162658
DTSTART;TZID=Europe/Berlin:20260226T154500
DTEND;TZID=Europe/Berlin:20260226T171500
UID:261-23102-20260226T154500@VBWBIERSTADT E.V.
SUMMARY:Italienisch A1.2 (261-23102) 
LOCATION:ehem. Robert-Koch-Schule, Hofstr. 2, EG rechts, Hofstraße 2, 65191 Wiesbaden
END:VEVENT
BEGIN:VEVENT
DTSTAMP:20260424T162658
DTSTART;TZID=Europe/Berlin:20260305T154500
DTEND;TZID=Europe/Berlin:20260305T171500
UID:261-23102-20260305T154500@VBWBIERSTADT E.V.
SUMMARY:Italienisch A1.2 (261-23102) 
LOCATION:ehem. Robert-Koch-Schule, Hofstr. 2, EG rechts, Hofstraße 2, 65191 Wiesbaden
END:VEVENT
BEGIN:VEVENT
DTSTAMP:20260424T162658
DTSTART;TZID=Europe/Berlin:20260319T154500
DTEND;TZID=Europe/Berlin:20260319T171500
UID:261-23102-20260319T154500@VBWBIERSTADT E.V.
SUMMARY:Italienisch A1.2 (261-23102) 
LOCATION:ehem. Robert-Koch-Schule, Hofstr. 2, EG rechts, Hofstraße 2, 65191 Wiesbaden
END:VEVENT
BEGIN:VEVENT
DTSTAMP:20260424T162658
DTSTART;TZID=Europe/Berlin:20260326T154500
DTEND;TZID=Europe/Berlin:20260326T171500
UID:261-23102-20260326T154500@VBWBIERSTADT E.V.
SUMMARY:Italienisch A1.2 (261-23102) 
LOCATION:ehem. Robert-Koch-Schule, Hofstr. 2, EG rechts, Hofstraße 2, 65191 Wiesbaden
END:VEVENT
BEGIN:VEVENT
DTSTAMP:20260424T162658
DTSTART;TZID=Europe/Berlin:20260423T154500
DTEND;TZID=Europe/Berlin:20260423T171500
UID:261-23102-20260423T154500@VBWBIERSTADT E.V.
SUMMARY:Italienisch A1.2 (261-23102) 
LOCATION:ehem. Robert-Koch-Schule, Hofstr. 2, EG rechts, Hofstraße 2, 65191 Wiesbaden
END:VEVENT
BEGIN:VEVENT
DTSTAMP:20260424T162658
DTSTART;TZID=Europe/Berlin:20260430T154500
DTEND;TZID=Europe/Berlin:20260430T171500
UID:261-23102-20260430T154500@VBWBIERSTADT E.V.
SUMMARY:Italienisch A1.2 (261-23102) 
LOCATION:ehem. Robert-Koch-Schule, Hofstr. 2, EG rechts, Hofstraße 2, 65191 Wiesbaden
END:VEVENT
BEGIN:VEVENT
DTSTAMP:20260424T162658
DTSTART;TZID=Europe/Berlin:20260507T154500
DTEND;TZID=Europe/Berlin:20260507T171500
UID:261-23102-20260507T154500@VBWBIERSTADT E.V.
SUMMARY:Italienisch A1.2 (261-23102) 
LOCATION:ehem. Robert-Koch-Schule, Hofstr. 2, EG rechts, Hofstraße 2, 65191 Wiesbaden
END:VEVENT
BEGIN:VEVENT
DTSTAMP:20260424T162658
DTSTART;TZID=Europe/Berlin:20260521T154500
DTEND;TZID=Europe/Berlin:20260521T171500
UID:261-23102-20260521T154500@VBWBIERSTADT E.V.
SUMMARY:Italienisch A1.2 (261-23102) 
LOCATION:ehem. Robert-Koch-Schule, Hofstr. 2, EG rechts, Hofstraße 2, 65191 Wiesbaden
END:VEVENT
BEGIN:VEVENT
DTSTAMP:20260424T162658
DTSTART;TZID=Europe/Berlin:20260528T154500
DTEND;TZID=Europe/Berlin:20260528T171500
UID:261-23102-20260528T154500@VBWBIERSTADT E.V.
SUMMARY:Italienisch A1.2 (261-23102) 
LOCATION:ehem. Robert-Koch-Schule, Hofstr. 2, EG rechts, Hofstraße 2, 65191 Wiesbaden
END:VEVENT
BEGIN:VEVENT
DTSTAMP:20260424T162658
DTSTART;TZID=Europe/Berlin:20260618T154500
DTEND;TZID=Europe/Berlin:20260618T171500
UID:261-23102-20260618T154500@VBWBIERSTADT E.V.
SUMMARY:Italienisch A1.2 (261-23102) 
LOCATION:ehem. Robert-Koch-Schule, Hofstr. 2, EG rechts, Hofstraße 2, 65191 Wiesbaden
END:VEVENT
BEGIN:VEVENT
DTSTAMP:20260424T162658
DTSTART;TZID=Europe/Berlin:20260625T154500
DTEND;TZID=Europe/Berlin:20260625T171500
UID:261-23102-20260625T154500@VBWBIERSTADT E.V.
SUMMARY:Italienisch A1.2 (261-23102) 
LOCATION:ehem. Robert-Koch-Schule, Hofstr. 2, EG rechts, Hofstraße 2, 65191 Wiesbaden
END:VEVENT
END:VCALENDAR