BEGIN:VCALENDAR
VERSION:2.0
PRODID:https://www.kufer.de/kuferweb / DE
METHOD:PUBLISH
CALSCALE:GREGORIAN
X-WR-TIMEZONE:Europe/Berlin
BEGIN:VTIMEZONE
TZID:Europe/Berlin
X-LIC-LOCATION:Europe/Berlin
BEGIN:DAYLIGHT
TZOFFSETFROM:+0100
TZOFFSETTO:+0200
TZNAME:CEST
DTSTART:19700329T020000
RRULE:FREQ=YEARLY;INTERVAL=1;BYDAY=-1SU;BYMONTH=3
END:DAYLIGHT
BEGIN:STANDARD
TZOFFSETFROM:+0200
TZOFFSETTO:+0100
TZNAME:CET
DTSTART:19701025T030000
RRULE:FREQ=YEARLY;INTERVAL=1;BYDAY=-1SU;BYMONTH=10
END:STANDARD
END:VTIMEZONE
BEGIN:VEVENT
DTSTAMP:20260422T203042
DTSTART;TZID=Europe/Berlin:20260129T104500
DTEND;TZID=Europe/Berlin:20260129T121500
UID:261-23103-20260129T104500@VBWBIERSTADT E.V.
SUMMARY:Italienisch A1.4 (261-23103) 
LOCATION:ehem. Robert-Koch-Schule, Hofstr. 2, EG rechts, Hofstraße 2, 65191 Wiesbaden
END:VEVENT
BEGIN:VEVENT
DTSTAMP:20260422T203042
DTSTART;TZID=Europe/Berlin:20260205T104500
DTEND;TZID=Europe/Berlin:20260205T121500
UID:261-23103-20260205T104500@VBWBIERSTADT E.V.
SUMMARY:Italienisch A1.4 (261-23103) 
LOCATION:ehem. Robert-Koch-Schule, Hofstr. 2, EG rechts, Hofstraße 2, 65191 Wiesbaden
END:VEVENT
BEGIN:VEVENT
DTSTAMP:20260422T203042
DTSTART;TZID=Europe/Berlin:20260212T104500
DTEND;TZID=Europe/Berlin:20260212T121500
UID:261-23103-20260212T104500@VBWBIERSTADT E.V.
SUMMARY:Italienisch A1.4 (261-23103) 
LOCATION:ehem. Robert-Koch-Schule, Hofstr. 2, EG rechts, Hofstraße 2, 65191 Wiesbaden
END:VEVENT
BEGIN:VEVENT
DTSTAMP:20260422T203042
DTSTART;TZID=Europe/Berlin:20260226T104500
DTEND;TZID=Europe/Berlin:20260226T121500
UID:261-23103-20260226T104500@VBWBIERSTADT E.V.
SUMMARY:Italienisch A1.4 (261-23103) 
LOCATION:ehem. Robert-Koch-Schule, Hofstr. 2, EG rechts, Hofstraße 2, 65191 Wiesbaden
END:VEVENT
BEGIN:VEVENT
DTSTAMP:20260422T203042
DTSTART;TZID=Europe/Berlin:20260305T104500
DTEND;TZID=Europe/Berlin:20260305T121500
UID:261-23103-20260305T104500@VBWBIERSTADT E.V.
SUMMARY:Italienisch A1.4 (261-23103) 
LOCATION:ehem. Robert-Koch-Schule, Hofstr. 2, EG rechts, Hofstraße 2, 65191 Wiesbaden
END:VEVENT
BEGIN:VEVENT
DTSTAMP:20260422T203042
DTSTART;TZID=Europe/Berlin:20260319T104500
DTEND;TZID=Europe/Berlin:20260319T121500
UID:261-23103-20260319T104500@VBWBIERSTADT E.V.
SUMMARY:Italienisch A1.4 (261-23103) 
LOCATION:ehem. Robert-Koch-Schule, Hofstr. 2, EG rechts, Hofstraße 2, 65191 Wiesbaden
END:VEVENT
BEGIN:VEVENT
DTSTAMP:20260422T203042
DTSTART;TZID=Europe/Berlin:20260326T104500
DTEND;TZID=Europe/Berlin:20260326T121500
UID:261-23103-20260326T104500@VBWBIERSTADT E.V.
SUMMARY:Italienisch A1.4 (261-23103) 
LOCATION:ehem. Robert-Koch-Schule, Hofstr. 2, EG rechts, Hofstraße 2, 65191 Wiesbaden
END:VEVENT
BEGIN:VEVENT
DTSTAMP:20260422T203042
DTSTART;TZID=Europe/Berlin:20260416T104500
DTEND;TZID=Europe/Berlin:20260416T121500
UID:261-23103-20260416T104500@VBWBIERSTADT E.V.
SUMMARY:Italienisch A1.4 (261-23103) 
LOCATION:ehem. Robert-Koch-Schule, Hofstr. 2, EG rechts, Hofstraße 2, 65191 Wiesbaden
END:VEVENT
BEGIN:VEVENT
DTSTAMP:20260422T203042
DTSTART;TZID=Europe/Berlin:20260423T104500
DTEND;TZID=Europe/Berlin:20260423T121500
UID:261-23103-20260423T104500@VBWBIERSTADT E.V.
SUMMARY:Italienisch A1.4 (261-23103) 
LOCATION:ehem. Robert-Koch-Schule, Hofstr. 2, EG rechts, Hofstraße 2, 65191 Wiesbaden
END:VEVENT
BEGIN:VEVENT
DTSTAMP:20260422T203042
DTSTART;TZID=Europe/Berlin:20260430T104500
DTEND;TZID=Europe/Berlin:20260430T121500
UID:261-23103-20260430T104500@VBWBIERSTADT E.V.
SUMMARY:Italienisch A1.4 (261-23103) 
LOCATION:ehem. Robert-Koch-Schule, Hofstr. 2, EG rechts, Hofstraße 2, 65191 Wiesbaden
END:VEVENT
BEGIN:VEVENT
DTSTAMP:20260422T203042
DTSTART;TZID=Europe/Berlin:20260507T104500
DTEND;TZID=Europe/Berlin:20260507T121500
UID:261-23103-20260507T104500@VBWBIERSTADT E.V.
SUMMARY:Italienisch A1.4 (261-23103) 
LOCATION:ehem. Robert-Koch-Schule, Hofstr. 2, EG rechts, Hofstraße 2, 65191 Wiesbaden
END:VEVENT
BEGIN:VEVENT
DTSTAMP:20260422T203042
DTSTART;TZID=Europe/Berlin:20260521T104500
DTEND;TZID=Europe/Berlin:20260521T121500
UID:261-23103-20260521T104500@VBWBIERSTADT E.V.
SUMMARY:Italienisch A1.4 (261-23103) 
LOCATION:ehem. Robert-Koch-Schule, Hofstr. 2, EG rechts, Hofstraße 2, 65191 Wiesbaden
END:VEVENT
BEGIN:VEVENT
DTSTAMP:20260422T203042
DTSTART;TZID=Europe/Berlin:20260528T104500
DTEND;TZID=Europe/Berlin:20260528T121500
UID:261-23103-20260528T104500@VBWBIERSTADT E.V.
SUMMARY:Italienisch A1.4 (261-23103) 
LOCATION:ehem. Robert-Koch-Schule, Hofstr. 2, EG rechts, Hofstraße 2, 65191 Wiesbaden
END:VEVENT
BEGIN:VEVENT
DTSTAMP:20260422T203042
DTSTART;TZID=Europe/Berlin:20260618T104500
DTEND;TZID=Europe/Berlin:20260618T121500
UID:261-23103-20260618T104500@VBWBIERSTADT E.V.
DESCRIPTION:Ersatz für 19.2
SUMMARY:Italienisch A1.4 (261-23103) 
LOCATION:ehem. Robert-Koch-Schule, Hofstr. 2, EG rechts, Hofstraße 2, 65191 Wiesbaden
END:VEVENT
BEGIN:VEVENT
DTSTAMP:20260422T203042
DTSTART;TZID=Europe/Berlin:20260625T104500
DTEND;TZID=Europe/Berlin:20260625T121500
UID:261-23103-20260625T104500@VBWBIERSTADT E.V.
SUMMARY:Italienisch A1.4 (261-23103) 
LOCATION:ehem. Robert-Koch-Schule, Hofstr. 2, EG rechts, Hofstraße 2, 65191 Wiesbaden
END:VEVENT
END:VCALENDAR