BEGIN:VCALENDAR
VERSION:2.0
PRODID:https://www.kufer.de/kuferweb / DE
METHOD:PUBLISH
CALSCALE:GREGORIAN
X-WR-TIMEZONE:Europe/Berlin
BEGIN:VTIMEZONE
TZID:Europe/Berlin
X-LIC-LOCATION:Europe/Berlin
BEGIN:DAYLIGHT
TZOFFSETFROM:+0100
TZOFFSETTO:+0200
TZNAME:CEST
DTSTART:19700329T020000
RRULE:FREQ=YEARLY;INTERVAL=1;BYDAY=-1SU;BYMONTH=3
END:DAYLIGHT
BEGIN:STANDARD
TZOFFSETFROM:+0200
TZOFFSETTO:+0100
TZNAME:CET
DTSTART:19701025T030000
RRULE:FREQ=YEARLY;INTERVAL=1;BYDAY=-1SU;BYMONTH=10
END:STANDARD
END:VTIMEZONE
BEGIN:VEVENT
DTSTAMP:20260422T202936
DTSTART;TZID=Europe/Berlin:20260127T180000
DTEND;TZID=Europe/Berlin:20260127T193000
UID:261-23106-20260127T180000@VBWBIERSTADT E.V.
SUMMARY:Italienisch A2 (261-23106) 
LOCATION:Theodor-Fliedner-Schule, Gebäude B Raum 002, Biegerstraße 15, 65191 Wiesbaden
END:VEVENT
BEGIN:VEVENT
DTSTAMP:20260422T202936
DTSTART;TZID=Europe/Berlin:20260203T180000
DTEND;TZID=Europe/Berlin:20260203T193000
UID:261-23106-20260203T180000@VBWBIERSTADT E.V.
DESCRIPTION:Kurs hat trotz Schnee stattgefunden
SUMMARY:Italienisch A2 (261-23106) 
LOCATION:Theodor-Fliedner-Schule, Gebäude B Raum 002, Biegerstraße 15, 65191 Wiesbaden
END:VEVENT
BEGIN:VEVENT
DTSTAMP:20260422T202936
DTSTART;TZID=Europe/Berlin:20260210T180000
DTEND;TZID=Europe/Berlin:20260210T193000
UID:261-23106-20260210T180000@VBWBIERSTADT E.V.
SUMMARY:Italienisch A2 (261-23106) 
LOCATION:Theodor-Fliedner-Schule, Gebäude B Raum 002, Biegerstraße 15, 65191 Wiesbaden
END:VEVENT
BEGIN:VEVENT
DTSTAMP:20260422T202936
DTSTART;TZID=Europe/Berlin:20260303T180000
DTEND;TZID=Europe/Berlin:20260303T193000
UID:261-23106-20260303T180000@VBWBIERSTADT E.V.
SUMMARY:Italienisch A2 (261-23106) 
LOCATION:Theodor-Fliedner-Schule, Gebäude B Raum 002, Biegerstraße 15, 65191 Wiesbaden
END:VEVENT
BEGIN:VEVENT
DTSTAMP:20260422T202936
DTSTART;TZID=Europe/Berlin:20260317T180000
DTEND;TZID=Europe/Berlin:20260317T193000
UID:261-23106-20260317T180000@VBWBIERSTADT E.V.
SUMMARY:Italienisch A2 (261-23106) 
LOCATION:Theodor-Fliedner-Schule, Gebäude B Raum 002, Biegerstraße 15, 65191 Wiesbaden
END:VEVENT
BEGIN:VEVENT
DTSTAMP:20260422T202936
DTSTART;TZID=Europe/Berlin:20260324T180000
DTEND;TZID=Europe/Berlin:20260324T193000
UID:261-23106-20260324T180000@VBWBIERSTADT E.V.
SUMMARY:Italienisch A2 (261-23106) 
LOCATION:Theodor-Fliedner-Schule, Gebäude B Raum 002, Biegerstraße 15, 65191 Wiesbaden
END:VEVENT
BEGIN:VEVENT
DTSTAMP:20260422T202936
DTSTART;TZID=Europe/Berlin:20260414T180000
DTEND;TZID=Europe/Berlin:20260414T193000
UID:261-23106-20260414T180000@VBWBIERSTADT E.V.
SUMMARY:Italienisch A2 (261-23106) 
LOCATION:Theodor-Fliedner-Schule, Gebäude B Raum 002, Biegerstraße 15, 65191 Wiesbaden
END:VEVENT
BEGIN:VEVENT
DTSTAMP:20260422T202936
DTSTART;TZID=Europe/Berlin:20260421T180000
DTEND;TZID=Europe/Berlin:20260421T193000
UID:261-23106-20260421T180000@VBWBIERSTADT E.V.
SUMMARY:Italienisch A2 (261-23106) 
LOCATION:Theodor-Fliedner-Schule, Gebäude B Raum 002, Biegerstraße 15, 65191 Wiesbaden
END:VEVENT
BEGIN:VEVENT
DTSTAMP:20260422T202936
DTSTART;TZID=Europe/Berlin:20260428T180000
DTEND;TZID=Europe/Berlin:20260428T193000
UID:261-23106-20260428T180000@VBWBIERSTADT E.V.
SUMMARY:Italienisch A2 (261-23106) 
LOCATION:Theodor-Fliedner-Schule, Gebäude B Raum 002, Biegerstraße 15, 65191 Wiesbaden
END:VEVENT
BEGIN:VEVENT
DTSTAMP:20260422T202936
DTSTART;TZID=Europe/Berlin:20260505T180000
DTEND;TZID=Europe/Berlin:20260505T193000
UID:261-23106-20260505T180000@VBWBIERSTADT E.V.
SUMMARY:Italienisch A2 (261-23106) 
LOCATION:Theodor-Fliedner-Schule, Gebäude B Raum 002, Biegerstraße 15, 65191 Wiesbaden
END:VEVENT
BEGIN:VEVENT
DTSTAMP:20260422T202936
DTSTART;TZID=Europe/Berlin:20260512T180000
DTEND;TZID=Europe/Berlin:20260512T193000
UID:261-23106-20260512T180000@VBWBIERSTADT E.V.
SUMMARY:Italienisch A2 (261-23106) 
LOCATION:Theodor-Fliedner-Schule, Gebäude B Raum 002, Biegerstraße 15, 65191 Wiesbaden
END:VEVENT
BEGIN:VEVENT
DTSTAMP:20260422T202936
DTSTART;TZID=Europe/Berlin:20260519T180000
DTEND;TZID=Europe/Berlin:20260519T193000
UID:261-23106-20260519T180000@VBWBIERSTADT E.V.
SUMMARY:Italienisch A2 (261-23106) 
LOCATION:Theodor-Fliedner-Schule, Gebäude B Raum 002, Biegerstraße 15, 65191 Wiesbaden
END:VEVENT
BEGIN:VEVENT
DTSTAMP:20260422T202936
DTSTART;TZID=Europe/Berlin:20260526T180000
DTEND;TZID=Europe/Berlin:20260526T193000
UID:261-23106-20260526T180000@VBWBIERSTADT E.V.
SUMMARY:Italienisch A2 (261-23106) 
LOCATION:Theodor-Fliedner-Schule, Gebäude B Raum 002, Biegerstraße 15, 65191 Wiesbaden
END:VEVENT
BEGIN:VEVENT
DTSTAMP:20260422T202936
DTSTART;TZID=Europe/Berlin:20260602T180000
DTEND;TZID=Europe/Berlin:20260602T193000
UID:261-23106-20260602T180000@VBWBIERSTADT E.V.
DESCRIPTION:Ersatz für 24.2
SUMMARY:Italienisch A2 (261-23106) 
LOCATION:Theodor-Fliedner-Schule, Gebäude B Raum 002, Biegerstraße 15, 65191 Wiesbaden
END:VEVENT
BEGIN:VEVENT
DTSTAMP:20260422T202936
DTSTART;TZID=Europe/Berlin:20260609T180000
DTEND;TZID=Europe/Berlin:20260609T193000
UID:261-23106-20260609T180000@VBWBIERSTADT E.V.
DESCRIPTION:f.10.03.
SUMMARY:Italienisch A2 (261-23106) 
LOCATION:Theodor-Fliedner-Schule, Gebäude B Raum 002, Biegerstraße 15, 65191 Wiesbaden
END:VEVENT
END:VCALENDAR