BEGIN:VCALENDAR
VERSION:2.0
PRODID:https://www.kufer.de/kuferweb / DE
METHOD:PUBLISH
CALSCALE:GREGORIAN
X-WR-TIMEZONE:Europe/Berlin
BEGIN:VTIMEZONE
TZID:Europe/Berlin
X-LIC-LOCATION:Europe/Berlin
BEGIN:DAYLIGHT
TZOFFSETFROM:+0100
TZOFFSETTO:+0200
TZNAME:CEST
DTSTART:19700329T020000
RRULE:FREQ=YEARLY;INTERVAL=1;BYDAY=-1SU;BYMONTH=3
END:DAYLIGHT
BEGIN:STANDARD
TZOFFSETFROM:+0200
TZOFFSETTO:+0100
TZNAME:CET
DTSTART:19701025T030000
RRULE:FREQ=YEARLY;INTERVAL=1;BYDAY=-1SU;BYMONTH=10
END:STANDARD
END:VTIMEZONE
BEGIN:VEVENT
DTSTAMP:20260422T202835
DTSTART;TZID=Europe/Berlin:20260129T123000
DTEND;TZID=Europe/Berlin:20260129T140000
UID:261-23108-20260129T123000@VBWBIERSTADT E.V.
SUMMARY:Italienisch Aufbaukurs A2 (261-23108) 
LOCATION:ehem. Robert-Koch-Schule, Hofstr. 2, EG rechts, Hofstraße 2, 65191 Wiesbaden
END:VEVENT
BEGIN:VEVENT
DTSTAMP:20260422T202835
DTSTART;TZID=Europe/Berlin:20260205T123000
DTEND;TZID=Europe/Berlin:20260205T140000
UID:261-23108-20260205T123000@VBWBIERSTADT E.V.
SUMMARY:Italienisch Aufbaukurs A2 (261-23108) 
LOCATION:ehem. Robert-Koch-Schule, Hofstr. 2, EG rechts, Hofstraße 2, 65191 Wiesbaden
END:VEVENT
BEGIN:VEVENT
DTSTAMP:20260422T202835
DTSTART;TZID=Europe/Berlin:20260212T123000
DTEND;TZID=Europe/Berlin:20260212T140000
UID:261-23108-20260212T123000@VBWBIERSTADT E.V.
SUMMARY:Italienisch Aufbaukurs A2 (261-23108) 
LOCATION:ehem. Robert-Koch-Schule, Hofstr. 2, EG rechts, Hofstraße 2, 65191 Wiesbaden
END:VEVENT
BEGIN:VEVENT
DTSTAMP:20260422T202835
DTSTART;TZID=Europe/Berlin:20260226T123000
DTEND;TZID=Europe/Berlin:20260226T140000
UID:261-23108-20260226T123000@VBWBIERSTADT E.V.
SUMMARY:Italienisch Aufbaukurs A2 (261-23108) 
LOCATION:ehem. Robert-Koch-Schule, Hofstr. 2, EG rechts, Hofstraße 2, 65191 Wiesbaden
END:VEVENT
BEGIN:VEVENT
DTSTAMP:20260422T202835
DTSTART;TZID=Europe/Berlin:20260305T123000
DTEND;TZID=Europe/Berlin:20260305T140000
UID:261-23108-20260305T123000@VBWBIERSTADT E.V.
SUMMARY:Italienisch Aufbaukurs A2 (261-23108) 
LOCATION:ehem. Robert-Koch-Schule, Hofstr. 2, EG rechts, Hofstraße 2, 65191 Wiesbaden
END:VEVENT
BEGIN:VEVENT
DTSTAMP:20260422T202835
DTSTART;TZID=Europe/Berlin:20260312T123000
DTEND;TZID=Europe/Berlin:20260312T140000
UID:261-23108-20260312T123000@VBWBIERSTADT E.V.
SUMMARY:Italienisch Aufbaukurs A2 (261-23108) 
LOCATION:ehem. Robert-Koch-Schule, Hofstr. 2, EG rechts, Hofstraße 2, 65191 Wiesbaden
END:VEVENT
BEGIN:VEVENT
DTSTAMP:20260422T202835
DTSTART;TZID=Europe/Berlin:20260319T123000
DTEND;TZID=Europe/Berlin:20260319T140000
UID:261-23108-20260319T123000@VBWBIERSTADT E.V.
SUMMARY:Italienisch Aufbaukurs A2 (261-23108) 
LOCATION:ehem. Robert-Koch-Schule, Hofstr. 2, EG rechts, Hofstraße 2, 65191 Wiesbaden
END:VEVENT
BEGIN:VEVENT
DTSTAMP:20260422T202835
DTSTART;TZID=Europe/Berlin:20260326T123000
DTEND;TZID=Europe/Berlin:20260326T140000
UID:261-23108-20260326T123000@VBWBIERSTADT E.V.
SUMMARY:Italienisch Aufbaukurs A2 (261-23108) 
LOCATION:ehem. Robert-Koch-Schule, Hofstr. 2, EG rechts, Hofstraße 2, 65191 Wiesbaden
END:VEVENT
BEGIN:VEVENT
DTSTAMP:20260422T202835
DTSTART;TZID=Europe/Berlin:20260416T123000
DTEND;TZID=Europe/Berlin:20260416T140000
UID:261-23108-20260416T123000@VBWBIERSTADT E.V.
SUMMARY:Italienisch Aufbaukurs A2 (261-23108) 
LOCATION:ehem. Robert-Koch-Schule, Hofstr. 2, EG rechts, Hofstraße 2, 65191 Wiesbaden
END:VEVENT
BEGIN:VEVENT
DTSTAMP:20260422T202835
DTSTART;TZID=Europe/Berlin:20260423T123000
DTEND;TZID=Europe/Berlin:20260423T140000
UID:261-23108-20260423T123000@VBWBIERSTADT E.V.
SUMMARY:Italienisch Aufbaukurs A2 (261-23108) 
LOCATION:ehem. Robert-Koch-Schule, Hofstr. 2, EG rechts, Hofstraße 2, 65191 Wiesbaden
END:VEVENT
BEGIN:VEVENT
DTSTAMP:20260422T202835
DTSTART;TZID=Europe/Berlin:20260430T123000
DTEND;TZID=Europe/Berlin:20260430T140000
UID:261-23108-20260430T123000@VBWBIERSTADT E.V.
SUMMARY:Italienisch Aufbaukurs A2 (261-23108) 
LOCATION:ehem. Robert-Koch-Schule, Hofstr. 2, EG rechts, Hofstraße 2, 65191 Wiesbaden
END:VEVENT
BEGIN:VEVENT
DTSTAMP:20260422T202835
DTSTART;TZID=Europe/Berlin:20260507T123000
DTEND;TZID=Europe/Berlin:20260507T140000
UID:261-23108-20260507T123000@VBWBIERSTADT E.V.
SUMMARY:Italienisch Aufbaukurs A2 (261-23108) 
LOCATION:ehem. Robert-Koch-Schule, Hofstr. 2, EG rechts, Hofstraße 2, 65191 Wiesbaden
END:VEVENT
BEGIN:VEVENT
DTSTAMP:20260422T202835
DTSTART;TZID=Europe/Berlin:20260521T123000
DTEND;TZID=Europe/Berlin:20260521T140000
UID:261-23108-20260521T123000@VBWBIERSTADT E.V.
SUMMARY:Italienisch Aufbaukurs A2 (261-23108) 
LOCATION:ehem. Robert-Koch-Schule, Hofstr. 2, EG rechts, Hofstraße 2, 65191 Wiesbaden
END:VEVENT
BEGIN:VEVENT
DTSTAMP:20260422T202835
DTSTART;TZID=Europe/Berlin:20260528T123000
DTEND;TZID=Europe/Berlin:20260528T140000
UID:261-23108-20260528T123000@VBWBIERSTADT E.V.
SUMMARY:Italienisch Aufbaukurs A2 (261-23108) 
LOCATION:ehem. Robert-Koch-Schule, Hofstr. 2, EG rechts, Hofstraße 2, 65191 Wiesbaden
END:VEVENT
BEGIN:VEVENT
DTSTAMP:20260422T202835
DTSTART;TZID=Europe/Berlin:20260611T123000
DTEND;TZID=Europe/Berlin:20260611T140000
UID:261-23108-20260611T123000@VBWBIERSTADT E.V.
DESCRIPTION:Ersatz für 19.2
SUMMARY:Italienisch Aufbaukurs A2 (261-23108) 
LOCATION:ehem. Robert-Koch-Schule, Hofstr. 2, EG rechts, Hofstraße 2, 65191 Wiesbaden
END:VEVENT
END:VCALENDAR