BEGIN:VCALENDAR
VERSION:2.0
PRODID:https://www.kufer.de/kuferweb / DE
METHOD:PUBLISH
CALSCALE:GREGORIAN
X-WR-TIMEZONE:Europe/Berlin
BEGIN:VTIMEZONE
TZID:Europe/Berlin
X-LIC-LOCATION:Europe/Berlin
BEGIN:DAYLIGHT
TZOFFSETFROM:+0100
TZOFFSETTO:+0200
TZNAME:CEST
DTSTART:19700329T020000
RRULE:FREQ=YEARLY;INTERVAL=1;BYDAY=-1SU;BYMONTH=3
END:DAYLIGHT
BEGIN:STANDARD
TZOFFSETFROM:+0200
TZOFFSETTO:+0100
TZNAME:CET
DTSTART:19701025T030000
RRULE:FREQ=YEARLY;INTERVAL=1;BYDAY=-1SU;BYMONTH=10
END:STANDARD
END:VTIMEZONE
BEGIN:VEVENT
DTSTAMP:20260424T161937
DTSTART;TZID=Europe/Berlin:20260122T173000
DTEND;TZID=Europe/Berlin:20260122T190000
UID:261-23113-20260122T173000@VBWBIERSTADT E.V.
SUMMARY:Italienisch A2.2 (261-23113) 
LOCATION:ehem. Robert-Koch-Schule, Hofstr. 2, EG rechts, Hofstraße 2, 65191 Wiesbaden
END:VEVENT
BEGIN:VEVENT
DTSTAMP:20260424T161937
DTSTART;TZID=Europe/Berlin:20260129T173000
DTEND;TZID=Europe/Berlin:20260129T190000
UID:261-23113-20260129T173000@VBWBIERSTADT E.V.
SUMMARY:Italienisch A2.2 (261-23113) 
LOCATION:ehem. Robert-Koch-Schule, Hofstr. 2, EG rechts, Hofstraße 2, 65191 Wiesbaden
END:VEVENT
BEGIN:VEVENT
DTSTAMP:20260424T161937
DTSTART;TZID=Europe/Berlin:20260205T173000
DTEND;TZID=Europe/Berlin:20260205T190000
UID:261-23113-20260205T173000@VBWBIERSTADT E.V.
SUMMARY:Italienisch A2.2 (261-23113) 
LOCATION:ehem. Robert-Koch-Schule, Hofstr. 2, EG rechts, Hofstraße 2, 65191 Wiesbaden
END:VEVENT
BEGIN:VEVENT
DTSTAMP:20260424T161937
DTSTART;TZID=Europe/Berlin:20260212T173000
DTEND;TZID=Europe/Berlin:20260212T190000
UID:261-23113-20260212T173000@VBWBIERSTADT E.V.
SUMMARY:Italienisch A2.2 (261-23113) 
LOCATION:ehem. Robert-Koch-Schule, Hofstr. 2, EG rechts, Hofstraße 2, 65191 Wiesbaden
END:VEVENT
BEGIN:VEVENT
DTSTAMP:20260424T161937
DTSTART;TZID=Europe/Berlin:20260226T173000
DTEND;TZID=Europe/Berlin:20260226T190000
UID:261-23113-20260226T173000@VBWBIERSTADT E.V.
SUMMARY:Italienisch A2.2 (261-23113) 
LOCATION:ehem. Robert-Koch-Schule, Venatorstr. 10, EG rechts, Venatorstraße 10, 65191 Wiesbaden
END:VEVENT
BEGIN:VEVENT
DTSTAMP:20260424T161937
DTSTART;TZID=Europe/Berlin:20260305T173000
DTEND;TZID=Europe/Berlin:20260305T190000
UID:261-23113-20260305T173000@VBWBIERSTADT E.V.
SUMMARY:Italienisch A2.2 (261-23113) 
LOCATION:ehem. Robert-Koch-Schule, Hofstr. 2, EG rechts, Hofstraße 2, 65191 Wiesbaden
END:VEVENT
BEGIN:VEVENT
DTSTAMP:20260424T161937
DTSTART;TZID=Europe/Berlin:20260319T173000
DTEND;TZID=Europe/Berlin:20260319T190000
UID:261-23113-20260319T173000@VBWBIERSTADT E.V.
SUMMARY:Italienisch A2.2 (261-23113) 
LOCATION:ehem. Robert-Koch-Schule, Hofstr. 2, EG rechts, Hofstraße 2, 65191 Wiesbaden
END:VEVENT
BEGIN:VEVENT
DTSTAMP:20260424T161937
DTSTART;TZID=Europe/Berlin:20260326T173000
DTEND;TZID=Europe/Berlin:20260326T190000
UID:261-23113-20260326T173000@VBWBIERSTADT E.V.
SUMMARY:Italienisch A2.2 (261-23113) 
LOCATION:ehem. Robert-Koch-Schule, Hofstr. 2, EG rechts, Hofstraße 2, 65191 Wiesbaden
END:VEVENT
BEGIN:VEVENT
DTSTAMP:20260424T161937
DTSTART;TZID=Europe/Berlin:20260423T173000
DTEND;TZID=Europe/Berlin:20260423T190000
UID:261-23113-20260423T173000@VBWBIERSTADT E.V.
SUMMARY:Italienisch A2.2 (261-23113) 
LOCATION:ehem. Robert-Koch-Schule, Hofstr. 2, EG rechts, Hofstraße 2, 65191 Wiesbaden
END:VEVENT
BEGIN:VEVENT
DTSTAMP:20260424T161937
DTSTART;TZID=Europe/Berlin:20260430T173000
DTEND;TZID=Europe/Berlin:20260430T190000
UID:261-23113-20260430T173000@VBWBIERSTADT E.V.
SUMMARY:Italienisch A2.2 (261-23113) 
LOCATION:ehem. Robert-Koch-Schule, Hofstr. 2, EG rechts, Hofstraße 2, 65191 Wiesbaden
END:VEVENT
BEGIN:VEVENT
DTSTAMP:20260424T161937
DTSTART;TZID=Europe/Berlin:20260507T173000
DTEND;TZID=Europe/Berlin:20260507T190000
UID:261-23113-20260507T173000@VBWBIERSTADT E.V.
SUMMARY:Italienisch A2.2 (261-23113) 
LOCATION:ehem. Robert-Koch-Schule, Hofstr. 2, EG rechts, Hofstraße 2, 65191 Wiesbaden
END:VEVENT
BEGIN:VEVENT
DTSTAMP:20260424T161937
DTSTART;TZID=Europe/Berlin:20260521T173000
DTEND;TZID=Europe/Berlin:20260521T190000
UID:261-23113-20260521T173000@VBWBIERSTADT E.V.
SUMMARY:Italienisch A2.2 (261-23113) 
LOCATION:ehem. Robert-Koch-Schule, Hofstr. 2, EG rechts, Hofstraße 2, 65191 Wiesbaden
END:VEVENT
BEGIN:VEVENT
DTSTAMP:20260424T161937
DTSTART;TZID=Europe/Berlin:20260528T173000
DTEND;TZID=Europe/Berlin:20260528T190000
UID:261-23113-20260528T173000@VBWBIERSTADT E.V.
SUMMARY:Italienisch A2.2 (261-23113) 
LOCATION:ehem. Robert-Koch-Schule, Hofstr. 2, EG rechts, Hofstraße 2, 65191 Wiesbaden
END:VEVENT
BEGIN:VEVENT
DTSTAMP:20260424T161937
DTSTART;TZID=Europe/Berlin:20260611T173000
DTEND;TZID=Europe/Berlin:20260611T190000
UID:261-23113-20260611T173000@VBWBIERSTADT E.V.
DESCRIPTION:Ersatz für 19.02
SUMMARY:Italienisch A2.2 (261-23113) 
LOCATION:ehem. Robert-Koch-Schule, Venatorstr. 10, EG rechts, Venatorstraße 10, 65191 Wiesbaden
END:VEVENT
BEGIN:VEVENT
DTSTAMP:20260424T161937
DTSTART;TZID=Europe/Berlin:20260618T173000
DTEND;TZID=Europe/Berlin:20260618T190000
UID:261-23113-20260618T173000@VBWBIERSTADT E.V.
DESCRIPTION:Ersatz für 12.03
SUMMARY:Italienisch A2.2 (261-23113) 
LOCATION:ehem. Robert-Koch-Schule, Hofstr. 2, EG rechts, Hofstraße 2, 65191 Wiesbaden
END:VEVENT
END:VCALENDAR