BEGIN:VCALENDAR
VERSION:2.0
PRODID:https://www.kufer.de/kuferweb / DE
METHOD:PUBLISH
CALSCALE:GREGORIAN
X-WR-TIMEZONE:Europe/Berlin
BEGIN:VTIMEZONE
TZID:Europe/Berlin
X-LIC-LOCATION:Europe/Berlin
BEGIN:DAYLIGHT
TZOFFSETFROM:+0100
TZOFFSETTO:+0200
TZNAME:CEST
DTSTART:19700329T020000
RRULE:FREQ=YEARLY;INTERVAL=1;BYDAY=-1SU;BYMONTH=3
END:DAYLIGHT
BEGIN:STANDARD
TZOFFSETFROM:+0200
TZOFFSETTO:+0100
TZNAME:CET
DTSTART:19701025T030000
RRULE:FREQ=YEARLY;INTERVAL=1;BYDAY=-1SU;BYMONTH=10
END:STANDARD
END:VTIMEZONE
BEGIN:VEVENT
DTSTAMP:20260424T102755
DTSTART;TZID=Europe/Berlin:20260119T111500
DTEND;TZID=Europe/Berlin:20260119T124500
UID:261-23412-20260119T111500@VBWBIERSTADT E.V.
SUMMARY:Italienisch B2 Konversationskurs (261-23412) 
LOCATION:ehem. Robert-Koch-Schule, Hofstr. 2, EG rechts, Hofstraße 2, 65191 Wiesbaden
END:VEVENT
BEGIN:VEVENT
DTSTAMP:20260424T102755
DTSTART;TZID=Europe/Berlin:20260126T111500
DTEND;TZID=Europe/Berlin:20260126T124500
UID:261-23412-20260126T111500@VBWBIERSTADT E.V.
SUMMARY:Italienisch B2 Konversationskurs (261-23412) 
LOCATION:ehem. Robert-Koch-Schule, Hofstr. 2, EG rechts, Hofstraße 2, 65191 Wiesbaden
END:VEVENT
BEGIN:VEVENT
DTSTAMP:20260424T102755
DTSTART;TZID=Europe/Berlin:20260209T111500
DTEND;TZID=Europe/Berlin:20260209T124500
UID:261-23412-20260209T111500@VBWBIERSTADT E.V.
SUMMARY:Italienisch B2 Konversationskurs (261-23412) 
LOCATION:ehem. Robert-Koch-Schule, Hofstr. 2, EG rechts, Hofstraße 2, 65191 Wiesbaden
END:VEVENT
BEGIN:VEVENT
DTSTAMP:20260424T102755
DTSTART;TZID=Europe/Berlin:20260223T111500
DTEND;TZID=Europe/Berlin:20260223T124500
UID:261-23412-20260223T111500@VBWBIERSTADT E.V.
SUMMARY:Italienisch B2 Konversationskurs (261-23412) 
LOCATION:ehem. Robert-Koch-Schule, Hofstr. 2, EG rechts, Hofstraße 2, 65191 Wiesbaden
END:VEVENT
BEGIN:VEVENT
DTSTAMP:20260424T102755
DTSTART;TZID=Europe/Berlin:20260302T111500
DTEND;TZID=Europe/Berlin:20260302T124500
UID:261-23412-20260302T111500@VBWBIERSTADT E.V.
SUMMARY:Italienisch B2 Konversationskurs (261-23412) 
LOCATION:ehem. Robert-Koch-Schule, Hofstr. 2, EG rechts, Hofstraße 2, 65191 Wiesbaden
END:VEVENT
BEGIN:VEVENT
DTSTAMP:20260424T102755
DTSTART;TZID=Europe/Berlin:20260316T111500
DTEND;TZID=Europe/Berlin:20260316T124500
UID:261-23412-20260316T111500@VBWBIERSTADT E.V.
SUMMARY:Italienisch B2 Konversationskurs (261-23412) 
LOCATION:ehem. Robert-Koch-Schule, Hofstr. 2, EG rechts, Hofstraße 2, 65191 Wiesbaden
END:VEVENT
BEGIN:VEVENT
DTSTAMP:20260424T102755
DTSTART;TZID=Europe/Berlin:20260323T111500
DTEND;TZID=Europe/Berlin:20260323T124500
UID:261-23412-20260323T111500@VBWBIERSTADT E.V.
SUMMARY:Italienisch B2 Konversationskurs (261-23412) 
LOCATION:ehem. Robert-Koch-Schule, Hofstr. 2, EG rechts, Hofstraße 2, 65191 Wiesbaden
END:VEVENT
BEGIN:VEVENT
DTSTAMP:20260424T102755
DTSTART;TZID=Europe/Berlin:20260420T111500
DTEND;TZID=Europe/Berlin:20260420T124500
UID:261-23412-20260420T111500@VBWBIERSTADT E.V.
SUMMARY:Italienisch B2 Konversationskurs (261-23412) 
LOCATION:ehem. Robert-Koch-Schule, Hofstr. 2, EG rechts, Hofstraße 2, 65191 Wiesbaden
END:VEVENT
BEGIN:VEVENT
DTSTAMP:20260424T102755
DTSTART;TZID=Europe/Berlin:20260427T111500
DTEND;TZID=Europe/Berlin:20260427T124500
UID:261-23412-20260427T111500@VBWBIERSTADT E.V.
SUMMARY:Italienisch B2 Konversationskurs (261-23412) 
LOCATION:ehem. Robert-Koch-Schule, Hofstr. 2, EG rechts, Hofstraße 2, 65191 Wiesbaden
END:VEVENT
BEGIN:VEVENT
DTSTAMP:20260424T102755
DTSTART;TZID=Europe/Berlin:20260504T111500
DTEND;TZID=Europe/Berlin:20260504T124500
UID:261-23412-20260504T111500@VBWBIERSTADT E.V.
SUMMARY:Italienisch B2 Konversationskurs (261-23412) 
LOCATION:ehem. Robert-Koch-Schule, Hofstr. 2, EG rechts, Hofstraße 2, 65191 Wiesbaden
END:VEVENT
BEGIN:VEVENT
DTSTAMP:20260424T102755
DTSTART;TZID=Europe/Berlin:20260511T111500
DTEND;TZID=Europe/Berlin:20260511T124500
UID:261-23412-20260511T111500@VBWBIERSTADT E.V.
SUMMARY:Italienisch B2 Konversationskurs (261-23412) 
LOCATION:ehem. Robert-Koch-Schule, Hofstr. 2, EG rechts, Hofstraße 2, 65191 Wiesbaden
END:VEVENT
BEGIN:VEVENT
DTSTAMP:20260424T102755
DTSTART;TZID=Europe/Berlin:20260518T111500
DTEND;TZID=Europe/Berlin:20260518T124500
UID:261-23412-20260518T111500@VBWBIERSTADT E.V.
SUMMARY:Italienisch B2 Konversationskurs (261-23412) 
LOCATION:ehem. Robert-Koch-Schule, Hofstr. 2, EG rechts, Hofstraße 2, 65191 Wiesbaden
END:VEVENT
BEGIN:VEVENT
DTSTAMP:20260424T102755
DTSTART;TZID=Europe/Berlin:20260601T111500
DTEND;TZID=Europe/Berlin:20260601T124500
UID:261-23412-20260601T111500@VBWBIERSTADT E.V.
SUMMARY:Italienisch B2 Konversationskurs (261-23412) 
LOCATION:ehem. Robert-Koch-Schule, Hofstr. 2, EG rechts, Hofstraße 2, 65191 Wiesbaden
END:VEVENT
BEGIN:VEVENT
DTSTAMP:20260424T102755
DTSTART;TZID=Europe/Berlin:20260608T111500
DTEND;TZID=Europe/Berlin:20260608T124500
UID:261-23412-20260608T111500@VBWBIERSTADT E.V.
DESCRIPTION:DZ informiert im Kurs
SUMMARY:Italienisch B2 Konversationskurs (261-23412) 
LOCATION:ehem. Robert-Koch-Schule, Hofstr. 2, EG rechts, Hofstraße 2, 65191 Wiesbaden
END:VEVENT
BEGIN:VEVENT
DTSTAMP:20260424T102755
DTSTART;TZID=Europe/Berlin:20260615T111500
DTEND;TZID=Europe/Berlin:20260615T124500
UID:261-23412-20260615T111500@VBWBIERSTADT E.V.
SUMMARY:Italienisch B2 Konversationskurs (261-23412) 
LOCATION:ehem. Robert-Koch-Schule, Hofstr. 2, EG rechts, Hofstraße 2, 65191 Wiesbaden
END:VEVENT
END:VCALENDAR