BEGIN:VCALENDAR
VERSION:2.0
PRODID:https://www.kufer.de/kuferweb / DE
METHOD:PUBLISH
CALSCALE:GREGORIAN
X-WR-TIMEZONE:Europe/Berlin
BEGIN:VTIMEZONE
TZID:Europe/Berlin
X-LIC-LOCATION:Europe/Berlin
BEGIN:DAYLIGHT
TZOFFSETFROM:+0100
TZOFFSETTO:+0200
TZNAME:CEST
DTSTART:19700329T020000
RRULE:FREQ=YEARLY;INTERVAL=1;BYDAY=-1SU;BYMONTH=3
END:DAYLIGHT
BEGIN:STANDARD
TZOFFSETFROM:+0200
TZOFFSETTO:+0100
TZNAME:CET
DTSTART:19701025T030000
RRULE:FREQ=YEARLY;INTERVAL=1;BYDAY=-1SU;BYMONTH=10
END:STANDARD
END:VTIMEZONE
BEGIN:VEVENT
DTSTAMP:20260422T175508
DTSTART;TZID=Europe/Berlin:20260211T110000
DTEND;TZID=Europe/Berlin:20260211T123000
UID:261-24402-20260211T110000@VBWBIERSTADT E.V.
SUMMARY:Spanisch B1 Konversationskurs (261-24402) 
LOCATION:ehem. Robert-Koch-Schule, Hofstr. 2, EG rechts, Hofstraße 2, 65191 Wiesbaden
END:VEVENT
BEGIN:VEVENT
DTSTAMP:20260422T175508
DTSTART;TZID=Europe/Berlin:20260218T110000
DTEND;TZID=Europe/Berlin:20260218T123000
UID:261-24402-20260218T110000@VBWBIERSTADT E.V.
SUMMARY:Spanisch B1 Konversationskurs (261-24402) 
LOCATION:ehem. Robert-Koch-Schule, Hofstr. 2, EG rechts, Hofstraße 2, 65191 Wiesbaden
END:VEVENT
BEGIN:VEVENT
DTSTAMP:20260422T175508
DTSTART;TZID=Europe/Berlin:20260225T110000
DTEND;TZID=Europe/Berlin:20260225T123000
UID:261-24402-20260225T110000@VBWBIERSTADT E.V.
SUMMARY:Spanisch B1 Konversationskurs (261-24402) 
LOCATION:ehem. Robert-Koch-Schule, Hofstr. 2, EG rechts, Hofstraße 2, 65191 Wiesbaden
END:VEVENT
BEGIN:VEVENT
DTSTAMP:20260422T175508
DTSTART;TZID=Europe/Berlin:20260304T110000
DTEND;TZID=Europe/Berlin:20260304T123000
UID:261-24402-20260304T110000@VBWBIERSTADT E.V.
SUMMARY:Spanisch B1 Konversationskurs (261-24402) 
LOCATION:ehem. Robert-Koch-Schule, Hofstr. 2, EG rechts, Hofstraße 2, 65191 Wiesbaden
END:VEVENT
BEGIN:VEVENT
DTSTAMP:20260422T175508
DTSTART;TZID=Europe/Berlin:20260311T110000
DTEND;TZID=Europe/Berlin:20260311T123000
UID:261-24402-20260311T110000@VBWBIERSTADT E.V.
SUMMARY:Spanisch B1 Konversationskurs (261-24402) 
LOCATION:ehem. Robert-Koch-Schule, Hofstr. 2, EG rechts, Hofstraße 2, 65191 Wiesbaden
END:VEVENT
BEGIN:VEVENT
DTSTAMP:20260422T175508
DTSTART;TZID=Europe/Berlin:20260318T110000
DTEND;TZID=Europe/Berlin:20260318T123000
UID:261-24402-20260318T110000@VBWBIERSTADT E.V.
SUMMARY:Spanisch B1 Konversationskurs (261-24402) 
LOCATION:ehem. Robert-Koch-Schule, Hofstr. 2, EG rechts, Hofstraße 2, 65191 Wiesbaden
END:VEVENT
BEGIN:VEVENT
DTSTAMP:20260422T175508
DTSTART;TZID=Europe/Berlin:20260325T110000
DTEND;TZID=Europe/Berlin:20260325T123000
UID:261-24402-20260325T110000@VBWBIERSTADT E.V.
SUMMARY:Spanisch B1 Konversationskurs (261-24402) 
LOCATION:ehem. Robert-Koch-Schule, Hofstr. 2, EG rechts, Hofstraße 2, 65191 Wiesbaden
END:VEVENT
BEGIN:VEVENT
DTSTAMP:20260422T175508
DTSTART;TZID=Europe/Berlin:20260415T110000
DTEND;TZID=Europe/Berlin:20260415T123000
UID:261-24402-20260415T110000@VBWBIERSTADT E.V.
SUMMARY:Spanisch B1 Konversationskurs (261-24402) 
LOCATION:ehem. Robert-Koch-Schule, Hofstr. 2, EG rechts, Hofstraße 2, 65191 Wiesbaden
END:VEVENT
BEGIN:VEVENT
DTSTAMP:20260422T175508
DTSTART;TZID=Europe/Berlin:20260422T110000
DTEND;TZID=Europe/Berlin:20260422T123000
UID:261-24402-20260422T110000@VBWBIERSTADT E.V.
SUMMARY:Spanisch B1 Konversationskurs (261-24402) 
LOCATION:ehem. Robert-Koch-Schule, Hofstr. 2, EG rechts, Hofstraße 2, 65191 Wiesbaden
END:VEVENT
BEGIN:VEVENT
DTSTAMP:20260422T175508
DTSTART;TZID=Europe/Berlin:20260429T110000
DTEND;TZID=Europe/Berlin:20260429T123000
UID:261-24402-20260429T110000@VBWBIERSTADT E.V.
SUMMARY:Spanisch B1 Konversationskurs (261-24402) 
LOCATION:ehem. Robert-Koch-Schule, Hofstr. 2, EG rechts, Hofstraße 2, 65191 Wiesbaden
END:VEVENT
BEGIN:VEVENT
DTSTAMP:20260422T175508
DTSTART;TZID=Europe/Berlin:20260506T110000
DTEND;TZID=Europe/Berlin:20260506T123000
UID:261-24402-20260506T110000@VBWBIERSTADT E.V.
SUMMARY:Spanisch B1 Konversationskurs (261-24402) 
LOCATION:ehem. Robert-Koch-Schule, Hofstr. 2, EG rechts, Hofstraße 2, 65191 Wiesbaden
END:VEVENT
BEGIN:VEVENT
DTSTAMP:20260422T175508
DTSTART;TZID=Europe/Berlin:20260513T110000
DTEND;TZID=Europe/Berlin:20260513T123000
UID:261-24402-20260513T110000@VBWBIERSTADT E.V.
SUMMARY:Spanisch B1 Konversationskurs (261-24402) 
LOCATION:ehem. Robert-Koch-Schule, Hofstr. 2, EG rechts, Hofstraße 2, 65191 Wiesbaden
END:VEVENT
END:VCALENDAR