BEGIN:VCALENDAR
VERSION:2.0
PRODID:https://www.kufer.de/kuferweb / DE
METHOD:PUBLISH
CALSCALE:GREGORIAN
X-WR-TIMEZONE:Europe/Berlin
BEGIN:VTIMEZONE
TZID:Europe/Berlin
X-LIC-LOCATION:Europe/Berlin
BEGIN:DAYLIGHT
TZOFFSETFROM:+0100
TZOFFSETTO:+0200
TZNAME:CEST
DTSTART:19700329T020000
RRULE:FREQ=YEARLY;INTERVAL=1;BYDAY=-1SU;BYMONTH=3
END:DAYLIGHT
BEGIN:STANDARD
TZOFFSETFROM:+0200
TZOFFSETTO:+0100
TZNAME:CET
DTSTART:19701025T030000
RRULE:FREQ=YEARLY;INTERVAL=1;BYDAY=-1SU;BYMONTH=10
END:STANDARD
END:VTIMEZONE
BEGIN:VEVENT
DTSTAMP:20260422T204716
DTSTART;TZID=Europe/Berlin:20260126T093000
DTEND;TZID=Europe/Berlin:20260126T110000
UID:261-24410-20260126T093000@VBWBIERSTADT E.V.
SUMMARY:Spanisch B1/B2 Konversationskurs (261-24410) 
LOCATION:Gemeinschaftshaus, Sitzungszimmer im Obergeschoss, Biegerstraße 17, 65191 Wiesbaden
END:VEVENT
BEGIN:VEVENT
DTSTAMP:20260422T204716
DTSTART;TZID=Europe/Berlin:20260202T093000
DTEND;TZID=Europe/Berlin:20260202T110000
UID:261-24410-20260202T093000@VBWBIERSTADT E.V.
SUMMARY:Spanisch B1/B2 Konversationskurs (261-24410) 
LOCATION:Gemeinschaftshaus, Sitzungszimmer im Obergeschoss, Biegerstraße 17, 65191 Wiesbaden
END:VEVENT
BEGIN:VEVENT
DTSTAMP:20260422T204716
DTSTART;TZID=Europe/Berlin:20260209T093000
DTEND;TZID=Europe/Berlin:20260209T110000
UID:261-24410-20260209T093000@VBWBIERSTADT E.V.
SUMMARY:Spanisch B1/B2 Konversationskurs (261-24410) 
LOCATION:Gemeinschaftshaus, Sitzungszimmer im Obergeschoss, Biegerstraße 17, 65191 Wiesbaden
END:VEVENT
BEGIN:VEVENT
DTSTAMP:20260422T204716
DTSTART;TZID=Europe/Berlin:20260223T093000
DTEND;TZID=Europe/Berlin:20260223T110000
UID:261-24410-20260223T093000@VBWBIERSTADT E.V.
SUMMARY:Spanisch B1/B2 Konversationskurs (261-24410) 
LOCATION:Gemeinschaftshaus, Sitzungszimmer im Obergeschoss, Biegerstraße 17, 65191 Wiesbaden
END:VEVENT
BEGIN:VEVENT
DTSTAMP:20260422T204716
DTSTART;TZID=Europe/Berlin:20260302T093000
DTEND;TZID=Europe/Berlin:20260302T110000
UID:261-24410-20260302T093000@VBWBIERSTADT E.V.
SUMMARY:Spanisch B1/B2 Konversationskurs (261-24410) 
LOCATION:Gemeinschaftshaus, Sitzungszimmer im Obergeschoss, Biegerstraße 17, 65191 Wiesbaden
END:VEVENT
BEGIN:VEVENT
DTSTAMP:20260422T204716
DTSTART;TZID=Europe/Berlin:20260309T093000
DTEND;TZID=Europe/Berlin:20260309T110000
UID:261-24410-20260309T093000@VBWBIERSTADT E.V.
SUMMARY:Spanisch B1/B2 Konversationskurs (261-24410) 
LOCATION:Gemeinschaftshaus, Sitzungszimmer im Obergeschoss, Biegerstraße 17, 65191 Wiesbaden
END:VEVENT
BEGIN:VEVENT
DTSTAMP:20260422T204716
DTSTART;TZID=Europe/Berlin:20260316T093000
DTEND;TZID=Europe/Berlin:20260316T110000
UID:261-24410-20260316T093000@VBWBIERSTADT E.V.
SUMMARY:Spanisch B1/B2 Konversationskurs (261-24410) 
LOCATION:Gemeinschaftshaus, Sitzungszimmer im Obergeschoss, Biegerstraße 17, 65191 Wiesbaden
END:VEVENT
BEGIN:VEVENT
DTSTAMP:20260422T204716
DTSTART;TZID=Europe/Berlin:20260323T093000
DTEND;TZID=Europe/Berlin:20260323T110000
UID:261-24410-20260323T093000@VBWBIERSTADT E.V.
SUMMARY:Spanisch B1/B2 Konversationskurs (261-24410) 
LOCATION:Gemeinschaftshaus, Sitzungszimmer im Obergeschoss, Biegerstraße 17, 65191 Wiesbaden
END:VEVENT
BEGIN:VEVENT
DTSTAMP:20260422T204716
DTSTART;TZID=Europe/Berlin:20260413T093000
DTEND;TZID=Europe/Berlin:20260413T110000
UID:261-24410-20260413T093000@VBWBIERSTADT E.V.
SUMMARY:Spanisch B1/B2 Konversationskurs (261-24410) 
LOCATION:Gemeinschaftshaus, Sitzungszimmer im Obergeschoss, Biegerstraße 17, 65191 Wiesbaden
END:VEVENT
BEGIN:VEVENT
DTSTAMP:20260422T204716
DTSTART;TZID=Europe/Berlin:20260420T093000
DTEND;TZID=Europe/Berlin:20260420T110000
UID:261-24410-20260420T093000@VBWBIERSTADT E.V.
SUMMARY:Spanisch B1/B2 Konversationskurs (261-24410) 
LOCATION:Gemeinschaftshaus, Sitzungszimmer im Obergeschoss, Biegerstraße 17, 65191 Wiesbaden
END:VEVENT
BEGIN:VEVENT
DTSTAMP:20260422T204716
DTSTART;TZID=Europe/Berlin:20260427T093000
DTEND;TZID=Europe/Berlin:20260427T110000
UID:261-24410-20260427T093000@VBWBIERSTADT E.V.
SUMMARY:Spanisch B1/B2 Konversationskurs (261-24410) 
LOCATION:Gemeinschaftshaus, Sitzungszimmer im Obergeschoss, Biegerstraße 17, 65191 Wiesbaden
END:VEVENT
BEGIN:VEVENT
DTSTAMP:20260422T204716
DTSTART;TZID=Europe/Berlin:20260504T093000
DTEND;TZID=Europe/Berlin:20260504T110000
UID:261-24410-20260504T093000@VBWBIERSTADT E.V.
SUMMARY:Spanisch B1/B2 Konversationskurs (261-24410) 
LOCATION:Gemeinschaftshaus, Sitzungszimmer im Obergeschoss, Biegerstraße 17, 65191 Wiesbaden
END:VEVENT
BEGIN:VEVENT
DTSTAMP:20260422T204716
DTSTART;TZID=Europe/Berlin:20260511T093000
DTEND;TZID=Europe/Berlin:20260511T110000
UID:261-24410-20260511T093000@VBWBIERSTADT E.V.
DESCRIPTION:Kursverlängerung 3x auf Wunsch der TN 
SUMMARY:Spanisch B1/B2 Konversationskurs (261-24410) 
LOCATION:Gemeinschaftshaus, Sitzungszimmer im Obergeschoss, Biegerstraße 17, 65191 Wiesbaden
END:VEVENT
BEGIN:VEVENT
DTSTAMP:20260422T204716
DTSTART;TZID=Europe/Berlin:20260518T093000
DTEND;TZID=Europe/Berlin:20260518T110000
UID:261-24410-20260518T093000@VBWBIERSTADT E.V.
DESCRIPTION:Kursverlängerung 3x auf Wunsch der TN 
SUMMARY:Spanisch B1/B2 Konversationskurs (261-24410) 
LOCATION:Gemeinschaftshaus, Sitzungszimmer im Obergeschoss, Biegerstraße 17, 65191 Wiesbaden
END:VEVENT
BEGIN:VEVENT
DTSTAMP:20260422T204716
DTSTART;TZID=Europe/Berlin:20260601T093000
DTEND;TZID=Europe/Berlin:20260601T110000
UID:261-24410-20260601T093000@VBWBIERSTADT E.V.
DESCRIPTION:Kursverlängerung 3x auf Wunsch der TN
SUMMARY:Spanisch B1/B2 Konversationskurs (261-24410) 
LOCATION:Gemeinschaftshaus, Sitzungszimmer im Obergeschoss, Biegerstraße 17, 65191 Wiesbaden
END:VEVENT
END:VCALENDAR