BEGIN:VCALENDAR
VERSION:2.0
PRODID:https://www.kufer.de/kuferweb / DE
METHOD:PUBLISH
CALSCALE:GREGORIAN
X-WR-TIMEZONE:Europe/Berlin
BEGIN:VTIMEZONE
TZID:Europe/Berlin
X-LIC-LOCATION:Europe/Berlin
BEGIN:DAYLIGHT
TZOFFSETFROM:+0100
TZOFFSETTO:+0200
TZNAME:CEST
DTSTART:19700329T020000
RRULE:FREQ=YEARLY;INTERVAL=1;BYDAY=-1SU;BYMONTH=3
END:DAYLIGHT
BEGIN:STANDARD
TZOFFSETFROM:+0200
TZOFFSETTO:+0100
TZNAME:CET
DTSTART:19701025T030000
RRULE:FREQ=YEARLY;INTERVAL=1;BYDAY=-1SU;BYMONTH=10
END:STANDARD
END:VTIMEZONE
BEGIN:VEVENT
DTSTAMP:20260422T155959
DTSTART;TZID=Europe/Berlin:20260210T193000
DTEND;TZID=Europe/Berlin:20260210T210000
UID:261-24416-20260210T193000@VBWBIERSTADT E.V.
SUMMARY:Spanisch B2 Konversationskurs (261-24416) 
LOCATION:Theodor-Fliedner-Schule, Gebäude B Raum 013, Biegerstraße 15, 65191 Wiesbaden
END:VEVENT
BEGIN:VEVENT
DTSTAMP:20260422T155959
DTSTART;TZID=Europe/Berlin:20260224T193000
DTEND;TZID=Europe/Berlin:20260224T210000
UID:261-24416-20260224T193000@VBWBIERSTADT E.V.
SUMMARY:Spanisch B2 Konversationskurs (261-24416) 
LOCATION:Theodor-Fliedner-Schule, Gebäude B Raum 013, Biegerstraße 15, 65191 Wiesbaden
END:VEVENT
BEGIN:VEVENT
DTSTAMP:20260422T155959
DTSTART;TZID=Europe/Berlin:20260303T193000
DTEND;TZID=Europe/Berlin:20260303T210000
UID:261-24416-20260303T193000@VBWBIERSTADT E.V.
SUMMARY:Spanisch B2 Konversationskurs (261-24416) 
LOCATION:Theodor-Fliedner-Schule, Gebäude B Raum 013, Biegerstraße 15, 65191 Wiesbaden
END:VEVENT
BEGIN:VEVENT
DTSTAMP:20260422T155959
DTSTART;TZID=Europe/Berlin:20260310T193000
DTEND;TZID=Europe/Berlin:20260310T210000
UID:261-24416-20260310T193000@VBWBIERSTADT E.V.
SUMMARY:Spanisch B2 Konversationskurs (261-24416) 
LOCATION:Theodor-Fliedner-Schule, Gebäude B Raum 013, Biegerstraße 15, 65191 Wiesbaden
END:VEVENT
BEGIN:VEVENT
DTSTAMP:20260422T155959
DTSTART;TZID=Europe/Berlin:20260317T193000
DTEND;TZID=Europe/Berlin:20260317T210000
UID:261-24416-20260317T193000@VBWBIERSTADT E.V.
SUMMARY:Spanisch B2 Konversationskurs (261-24416) 
LOCATION:Theodor-Fliedner-Schule, Gebäude B Raum 013, Biegerstraße 15, 65191 Wiesbaden
END:VEVENT
BEGIN:VEVENT
DTSTAMP:20260422T155959
DTSTART;TZID=Europe/Berlin:20260324T193000
DTEND;TZID=Europe/Berlin:20260324T210000
UID:261-24416-20260324T193000@VBWBIERSTADT E.V.
SUMMARY:Spanisch B2 Konversationskurs (261-24416) 
LOCATION:Theodor-Fliedner-Schule, Gebäude B Raum 013, Biegerstraße 15, 65191 Wiesbaden
END:VEVENT
BEGIN:VEVENT
DTSTAMP:20260422T155959
DTSTART;TZID=Europe/Berlin:20260414T193000
DTEND;TZID=Europe/Berlin:20260414T210000
UID:261-24416-20260414T193000@VBWBIERSTADT E.V.
SUMMARY:Spanisch B2 Konversationskurs (261-24416) 
LOCATION:Theodor-Fliedner-Schule, Gebäude B Raum 013, Biegerstraße 15, 65191 Wiesbaden
END:VEVENT
BEGIN:VEVENT
DTSTAMP:20260422T155959
DTSTART;TZID=Europe/Berlin:20260421T193000
DTEND;TZID=Europe/Berlin:20260421T210000
UID:261-24416-20260421T193000@VBWBIERSTADT E.V.
SUMMARY:Spanisch B2 Konversationskurs (261-24416) 
LOCATION:Theodor-Fliedner-Schule, Gebäude B Raum 013, Biegerstraße 15, 65191 Wiesbaden
END:VEVENT
BEGIN:VEVENT
DTSTAMP:20260422T155959
DTSTART;TZID=Europe/Berlin:20260428T193000
DTEND;TZID=Europe/Berlin:20260428T210000
UID:261-24416-20260428T193000@VBWBIERSTADT E.V.
SUMMARY:Spanisch B2 Konversationskurs (261-24416) 
LOCATION:Theodor-Fliedner-Schule, Gebäude B Raum 013, Biegerstraße 15, 65191 Wiesbaden
END:VEVENT
BEGIN:VEVENT
DTSTAMP:20260422T155959
DTSTART;TZID=Europe/Berlin:20260505T193000
DTEND;TZID=Europe/Berlin:20260505T210000
UID:261-24416-20260505T193000@VBWBIERSTADT E.V.
SUMMARY:Spanisch B2 Konversationskurs (261-24416) 
LOCATION:Theodor-Fliedner-Schule, Gebäude B Raum 013, Biegerstraße 15, 65191 Wiesbaden
END:VEVENT
BEGIN:VEVENT
DTSTAMP:20260422T155959
DTSTART;TZID=Europe/Berlin:20260512T193000
DTEND;TZID=Europe/Berlin:20260512T210000
UID:261-24416-20260512T193000@VBWBIERSTADT E.V.
SUMMARY:Spanisch B2 Konversationskurs (261-24416) 
LOCATION:Theodor-Fliedner-Schule, Gebäude B Raum 013, Biegerstraße 15, 65191 Wiesbaden
END:VEVENT
BEGIN:VEVENT
DTSTAMP:20260422T155959
DTSTART;TZID=Europe/Berlin:20260519T193000
DTEND;TZID=Europe/Berlin:20260519T210000
UID:261-24416-20260519T193000@VBWBIERSTADT E.V.
SUMMARY:Spanisch B2 Konversationskurs (261-24416) 
LOCATION:Theodor-Fliedner-Schule, Gebäude B Raum 013, Biegerstraße 15, 65191 Wiesbaden
END:VEVENT
END:VCALENDAR