BEGIN:VCALENDAR
VERSION:2.0
PRODID:https://www.kufer.de/kuferweb / DE
METHOD:PUBLISH
CALSCALE:GREGORIAN
X-WR-TIMEZONE:Europe/Berlin
BEGIN:VTIMEZONE
TZID:Europe/Berlin
X-LIC-LOCATION:Europe/Berlin
BEGIN:DAYLIGHT
TZOFFSETFROM:+0100
TZOFFSETTO:+0200
TZNAME:CEST
DTSTART:19700329T020000
RRULE:FREQ=YEARLY;INTERVAL=1;BYDAY=-1SU;BYMONTH=3
END:DAYLIGHT
BEGIN:STANDARD
TZOFFSETFROM:+0200
TZOFFSETTO:+0100
TZNAME:CET
DTSTART:19701025T030000
RRULE:FREQ=YEARLY;INTERVAL=1;BYDAY=-1SU;BYMONTH=10
END:STANDARD
END:VTIMEZONE
BEGIN:VEVENT
DTSTAMP:20260422T174334
DTSTART;TZID=Europe/Berlin:20260205T180000
DTEND;TZID=Europe/Berlin:20260205T193000
UID:261-24420-20260205T180000@VBWBIERSTADT E.V.
SUMMARY:Spanisch B2 Konversationskurs (261-24420) 
LOCATION:Theodor-Fliedner-Schule, Gebäude B Raum 013, Biegerstraße 15, 65191 Wiesbaden
END:VEVENT
BEGIN:VEVENT
DTSTAMP:20260422T174334
DTSTART;TZID=Europe/Berlin:20260212T180000
DTEND;TZID=Europe/Berlin:20260212T193000
UID:261-24420-20260212T180000@VBWBIERSTADT E.V.
SUMMARY:Spanisch B2 Konversationskurs (261-24420) 
LOCATION:Theodor-Fliedner-Schule, Gebäude B Raum 013, Biegerstraße 15, 65191 Wiesbaden
END:VEVENT
BEGIN:VEVENT
DTSTAMP:20260422T174334
DTSTART;TZID=Europe/Berlin:20260226T180000
DTEND;TZID=Europe/Berlin:20260226T193000
UID:261-24420-20260226T180000@VBWBIERSTADT E.V.
SUMMARY:Spanisch B2 Konversationskurs (261-24420) 
LOCATION:Theodor-Fliedner-Schule, Gebäude B Raum 013, Biegerstraße 15, 65191 Wiesbaden
END:VEVENT
BEGIN:VEVENT
DTSTAMP:20260422T174334
DTSTART;TZID=Europe/Berlin:20260305T180000
DTEND;TZID=Europe/Berlin:20260305T193000
UID:261-24420-20260305T180000@VBWBIERSTADT E.V.
SUMMARY:Spanisch B2 Konversationskurs (261-24420) 
LOCATION:Gemeinschaftshaus, Sitzungszimmer
END:VEVENT
BEGIN:VEVENT
DTSTAMP:20260422T174334
DTSTART;TZID=Europe/Berlin:20260312T180000
DTEND;TZID=Europe/Berlin:20260312T193000
UID:261-24420-20260312T180000@VBWBIERSTADT E.V.
SUMMARY:Spanisch B2 Konversationskurs (261-24420) 
LOCATION:Theodor-Fliedner-Schule, Gebäude B Raum 013, Biegerstraße 15, 65191 Wiesbaden
END:VEVENT
BEGIN:VEVENT
DTSTAMP:20260422T174334
DTSTART;TZID=Europe/Berlin:20260319T180000
DTEND;TZID=Europe/Berlin:20260319T193000
UID:261-24420-20260319T180000@VBWBIERSTADT E.V.
SUMMARY:Spanisch B2 Konversationskurs (261-24420) 
LOCATION:Theodor-Fliedner-Schule, Gebäude B Raum 013, Biegerstraße 15, 65191 Wiesbaden
END:VEVENT
BEGIN:VEVENT
DTSTAMP:20260422T174334
DTSTART;TZID=Europe/Berlin:20260326T180000
DTEND;TZID=Europe/Berlin:20260326T193000
UID:261-24420-20260326T180000@VBWBIERSTADT E.V.
SUMMARY:Spanisch B2 Konversationskurs (261-24420) 
LOCATION:Theodor-Fliedner-Schule, Gebäude B Raum 013, Biegerstraße 15, 65191 Wiesbaden
END:VEVENT
BEGIN:VEVENT
DTSTAMP:20260422T174334
DTSTART;TZID=Europe/Berlin:20260416T180000
DTEND;TZID=Europe/Berlin:20260416T193000
UID:261-24420-20260416T180000@VBWBIERSTADT E.V.
SUMMARY:Spanisch B2 Konversationskurs (261-24420) 
LOCATION:Theodor-Fliedner-Schule, Gebäude B Raum 013, Biegerstraße 15, 65191 Wiesbaden
END:VEVENT
BEGIN:VEVENT
DTSTAMP:20260422T174334
DTSTART;TZID=Europe/Berlin:20260423T180000
DTEND;TZID=Europe/Berlin:20260423T193000
UID:261-24420-20260423T180000@VBWBIERSTADT E.V.
SUMMARY:Spanisch B2 Konversationskurs (261-24420) 
LOCATION:Theodor-Fliedner-Schule, Gebäude B Raum 013, Biegerstraße 15, 65191 Wiesbaden
END:VEVENT
BEGIN:VEVENT
DTSTAMP:20260422T174334
DTSTART;TZID=Europe/Berlin:20260430T180000
DTEND;TZID=Europe/Berlin:20260430T193000
UID:261-24420-20260430T180000@VBWBIERSTADT E.V.
SUMMARY:Spanisch B2 Konversationskurs (261-24420) 
LOCATION:Theodor-Fliedner-Schule, Gebäude B Raum 013, Biegerstraße 15, 65191 Wiesbaden
END:VEVENT
BEGIN:VEVENT
DTSTAMP:20260422T174334
DTSTART;TZID=Europe/Berlin:20260507T180000
DTEND;TZID=Europe/Berlin:20260507T193000
UID:261-24420-20260507T180000@VBWBIERSTADT E.V.
DESCRIPTION:Wegen Weihnacntsmarkt 11.12. in der TFS gibt es den "kostenlosen" Tag 07.05.26. Abzug Honorar im Kurs aus 2025 gemacht, die Gebühr für 261 Kurs bleibt unbverändert, dafür eine Stunde mehr ohne Berechnung.
SUMMARY:Spanisch B2 Konversationskurs (261-24420) 
LOCATION:Theodor-Fliedner-Schule, Gebäude B Raum 013, Biegerstraße 15, 65191 Wiesbaden
END:VEVENT
BEGIN:VEVENT
DTSTAMP:20260422T174334
DTSTART;TZID=Europe/Berlin:20260521T180000
DTEND;TZID=Europe/Berlin:20260521T193000
UID:261-24420-20260521T180000@VBWBIERSTADT E.V.
DESCRIPTION:Ersatz für Ausfall am 19.02.2026
SUMMARY:Spanisch B2 Konversationskurs (261-24420) 
LOCATION:Theodor-Fliedner-Schule, Gebäude B Raum 013, Biegerstraße 15, 65191 Wiesbaden
END:VEVENT
END:VCALENDAR