BEGIN:VCALENDAR
VERSION:2.0
PRODID:https://www.kufer.de/kuferweb / DE
METHOD:PUBLISH
CALSCALE:GREGORIAN
X-WR-TIMEZONE:Europe/Berlin
BEGIN:VTIMEZONE
TZID:Europe/Berlin
X-LIC-LOCATION:Europe/Berlin
BEGIN:DAYLIGHT
TZOFFSETFROM:+0100
TZOFFSETTO:+0200
TZNAME:CEST
DTSTART:19700329T020000
RRULE:FREQ=YEARLY;INTERVAL=1;BYDAY=-1SU;BYMONTH=3
END:DAYLIGHT
BEGIN:STANDARD
TZOFFSETFROM:+0200
TZOFFSETTO:+0100
TZNAME:CET
DTSTART:19701025T030000
RRULE:FREQ=YEARLY;INTERVAL=1;BYDAY=-1SU;BYMONTH=10
END:STANDARD
END:VTIMEZONE
BEGIN:VEVENT
DTSTAMP:20260422T142304
DTSTART;TZID=Europe/Berlin:20260212T183000
DTEND;TZID=Europe/Berlin:20260212T200000
UID:261-25112-20260212T183000@VBWBIERSTADT E.V.
DESCRIPTION:DZ: 3 Teilnehmer von 5 haben für 12.2. abgesagt. Ich mache am 12.2. nur eine  Stunde , dafür am 19.2. zwei Stunden.  Bitte, informieren Sie Frau Gerster ! 
SUMMARY:Japanisch A1.3 (261-25112) 
LOCATION:Theodor-Fliedner-Schule, Gebäude B Raum 003, Biegerstraße 15, 65191 Wiesbaden
END:VEVENT
BEGIN:VEVENT
DTSTAMP:20260422T142304
DTSTART;TZID=Europe/Berlin:20260219T183000
DTEND;TZID=Europe/Berlin:20260219T200000
UID:261-25112-20260219T183000@VBWBIERSTADT E.V.
SUMMARY:Japanisch A1.3 (261-25112) 
LOCATION:Theodor-Fliedner-Schule, Gebäude B Raum 003, Biegerstraße 15, 65191 Wiesbaden
END:VEVENT
BEGIN:VEVENT
DTSTAMP:20260422T142304
DTSTART;TZID=Europe/Berlin:20260226T183000
DTEND;TZID=Europe/Berlin:20260226T200000
UID:261-25112-20260226T183000@VBWBIERSTADT E.V.
SUMMARY:Japanisch A1.3 (261-25112) 
LOCATION:Theodor-Fliedner-Schule, Gebäude B Raum 003, Biegerstraße 15, 65191 Wiesbaden
END:VEVENT
BEGIN:VEVENT
DTSTAMP:20260422T142304
DTSTART;TZID=Europe/Berlin:20260305T183000
DTEND;TZID=Europe/Berlin:20260305T200000
UID:261-25112-20260305T183000@VBWBIERSTADT E.V.
SUMMARY:Japanisch A1.3 (261-25112) 
LOCATION:Theodor-Fliedner-Schule, Gebäude B Raum 003, Biegerstraße 15, 65191 Wiesbaden
END:VEVENT
BEGIN:VEVENT
DTSTAMP:20260422T142304
DTSTART;TZID=Europe/Berlin:20260312T183000
DTEND;TZID=Europe/Berlin:20260312T200000
UID:261-25112-20260312T183000@VBWBIERSTADT E.V.
SUMMARY:Japanisch A1.3 (261-25112) 
LOCATION:Theodor-Fliedner-Schule, Gebäude B Raum 003, Biegerstraße 15, 65191 Wiesbaden
END:VEVENT
BEGIN:VEVENT
DTSTAMP:20260422T142304
DTSTART;TZID=Europe/Berlin:20260319T183000
DTEND;TZID=Europe/Berlin:20260319T200000
UID:261-25112-20260319T183000@VBWBIERSTADT E.V.
SUMMARY:Japanisch A1.3 (261-25112) 
LOCATION:Theodor-Fliedner-Schule, Gebäude B Raum 003, Biegerstraße 15, 65191 Wiesbaden
END:VEVENT
BEGIN:VEVENT
DTSTAMP:20260422T142304
DTSTART;TZID=Europe/Berlin:20260326T183000
DTEND;TZID=Europe/Berlin:20260326T200000
UID:261-25112-20260326T183000@VBWBIERSTADT E.V.
SUMMARY:Japanisch A1.3 (261-25112) 
LOCATION:Theodor-Fliedner-Schule, Gebäude B Raum 003, Biegerstraße 15, 65191 Wiesbaden
END:VEVENT
BEGIN:VEVENT
DTSTAMP:20260422T142304
DTSTART;TZID=Europe/Berlin:20260416T183000
DTEND;TZID=Europe/Berlin:20260416T200000
UID:261-25112-20260416T183000@VBWBIERSTADT E.V.
DESCRIPTION:War ursprünglich nciht geplant, DZ kann aber im April
SUMMARY:Japanisch A1.3 (261-25112) 
LOCATION:Theodor-Fliedner-Schule, Gebäude B Raum 003, Biegerstraße 15, 65191 Wiesbaden
END:VEVENT
BEGIN:VEVENT
DTSTAMP:20260422T142304
DTSTART;TZID=Europe/Berlin:20260423T183000
DTEND;TZID=Europe/Berlin:20260423T200000
UID:261-25112-20260423T183000@VBWBIERSTADT E.V.
SUMMARY:Japanisch A1.3 (261-25112) 
LOCATION:Theodor-Fliedner-Schule, Gebäude B Raum 003, Biegerstraße 15, 65191 Wiesbaden
END:VEVENT
BEGIN:VEVENT
DTSTAMP:20260422T142304
DTSTART;TZID=Europe/Berlin:20260430T183000
DTEND;TZID=Europe/Berlin:20260430T200000
UID:261-25112-20260430T183000@VBWBIERSTADT E.V.
SUMMARY:Japanisch A1.3 (261-25112) 
LOCATION:Theodor-Fliedner-Schule, Gebäude B Raum 003, Biegerstraße 15, 65191 Wiesbaden
END:VEVENT
BEGIN:VEVENT
DTSTAMP:20260422T142304
DTSTART;TZID=Europe/Berlin:20260507T183000
DTEND;TZID=Europe/Berlin:20260507T200000
UID:261-25112-20260507T183000@VBWBIERSTADT E.V.
SUMMARY:Japanisch A1.3 (261-25112) 
LOCATION:Theodor-Fliedner-Schule, Gebäude B Raum 003, Biegerstraße 15, 65191 Wiesbaden
END:VEVENT
BEGIN:VEVENT
DTSTAMP:20260422T142304
DTSTART;TZID=Europe/Berlin:20260521T183000
DTEND;TZID=Europe/Berlin:20260521T200000
UID:261-25112-20260521T183000@VBWBIERSTADT E.V.
SUMMARY:Japanisch A1.3 (261-25112) 
LOCATION:Theodor-Fliedner-Schule, Gebäude B Raum 003, Biegerstraße 15, 65191 Wiesbaden
END:VEVENT
END:VCALENDAR