BEGIN:VCALENDAR
VERSION:2.0
PRODID:https://www.kufer.de/kuferweb / DE
METHOD:PUBLISH
CALSCALE:GREGORIAN
X-WR-TIMEZONE:Europe/Berlin
BEGIN:VTIMEZONE
TZID:Europe/Berlin
X-LIC-LOCATION:Europe/Berlin
BEGIN:DAYLIGHT
TZOFFSETFROM:+0100
TZOFFSETTO:+0200
TZNAME:CEST
DTSTART:19700329T020000
RRULE:FREQ=YEARLY;INTERVAL=1;BYDAY=-1SU;BYMONTH=3
END:DAYLIGHT
BEGIN:STANDARD
TZOFFSETFROM:+0200
TZOFFSETTO:+0100
TZNAME:CET
DTSTART:19701025T030000
RRULE:FREQ=YEARLY;INTERVAL=1;BYDAY=-1SU;BYMONTH=10
END:STANDARD
END:VTIMEZONE
BEGIN:VEVENT
DTSTAMP:20260424T173835
DTSTART;TZID=Europe/Berlin:20260528T100000
DTEND;TZID=Europe/Berlin:20260528T113000
UID:261-30083-20260528T100000@VBWBIERSTADT E.V.
SUMMARY:Erzählcafé "Mein Bierstadt" (261-30083) 
LOCATION:ehem. Robert-Koch-Schule, Venatorstr. 10, EG rechts, Venatorstraße 10, 65191 Wiesbaden
END:VEVENT
END:VCALENDAR