BEGIN:VCALENDAR
VERSION:2.0
PRODID:https://www.kufer.de/kuferweb / DE
METHOD:PUBLISH
CALSCALE:GREGORIAN
X-WR-TIMEZONE:Europe/Berlin
BEGIN:VTIMEZONE
TZID:Europe/Berlin
X-LIC-LOCATION:Europe/Berlin
BEGIN:DAYLIGHT
TZOFFSETFROM:+0100
TZOFFSETTO:+0200
TZNAME:CEST
DTSTART:19700329T020000
RRULE:FREQ=YEARLY;INTERVAL=1;BYDAY=-1SU;BYMONTH=3
END:DAYLIGHT
BEGIN:STANDARD
TZOFFSETFROM:+0200
TZOFFSETTO:+0100
TZNAME:CET
DTSTART:19701025T030000
RRULE:FREQ=YEARLY;INTERVAL=1;BYDAY=-1SU;BYMONTH=10
END:STANDARD
END:VTIMEZONE
BEGIN:VEVENT
DTSTAMP:20260422T204746
DTSTART;TZID=Europe/Berlin:20260428T151500
DTEND;TZID=Europe/Berlin:20260428T161500
UID:261-84031-20260428T151500@VBWBIERSTADT E.V.
SUMMARY:"Mach mal Pause!“ – Entspannung für Kids im Grundschulalter (261-84031) 
LOCATION:ehem. Robert-Koch-Schule, Venatorstr. 10, EG rechts, Venatorstraße 10, 65191 Wiesbaden
END:VEVENT
BEGIN:VEVENT
DTSTAMP:20260422T204746
DTSTART;TZID=Europe/Berlin:20260505T151500
DTEND;TZID=Europe/Berlin:20260505T161500
UID:261-84031-20260505T151500@VBWBIERSTADT E.V.
SUMMARY:"Mach mal Pause!“ – Entspannung für Kids im Grundschulalter (261-84031) 
LOCATION:ehem. Robert-Koch-Schule, Venatorstr. 10, EG rechts, Venatorstraße 10, 65191 Wiesbaden
END:VEVENT
BEGIN:VEVENT
DTSTAMP:20260422T204746
DTSTART;TZID=Europe/Berlin:20260512T151500
DTEND;TZID=Europe/Berlin:20260512T161500
UID:261-84031-20260512T151500@VBWBIERSTADT E.V.
SUMMARY:"Mach mal Pause!“ – Entspannung für Kids im Grundschulalter (261-84031) 
LOCATION:ehem. Robert-Koch-Schule, Venatorstr. 10, EG rechts, Venatorstraße 10, 65191 Wiesbaden
END:VEVENT
BEGIN:VEVENT
DTSTAMP:20260422T204746
DTSTART;TZID=Europe/Berlin:20260519T151500
DTEND;TZID=Europe/Berlin:20260519T161500
UID:261-84031-20260519T151500@VBWBIERSTADT E.V.
SUMMARY:"Mach mal Pause!“ – Entspannung für Kids im Grundschulalter (261-84031) 
LOCATION:ehem. Robert-Koch-Schule, Venatorstr. 10, EG rechts, Venatorstraße 10, 65191 Wiesbaden
END:VEVENT
BEGIN:VEVENT
DTSTAMP:20260422T204746
DTSTART;TZID=Europe/Berlin:20260526T151500
DTEND;TZID=Europe/Berlin:20260526T161500
UID:261-84031-20260526T151500@VBWBIERSTADT E.V.
SUMMARY:"Mach mal Pause!“ – Entspannung für Kids im Grundschulalter (261-84031) 
LOCATION:ehem. Robert-Koch-Schule, Venatorstr. 10, EG rechts, Venatorstraße 10, 65191 Wiesbaden
END:VEVENT
BEGIN:VEVENT
DTSTAMP:20260422T204746
DTSTART;TZID=Europe/Berlin:20260602T151500
DTEND;TZID=Europe/Berlin:20260602T161500
UID:261-84031-20260602T151500@VBWBIERSTADT E.V.
SUMMARY:"Mach mal Pause!“ – Entspannung für Kids im Grundschulalter (261-84031) 
LOCATION:ehem. Robert-Koch-Schule, Venatorstr. 10, EG rechts, Venatorstraße 10, 65191 Wiesbaden
END:VEVENT
BEGIN:VEVENT
DTSTAMP:20260422T204746
DTSTART;TZID=Europe/Berlin:20260609T151500
DTEND;TZID=Europe/Berlin:20260609T161500
UID:261-84031-20260609T151500@VBWBIERSTADT E.V.
SUMMARY:"Mach mal Pause!“ – Entspannung für Kids im Grundschulalter (261-84031) 
LOCATION:ehem. Robert-Koch-Schule, Venatorstr. 10, EG rechts, Venatorstraße 10, 65191 Wiesbaden
END:VEVENT
END:VCALENDAR